Uber Exif Photo
Photometric Interpretation : RGB
Make : SONY
Camera Model Name : SLT-A65V
Orientation : Horizontal (normal)
Software : Adobe Photoshop CC (Macintosh)
Modify Date : 2014:10:16 13:22:47
Exposure Time : 1/4000
F Number : 5.6
Exposure Program : Program AE
ISO : 100
Sensitivity Type : Recommended Exposure Index
Recommended Exposure Index : 100
Date/Time Original : 2012:12:16 15:08:17
Create Date : 2012:12:16 15:08:17
Shutter Speed Value : 1/4000
Aperture Value : 5.6
Brightness Value : 11.81796966
Exposure Compensation : -0.7
Max Aperture Value : 5.6
Metering Mode : Multi-segment
Light Source : Unknown
Flash : Off, Did not fire
Focal Length : 135.0 mm
Color Space : Uncalibrated
Exif Image Width : 4134
Exif Image Height : 5905
Scene Type : Directly photographed
Custom Rendered : Normal
Exposure Mode : Auto
White Balance : Auto
Focal Length In 35mm Format : 202 mm
Scene Capture Type : Standard
Contrast : Normal
Saturation : Normal
Sharpness : Normal
Lens Info : 18-135mm f/3.5-5.6
Lens Model : DT 18-135mm F3.5-5.6 SAM
Parametric Darks : +42
Perspective Scale : 100
Clarity 2012 : +100
Color Noise Reduction : 0
Perspective Upright : Off
Has Crop : True
Red Saturation : 0
Parametric Shadows : -8
Gray Mixer Magenta : +3
Gray Mixer Yellow : -22
Split Toning Shadow Saturation : 0
Lens Manual Distortion Amount : 0
Tone Curve Name : Linear
Luminance Noise Reduction Contrast : 0
Shadows 2012 : -14
Blacks 2012 : -13
Tone Curve Name 2012 : Linear
Luminance Smoothing : 10
Convert To Grayscale : True
Highlights 2012 : +61
Parametric Midtone Split : 50
Perspective Aspect : 0
Shadow Tint : 0
Split Toning Highlight Saturation : 0
Split Toning Shadow Hue : 0
Has Settings : True
Lens Profile Setup : LensDefaults
Gray Mixer Red : -9
Post Crop Vignette Amount : -14
Split Toning Balance : 0
Lens Profile Enable : 0
Vignette Amount : 0
Perspective Rotate : 0.0
Crop Right : 1
Process Version : 6.7
Gray Mixer Blue : +6
Parametric Highlights : +83
Green Saturation : 0
Gray Mixer Orange : -18
Parametric Shadow Split : 25
Sharpen Detail : 65
Green Hue : 0
Perspective Vertical : 0
Blue Saturation : 0
Crop Left : 0.047619
Crop Bottom : 1
Luminance Noise Reduction Detail : 48
Post Crop Vignette Roundness : 0
Perspective Horizontal : 0
Blue Hue : 0
Crop Top : 0
Parametric Highlight Split : 75
Post Crop Vignette Style : Highlight Priority
Auto Lateral CA : 0
Red Hue : 0
Tint : +2
Crop Angle : 0
Split Toning Highlight Hue : 0
Camera Profile : Standard
Parametric Lights : -4
Sharpen Radius : +1.8
Crop Constrain To Warp : 0
Post Crop Vignette Highlight Contrast : 0
Contrast 2012 : +20
Auto White Version : 134348800
Already Applied : True
Gray Mixer Aqua : -19
Gray Mixer Green : -26
Grain Amount : 0
Gray Mixer Purple : +13
Version : 8.6
Whites 2012 : +50
Post Crop Vignette Midpoint : 50
Sharpen Edge Masking : 64
Exposure 2012 : +0.40
Post Crop Vignette Feather : 50
Color Temperature : 6354
Creator Tool : Adobe Photoshop CC (Macintosh)
Lens Distort Info : 1057726654/1073741824 13616736/1073741824 3512973/1073741824 -1143219/1073741824
Lens : DT 18-135mm F3.5-5.6 SAM
Format : image/jpeg
ICC Profile Name : ProPhoto RGB
Date Created : 2012:12:16 15:08:17
Color Mode : RGB
Tone Curve PV2012 Red : 0, 0, 255, 255
Tone Curve PV2012 Green : 0, 0, 255, 255
Tone Curve PV2012 : 0, 0, 255, 255
Tone Curve Green : 0, 0, 255, 255
Tone Curve Blue : 0, 0, 255, 255
Tone Curve Red : 0, 0, 255, 255
Tone Curve : 0, 0, 255, 255
Tone Curve PV2012 Blue : 0, 0, 255, 255
Image Width : 210
Image Height : 300
Bits Per Sample : 8
Color Components : 1
Aperture : 5.6
Image Size : 210x300
Megapixels : 0.063
Scale Factor To 35 mm Equivalent : 1.5
Shutter Speed : 1/4000
Circle Of Confusion : 0.020 mm
Field Of View : 10.2 deg
Focal Length : 135.0 mm (35 mm equivalent: 202.0 mm)
Hyperfocal Distance : 162.07 m
Light Value : 16.9
Lens ID : Sony DT 18-135mm F3.5-5.6 SAM (SAL18135)