Uber Exif Photo
Photometric Interpretation : RGB
Make : SONY
Camera Model Name : SLT-A99V
Orientation : Horizontal (normal)
Software : Adobe Photoshop CC (Macintosh)
Modify Date : 2014:10:16 13:00:22
Exposure Time : 1/1600
F Number : 8.0
Exposure Program : Manual
ISO : 250
Sensitivity Type : Recommended Exposure Index
Recommended Exposure Index : 250
Date/Time Original : 2014:01:22 11:04:46
Create Date : 2014:01:22 11:04:46
Shutter Speed Value : 1/1600
Aperture Value : 8.0
Brightness Value : 10.978125
Exposure Compensation : 0
Max Aperture Value : 2.8
Metering Mode : Multi-segment
Light Source : Flash
Flash : Off, Did not fire
Focal Length : 17.0 mm
Color Space : Uncalibrated
Exif Image Width : 5096
Exif Image Height : 3464
Scene Type : Directly photographed
Custom Rendered : Normal
Exposure Mode : Manual
White Balance : Manual
Digital Zoom Ratio : 1
Focal Length In 35mm Format : 17 mm
Scene Capture Type : Standard
Contrast : Normal
Saturation : Normal
Sharpness : Normal
Lens Info : 16-35mm f/2.8
Lens Model : 16-35mm F2.8 ZA SSM
Parametric Darks : +14
Perspective Scale : 100
Clarity 2012 : +100
Color Noise Reduction : 100
Perspective Upright : Off
Has Crop : True
Red Saturation : 0
Parametric Shadows : +2
Gray Mixer Magenta : +4
Gray Mixer Yellow : -21
Split Toning Shadow Saturation : 0
Lens Manual Distortion Amount : 0
Tone Curve Name : Linear
Luminance Noise Reduction Contrast : 0
Shadows 2012 : +16
Blacks 2012 : -67
Tone Curve Name 2012 : Linear
Luminance Smoothing : 37
Convert To Grayscale : True
Highlights 2012 : +27
Parametric Midtone Split : 50
Perspective Aspect : 0
Shadow Tint : 0
Split Toning Highlight Saturation : 0
Split Toning Shadow Hue : 0
Has Settings : True
Lens Profile Setup : LensDefaults
Gray Mixer Red : -8
Post Crop Vignette Amount : -6
Split Toning Balance : 0
Lens Profile Enable : 0
Vignette Amount : 0
Perspective Rotate : 0.0
Crop Right : 0.665641
Process Version : 6.7
Gray Mixer Blue : +7
Parametric Highlights : +18
Green Saturation : 0
Gray Mixer Orange : -17
Parametric Shadow Split : 25
Sharpen Detail : 25
Green Hue : 0
Perspective Vertical : 0
Blue Saturation : 0
Crop Left : 0.128716
Crop Bottom : 0.880675
Luminance Noise Reduction Detail : 50
Post Crop Vignette Roundness : 0
Perspective Horizontal : 0
Blue Hue : 0
Crop Top : 0.294938
Parametric Highlight Split : 75
Post Crop Vignette Style : Highlight Priority
Auto Lateral CA : 0
Color Noise Reduction Smoothness : 50
Red Hue : 0
Tint : +3
Crop Angle : 0
Split Toning Highlight Hue : 0
Camera Profile : Adobe Standard
Parametric Lights : -4
Sharpen Radius : +1.0
Crop Constrain To Warp : 0
Post Crop Vignette Highlight Contrast : 0
Contrast 2012 : +27
Auto White Version : 134348800
Already Applied : True
Gray Mixer Aqua : -19
Gray Mixer Green : -26
Grain Amount : 0
Gray Mixer Purple : +14
Version : 8.6
Whites 2012 : 0
Post Crop Vignette Midpoint : 0
Sharpen Edge Masking : 15
Color Noise Reduction Detail : 50
Exposure 2012 : -0.60
Post Crop Vignette Feather : 50
Color Temperature : 6000
Creator Tool : Adobe Photoshop CC (Macintosh)
Rating : 4
Lens Distort Info : 33531/32768 -108991188/1073741824 97594689/1073741824 -24695431/1073741824
Lens : 16-35mm F2.8 ZA SSM
Format : image/jpeg
ICC Profile Name : Dot Gain 15%
Date Created : 2014:01:22 11:04:46
Color Mode : Grayscale
Tone Curve PV2012 Red : 0, 0, 255, 255
Tone Curve PV2012 Green : 0, 0, 255, 255
Tone Curve PV2012 : 0, 0, 255, 255
Tone Curve Green : 0, 0, 255, 255
Tone Curve Blue : 0, 0, 255, 255
Tone Curve Red : 0, 0, 255, 255
Tone Curve : 0, 0, 255, 255
Tone Curve PV2012 Blue : 0, 0, 255, 255
Image Width : 300
Image Height : 204
Bits Per Sample : 8
Color Components : 1
Aperture : 8.0
Image Size : 300x204
Megapixels : 0.061
Scale Factor To 35 mm Equivalent : 1.0
Shutter Speed : 1/1600
Circle Of Confusion : 0.030 mm
Field Of View : 93.3 deg
Focal Length : 17.0 mm (35 mm equivalent: 17.0 mm)
Hyperfocal Distance : 1.20 m
Light Value : 15.3
Lens ID : Carl Zeiss Vario-Sonnar T* 16-35mm F2.8 ZA SSM (SAL1635Z) or Carl Zeiss Vario-Sonnar T* 16-35mm F2.8 ZA SSM II (SAL1635Z2)