Uber Exif Photo
Keywords : Mauritius, b&w, beach, bicycle, boy, man, sea, street photography, travel
By-line : Valerio Peretti
Copyright Notice : Copyright © Valerio Peretti Photography. Any use of this image without the permission of the photographer is in violation of th
Copyright Flag : True
URL : http://www.valerioperetti.it
Make : SONY
Camera Model Name : NEX-5N
Software : Adobe Photoshop Lightroom 5.7 (Macintosh)
Modify Date : 2014:12:29 22:59:28
Artist : Valerio Peretti
Copyright : Copyright © Valerio Peretti Photography. Any use of this image without the permission of the photographer is in violation of the copyright.
Exposure Time : 1/320
F Number : 6.3
Exposure Program : Program AE
ISO : 640
Sensitivity Type : Recommended Exposure Index
Recommended Exposure Index : 640
Date/Time Original : 2012:08:24 17:35:16
Create Date : 2012:08:24 17:35:16
Shutter Speed Value : 1/320
Aperture Value : 6.3
Brightness Value : 6.02109375
Exposure Compensation : 0
Max Aperture Value : 6.3
Metering Mode : Multi-segment
Light Source : Unknown
Flash : Off, Did not fire
Focal Length : 200.0 mm
Color Space : sRGB
Scene Type : Directly photographed
Custom Rendered : Normal
Exposure Mode : Auto
White Balance : Auto
Focal Length In 35mm Format : 300 mm
Scene Capture Type : Standard
Contrast : Normal
Saturation : Normal
Sharpness : Normal
Lens Info : 18-200mm f/3.5-6.3
Lens Model : E 18-200mm F3.5-6.3 OSS
Creator Tool : Adobe Photoshop Lightroom 5.7 (Macintosh)
Label : Viola
Lens : E 18-200mm F3.5-6.3 OSS
Date Created : 2012:08:24 17:35:16
Format : image/jpeg
Marked : True
Web Statement : http://www.valerioperetti.it
Version : 8.7
Process Version : 6.7
Auto White Version : 134348800
Incremental Temperature : +18
Incremental Tint : -23
Luminance Smoothing : 0
Color Noise Reduction : 25
Vignette Amount : 0
Shadow Tint : 0
Red Hue : 0
Red Saturation : 0
Green Hue : 0
Green Saturation : 0
Blue Hue : 0
Blue Saturation : 0
Gray Mixer Red : -10
Gray Mixer Orange : 0
Gray Mixer Yellow : 0
Gray Mixer Green : -20
Gray Mixer Aqua : +25
Gray Mixer Blue : +5
Gray Mixer Purple : +30
Gray Mixer Magenta : +30
Split Toning Shadow Hue : 0
Split Toning Shadow Saturation : 0
Split Toning Highlight Hue : 0
Split Toning Highlight Saturation : 0
Split Toning Balance : 0
Parametric Shadows : -3
Parametric Darks : -42
Parametric Lights : +55
Parametric Highlights : -16
Parametric Shadow Split : 25
Parametric Midtone Split : 50
Parametric Highlight Split : 75
Sharpen Radius : +1.0
Sharpen Detail : 22
Sharpen Edge Masking : 0
Post Crop Vignette Amount : -32
Post Crop Vignette Midpoint : 50
Post Crop Vignette Feather : 50
Post Crop Vignette Roundness : 0
Post Crop Vignette Style : Highlight Priority
Post Crop Vignette Highlight Contrast : 0
Grain Amount : 54
Grain Size : 16
Grain Frequency : 40
Color Noise Reduction Detail : 50
Color Noise Reduction Smoothness : 50
Lens Profile Enable : 0
Lens Manual Distortion Amount : 0
Perspective Vertical : 0
Perspective Horizontal : 0
Perspective Rotate : 0.0
Perspective Scale : 100
Perspective Aspect : 0
Perspective Upright : Off
Auto Lateral CA : 0
Exposure 2012 : 0.00
Contrast 2012 : +37
Highlights 2012 : -24
Shadows 2012 : +21
Whites 2012 : 0
Blacks 2012 : -30
Clarity 2012 : +24
Convert To Grayscale : True
Tone Curve Name : Linear
Tone Curve Name 2012 : Custom
Camera Profile : Embedded
Lens Profile Setup : LensDefaults
Has Settings : True
Has Crop : False
Already Applied : True
Creator : Valerio Peretti
Rights : Copyright © Valerio Peretti Photography. Any use of this image without the permission of the photographer is in violation of the copyright.
Subject : Mauritius, b&w, beach, bicycle, boy, man, sea, street photography, travel
Usage Terms : All Rights reserved.
Creator Work Email : info@valerioperetti.it
Creator Country : Italy
Creator Work URL : http://www.valerioperetti.it
Tone Curve : 0, 0, 255, 255
Tone Curve Red : 0, 0, 255, 255
Tone Curve Green : 0, 0, 255, 255
Tone Curve Blue : 0, 0, 255, 255
Tone Curve PV2012 : 0, 0, 54, 64, 128, 129, 192, 185, 255, 255
Tone Curve PV2012 Red : 0, 0, 255, 255
Tone Curve PV2012 Green : 0, 0, 255, 255
Tone Curve PV2012 Blue : 0, 0, 255, 255
Circ Grad Based Corr What : Correction
Circ Grad Based Corr Amount : 1.000000
Circ Grad Based Corr Active : true
Circ Grad Based Corr Saturation : 0.000000
Circ Grad Based Corr Sharpness : 0.000000
Circ Grad Based Corr Brightness : 0.000000
Circ Grad Based Corr Toning Hue : 0.000000
Circ Grad Based Corr Toning Saturation : 0.000000
Circ Grad Based Corr Exposure 2012 : 0.321416
Circ Grad Based Corr Contrast 2012 : 0.000000
Circ Grad Based Corr Highlights 2012 : 0.000000
Circ Grad Based Corr Shadows 2012 : 0.000000
Circ Grad Based Corr Clarity 2012 : 0.000000
Circ Grad Based Corr Luminance Noise : 0.000000
Circ Grad Based Corr Moire : 0.000000
Circ Grad Based Corr Defringe : 0.000000
Circ Grad Based Corr Temperature : 0.000000
Circ Grad Based Corr Tint : 0.000000
Circ Grad Based Corr Mask What : Mask/CircularGradient
Circ Grad Based Corr Mask Value : 1.000000
Circ Grad Based Corr Mask Top : 0.355344
Circ Grad Based Corr Mask Left : 0.239602
Circ Grad Based Corr Mask Bottom : 0.562706
Circ Grad Based Corr Mask Right : 0.309368
Circ Grad Based Corr Mask Angle : -8.761170
Circ Grad Based Corr Mask Midpoint : +50
Circ Grad Based Corr Mask Roundness : 0
Circ Grad Based Corr Mask Feather : +50
Circ Grad Based Corr Mask Flipped : true
Circ Grad Based Corr Mask Version : +2
Image Width : 300
Image Height : 199
Bits Per Sample : 8
Color Components : 1
Aperture : 6.3
Image Size : 300x199
Megapixels : 0.060
Scale Factor To 35 mm Equivalent : 1.5
Shutter Speed : 1/320
Circle Of Confusion : 0.020 mm
Field Of View : 6.9 deg
Focal Length : 200.0 mm (35 mm equivalent: 300.0 mm)
Hyperfocal Distance : 316.97 m
Light Value : 11.0
Lens ID : E 18-200mm F3.5-6.3 OSS