Uber Exif Photo
Make : FUJIFILM
Camera Model Name : X-T1
Software : Adobe Photoshop Lightroom 5.3 (Windows)
Modify Date : 2014:03:31 00:27:17
Exposure Time : 3.2
F Number : 5.6
Exposure Program : Aperture-priority AE
ISO : 200
Sensitivity Type : Standard Output Sensitivity
Date/Time Original : 2014:03:25 20:31:04
Create Date : 2014:03:25 20:31:04
Shutter Speed Value : 3.2
Aperture Value : 5.6
Brightness Value : -4.09
Exposure Compensation : -1.33
Max Aperture Value : 2.8
Metering Mode : Average
Light Source : Unknown
Flash : Off, Did not fire
Focal Length : 12.0 mm
Color Space : sRGB
Sensing Method : One-chip color area
Scene Type : Directly photographed
Custom Rendered : Normal
Exposure Mode : Auto
White Balance : Auto
Focal Length In 35mm Format : 18 mm
Scene Capture Type : Standard
Sharpness : Normal
Subject Distance Range : Unknown
Lens Info : 12mm f/2.8
Lens Make : Carl Zeiss
Lens Model : Touit 2.8/12
Lens Serial Number : 51015794
Profile Description : sRGB IEC61966-2.1
Creator Tool : Adobe Photoshop Lightroom 5.3 (Windows)
Lens : Touit 2.8/12
Date Created : 2014:03:25 20:31:04
Format : image/jpeg
Version : 8.3
Process Version : 6.7
Auto White Version : 134348800
Incremental Temperature : 0
Incremental Tint : 0
Saturation : 0
Luminance Smoothing : 0
Color Noise Reduction : 0
Vignette Amount : 0
Shadow Tint : 0
Red Hue : 0
Red Saturation : 0
Green Hue : 0
Green Saturation : 0
Blue Hue : 0
Blue Saturation : 0
Vibrance : +30
Hue Adjustment Red : 0
Hue Adjustment Orange : 0
Hue Adjustment Yellow : 0
Hue Adjustment Green : 0
Hue Adjustment Aqua : 0
Hue Adjustment Blue : 0
Hue Adjustment Purple : 0
Hue Adjustment Magenta : 0
Saturation Adjustment Red : 0
Saturation Adjustment Orange : 0
Saturation Adjustment Yellow : 0
Saturation Adjustment Green : 0
Saturation Adjustment Aqua : 0
Saturation Adjustment Blue : 0
Saturation Adjustment Purple : 0
Saturation Adjustment Magenta : 0
Luminance Adjustment Red : 0
Luminance Adjustment Orange : 0
Luminance Adjustment Yellow : 0
Luminance Adjustment Green : 0
Luminance Adjustment Aqua : 0
Luminance Adjustment Blue : 0
Luminance Adjustment Purple : 0
Luminance Adjustment Magenta : 0
Split Toning Shadow Hue : 0
Split Toning Shadow Saturation : 0
Split Toning Highlight Hue : 0
Split Toning Highlight Saturation : 0
Split Toning Balance : 0
Parametric Shadows : 0
Parametric Darks : 0
Parametric Lights : 0
Parametric Highlights : 0
Parametric Shadow Split : 25
Parametric Midtone Split : 50
Parametric Highlight Split : 75
Sharpen Radius : +1.0
Sharpen Detail : 25
Sharpen Edge Masking : 0
Post Crop Vignette Amount : -34
Post Crop Vignette Midpoint : 50
Post Crop Vignette Feather : 50
Post Crop Vignette Roundness : 0
Post Crop Vignette Style : Highlight Priority
Post Crop Vignette Highlight Contrast : 0
Grain Amount : 0
Lens Profile Enable : 0
Lens Manual Distortion Amount : 0
Perspective Vertical : 0
Perspective Horizontal : 0
Perspective Rotate : 0.0
Perspective Scale : 100
Perspective Aspect : 0
Perspective Upright : Off
Auto Lateral CA : 0
Exposure 2012 : +0.86
Contrast 2012 : +33
Highlights 2012 : -41
Shadows 2012 : +23
Whites 2012 : 0
Blacks 2012 : 0
Clarity 2012 : +27
Defringe Purple Amount : 0
Defringe Purple Hue Lo : 30
Defringe Purple Hue Hi : 70
Defringe Green Amount : 0
Defringe Green Hue Lo : 40
Defringe Green Hue Hi : 60
Convert To Grayscale : False
Tone Curve Name 2012 : Linear
Camera Profile : Embedded
Lens Profile Setup : LensDefaults
Has Settings : True
Has Crop : False
Already Applied : True
Tone Curve PV2012 : 0, 0, 255, 255
Tone Curve PV2012 Red : 0, 0, 255, 255
Tone Curve PV2012 Green : 0, 0, 255, 255
Tone Curve PV2012 Blue : 0, 0, 255, 255
Image Width : 300
Image Height : 200
Bits Per Sample : 8
Color Components : 3
Aperture : 5.6
Image Size : 300x200
Megapixels : 0.060
Scale Factor To 35 mm Equivalent : 1.5
Shutter Speed : 3.2
Circle Of Confusion : 0.020 mm
Field Of View : 90.0 deg
Focal Length : 12.0 mm (35 mm equivalent: 18.0 mm)
Hyperfocal Distance : 1.28 m
Light Value : 2.3