Uber Exif Photo
Keywords : Newport Sunset NYC
By-line : Christopher Moy
Copyright Notice : Christopher Moy Photography
Make : Canon
Camera Model Name : Canon EOS 5D Mark III
Software : Adobe Photoshop Lightroom 5.7.1 (Macintosh)
Modify Date : 2015:04:12 01:43:20
Artist : Christopher Moy
Copyright : Christopher Moy Photography
Exposure Time : 15
F Number : 22.0
Exposure Program : Manual
ISO : 100
Sensitivity Type : Recommended Exposure Index
Recommended Exposure Index : 100
Date/Time Original : 2015:04:11 19:39:42
Create Date : 2015:04:11 19:39:42
Shutter Speed Value : 15
Aperture Value : 22.0
Exposure Compensation : 0
Max Aperture Value : 2.8
Metering Mode : Spot
Flash : Off, Did not fire
Focal Length : 53.0 mm
Color Space : sRGB
Custom Rendered : Normal
Exposure Mode : Manual
White Balance : Auto
Scene Capture Type : Standard
Serial Number : 212020003030
Lens Info : 28-70mm f/?
Lens Model : EF28-70mm f/2.8L USM
Lens Serial Number : 0000000000
Profile Description : sRGB IEC61966-2.1
Creator Tool : Adobe Photoshop Lightroom 5.7.1 (Macintosh)
Format : image/jpeg
Lens : EF28-70mm f/2.8L USM
Image Number : 0
Flash Compensation : 0
Firmware : 1.2.3
Date Created : 2015:04:11 19:39:42.00
Version : 8.7.1
Process Version : 6.7
Auto White Version : 134348800
Color Temperature : 6650
Tint : -3
Saturation : +20
Sharpness : 68
Luminance Smoothing : 13
Color Noise Reduction : 38
Vignette Amount : 0
Shadow Tint : 0
Red Hue : 0
Red Saturation : 0
Green Hue : 0
Green Saturation : 0
Blue Hue : 0
Blue Saturation : 0
Vibrance : +15
Hue Adjustment Red : 0
Hue Adjustment Orange : 0
Hue Adjustment Yellow : 0
Hue Adjustment Green : 0
Hue Adjustment Aqua : 0
Hue Adjustment Blue : +21
Hue Adjustment Purple : +4
Hue Adjustment Magenta : 0
Saturation Adjustment Red : 0
Saturation Adjustment Orange : +7
Saturation Adjustment Yellow : +21
Saturation Adjustment Green : 0
Saturation Adjustment Aqua : +2
Saturation Adjustment Blue : +29
Saturation Adjustment Purple : +2
Saturation Adjustment Magenta : 0
Luminance Adjustment Red : 0
Luminance Adjustment Orange : -4
Luminance Adjustment Yellow : -8
Luminance Adjustment Green : 0
Luminance Adjustment Aqua : -2
Luminance Adjustment Blue : -11
Luminance Adjustment Purple : 0
Luminance Adjustment Magenta : 0
Split Toning Shadow Hue : 0
Split Toning Shadow Saturation : 0
Split Toning Highlight Hue : 0
Split Toning Highlight Saturation : 0
Split Toning Balance : 0
Parametric Shadows : 0
Parametric Darks : 0
Parametric Lights : 0
Parametric Highlights : 0
Parametric Shadow Split : 25
Parametric Midtone Split : 50
Parametric Highlight Split : 75
Sharpen Radius : +1.0
Sharpen Detail : 25
Sharpen Edge Masking : 56
Post Crop Vignette Amount : -7
Post Crop Vignette Midpoint : 50
Post Crop Vignette Feather : 50
Post Crop Vignette Roundness : 0
Post Crop Vignette Style : Highlight Priority
Post Crop Vignette Highlight Contrast : 0
Grain Amount : 0
Luminance Noise Reduction Detail : 50
Color Noise Reduction Detail : 50
Luminance Noise Reduction Contrast : 0
Color Noise Reduction Smoothness : 50
Lens Profile Enable : 1
Lens Manual Distortion Amount : 0
Perspective Vertical : 0
Perspective Horizontal : 0
Perspective Rotate : 0.0
Perspective Scale : 100
Perspective Aspect : 0
Perspective Upright : Auto
Auto Lateral CA : 1
Exposure 2012 : +0.25
Contrast 2012 : +31
Highlights 2012 : -100
Shadows 2012 : +100
Whites 2012 : 0
Blacks 2012 : 0
Clarity 2012 : +20
Defringe Purple Amount : 0
Defringe Purple Hue Lo : 30
Defringe Purple Hue Hi : 70
Defringe Green Amount : 0
Defringe Green Hue Lo : 40
Defringe Green Hue Hi : 60
Convert To Grayscale : False
Tone Curve Name : Linear
Tone Curve Name 2012 : Custom
Camera Profile : Adobe Standard
Lens Profile Setup : LensDefaults
Lens Profile Name : Adobe (Canon EF 28-70mm f/2.8 L USM)
Lens Profile Filename : Canon EOS 5D Mark II (Canon EF 28-70mm f2.8 L USM) - RAW.lcp
Lens Profile Distortion Scale : 100
Lens Profile Chromatic Aberration Scale : 100
Lens Profile Vignetting Scale : 100
Has Settings : True
Crop Top : 0
Crop Left : 0.081962
Crop Bottom : 0.918038
Crop Right : 1
Crop Angle : 0
Crop Constrain To Warp : 0
Has Crop : True
Already Applied : True
Creator : Christopher Moy
Rights : Christopher Moy Photography
Subject : Newport Sunset NYC
Tone Curve : 0, 0, 255, 255
Tone Curve Red : 0, 0, 255, 255
Tone Curve Green : 0, 0, 255, 255
Tone Curve Blue : 0, 0, 255, 255
Tone Curve PV2012 : 0, 0, 69, 62, 128, 128, 186, 192, 255, 255
Tone Curve PV2012 Red : 0, 0, 255, 255
Tone Curve PV2012 Green : 0, 0, 255, 255
Tone Curve PV2012 Blue : 0, 0, 255, 255
Paint Correction What : Correction
Paint Correction Amount : 1.000000
Paint Correction Active : true
Paint Correction Saturation : 0.117739
Paint Correction Sharpness : 0.000000
Paint Correction Brightness : 0.000000
Paint Correction Toning Hue : 240.000000
Paint Correction Toning Saturation : 0.000000
Paint Correction Exposure 2012 : 0.017500
Paint Correction Contrast 2012 : 0.165165
Paint Correction Highlights 2012 : 0.000000
Paint Correction Shadows 2012 : 0.000000
Paint Correction Clarity 2012 : 0.000000
Paint Correction Luminance Noise : 0.222794
Paint Correction Moire : 0.000000
Paint Correction Defringe : 0.000000
Paint Correction Temperature : 0.000000
Paint Correction Tint : 0.000000
Paint Correction Mask What : Mask/Paint
Paint Correction Mask Value : 1.000000
Paint Correction Mask Radius : 0.077223
Paint Correction Mask Flow : 1.000000
Paint Correction Mask Center Weight : 0.025979
Gradient Based Corr What : Correction
Gradient Based Corr Amount : 1.000000
Gradient Based Corr Active : true
Gradient Based Corr Saturation : 0.140074
Gradient Based Corr Sharpness : 0.000000
Gradient Based Corr Brightness : 0.000000
Gradient Based Corr Toning Hue : 240.000000
Gradient Based Corr Toning Saturation : 0.000000
Gradient Based Corr Exposure 2012 : 0.000000
Gradient Based Corr Contrast 2012 : 0.146967
Gradient Based Corr Highlights 2012 : 0.000000
Gradient Based Corr Shadows 2012 : 0.000000
Gradient Based Corr Clarity 2012 : 0.203768
Gradient Based Corr Luminance Noise : 0.000000
Gradient Based Corr Moire : 0.000000
Gradient Based Corr Defringe : 0.000000
Gradient Based Corr Temperature : 0.000000
Gradient Based Corr Tint : 0.000000
Gradient Based Corr Mask What : Mask/Gradient
Gradient Based Corr Mask Value : 1.000000
Gradient Based Corr Mask Zero X : 0.450032
Gradient Based Corr Mask Zero Y : 0.518636
Gradient Based Corr Mask Full X : 0.559050
Gradient Based Corr Mask Full Y : 0.518636
Image Width : 200
Image Height : 300
Bits Per Sample : 8
Color Components : 3
Aperture : 22.0
Image Size : 200x300
Megapixels : 0.060
Scale Factor To 35 mm Equivalent : 19.2
Shutter Speed : 15
Create Date : 2015:04:11 19:39:42.00
Date/Time Original : 2015:04:11 19:39:42.00
Circle Of Confusion : 0.002 mm
Field Of View : 2.0 deg
Focal Length : 53.0 mm (35 mm equivalent: 1017.6 mm)
Hyperfocal Distance : 81.59 m
Light Value : 5.0
Lens ID : Canon EF 28-70mm f/2.8L USM