Uber Exif Photo
Photometric Interpretation : RGB
Make : SONY
Camera Model Name : DSC-RX1
Orientation : Horizontal (normal)
Software : Adobe Photoshop CS4 Macintosh
Modify Date : 2014:11:03 14:33:53
Exposure Time : 1/100
F Number : 8.0
Exposure Program : Aperture-priority AE
ISO : 100
Sensitivity Type : Recommended Exposure Index
Recommended Exposure Index : 100
Date/Time Original : 2014:10:30 19:01:10
Create Date : 2014:10:30 19:01:10
Shutter Speed Value : 1/100
Aperture Value : 8.0
Brightness Value : 7.43515625
Exposure Compensation : 0
Max Aperture Value : 2.0
Metering Mode : Multi-segment
Light Source : Unknown
Flash : Off, Did not fire
Focal Length : 35.0 mm
Color Space : Uncalibrated
Exif Image Width : 2200
Exif Image Height : 1238
Scene Type : Directly photographed
Custom Rendered : Normal
Exposure Mode : Auto
White Balance : Auto
Digital Zoom Ratio : 1
Focal Length In 35mm Format : 35 mm
Scene Capture Type : Standard
Contrast : Normal
Saturation : Normal
Sharpness : Normal
Lens Info : 35mm f/2
Lens Model : 35.0 mm f/2.0
Profile Description : Adobe RGB (1998)
Highlights 2012 : -65
Defringe Purple Hue Lo : 30
Exposure 2012 : 0.00
Grain Amount : 0
Lens Manual Distortion Amount : 0
Luminance Adjustment Aqua : 0
Hue Adjustment Purple : 0
Green Hue : 0
Version : 7.4
Whites 2012 : -89
Parametric Highlight Split : 75
Lens Profile Enable : 0
Parametric Shadow Split : 25
Contrast 2012 : +48
Saturation Adjustment Yellow : 0
Crop Bottom : 0.784892
Perspective Vertical : 0
Sharpen Edge Masking : 0
Luminance Adjustment Yellow : 0
Defringe Green Hue Hi : 60
Red Saturation : 0
Perspective Rotate : 0.0
Incremental Temperature : +8
Saturation Adjustment Aqua : 0
Parametric Shadows : -43
Crop Unit : pixels
Vibrance : -51
Crop Height : 3019
Split Toning Shadow Hue : 0
Crop Constrain To Warp : 0
Hue Adjustment Green : 0
Luminance Adjustment Green : 0
Crop Width : 5819
Hue Adjustment Yellow : 0
Parametric Highlights : 0
Luminance Adjustment Orange : 0
Saturation Adjustment Green : 0
Saturation Adjustment Orange : 0
Luminance Adjustment Purple : 0
Already Applied : True
Luminance Adjustment Blue : 0
Defringe Green Amount : 0
Shadows 2012 : +69
Process Version : 6.7
Has Settings : True
Hue Adjustment Orange : 0
Clarity 2012 : 0
Crop Left : 0.021894
Luminance Adjustment Magenta : 0
Lens Profile Setup : LensDefaults
Crop Right : 0.981095
Shadow Tint : 0
Hue Adjustment Blue : 0
Post Crop Vignette Amount : 0
Defringe Purple Hue Hi : 70
Crop Top : 0
Split Toning Highlight Hue : 0
Has Crop : True
Blue Hue : 0
Split Toning Shadow Saturation : 0
Perspective Scale : 100
Split Toning Highlight Saturation : 0
Parametric Lights : +43
Convert To Grayscale : False
Saturation Adjustment Magenta : 0
Blacks 2012 : +8
Defringe Green Hue Lo : 40
Luminance Smoothing : 0
Perspective Horizontal : 0
Saturation Adjustment Blue : 0
Incremental Tint : +1
Tone Curve Name 2012 : Medium Contrast
Green Saturation : 0
Saturation Adjustment Purple : 0
Blue Saturation : 0
Crop Angle : 1.19395
Camera Profile : Embedded
Parametric Midtone Split : 50
Red Hue : 0
Parametric Darks : +9
Defringe Purple Amount : 0
Sharpen Detail : 25
Saturation Adjustment Red : 0
Hue Adjustment Red : 0
Luminance Adjustment Red : 0
Auto Lateral CA : 0
Hue Adjustment Aqua : 0
Split Toning Balance : 0
Sharpen Radius : +1.0
Vignette Amount : 0
Hue Adjustment Magenta : 0
Color Noise Reduction : 0
ICC Profile Name : Adobe RGB (1998)
Date Created : 2014:10:30 19:01:10
Color Mode : RGB
Lens : 35.0 mm f/2.0
Creator Tool : Adobe Photoshop CS4 Macintosh
Format : image/tiff
Tone Curve PV2012 Red : 0, 0, 255, 255
Tone Curve PV2012 Green : 0, 0, 255, 255
Tone Curve PV2012 Blue : 0, 0, 255, 255
Tone Curve PV2012 : 0, 0, 32, 22, 64, 56, 128, 128, 192, 196, 255, 255
Image Width : 300
Image Height : 169
Bits Per Sample : 8
Color Components : 3
Aperture : 8.0
Image Size : 300x169
Megapixels : 0.051
Scale Factor To 35 mm Equivalent : 1.0
Shutter Speed : 1/100
Circle Of Confusion : 0.030 mm
Field Of View : 54.4 deg
Focal Length : 35.0 mm (35 mm equivalent: 35.0 mm)
Hyperfocal Distance : 5.10 m
Light Value : 12.6
Lens ID : 35.0mm f/2.0