Uber Exif Photo
By-line : Romy Wibisono
Copyright Notice : © Romy Wibisono
Copyright Flag : True
Make : Leica Camera AG
Camera Model Name : LEICA M (Typ 240)
Software : Adobe Photoshop Lightroom 5.6 (Macintosh)
Modify Date : 2014:09:15 17:09:17
Artist : Romy Wibisono
Copyright : © Romy Wibisono
Exposure Time : 1/125
F Number : 9.5
Exposure Program : Manual
ISO : 250
Date/Time Original : 2014:09:06 16:05:16
Create Date : 2014:09:06 16:05:16
Shutter Speed Value : 1/125
Aperture Value : 9.5
Exposure Compensation : 0
Max Aperture Value : 1.4
Metering Mode : Center-weighted average
Light Source : Unknown
Flash : No Flash
Focal Length : 50.0 mm
Color Space : sRGB
Scene Type : Directly photographed
Custom Rendered : Normal
Exposure Mode : Manual
White Balance : Auto
Digital Zoom Ratio : 0
Scene Capture Type : Standard
Contrast : Normal
Saturation : Normal
Sharpness : Normal
Serial Number : 4824589
Lens Info : 50mm f/1-16
Lens Make : Leica Camera AG
Lens Model : Summilux-M 1:1.4/50 ASPH.
Lens Serial Number : -------
Creator Tool : Adobe Photoshop Lightroom 5.6 (Macintosh)
Lens : Summilux-M 1:1.4/50 ASPH.
Date Created : 2014:09:06 16:05:16
Format : image/jpeg
Marked : True
Version : 8.6
Process Version : 5.0
Auto White Version : 134348800
Color Temperature : 3667
Tint : -11
Exposure : 0.00
Shadows : 5
Brightness : +50
Luminance Smoothing : 0
Color Noise Reduction : 25
Vignette Amount : -100
Vignette Midpoint : 51
Shadow Tint : 0
Red Hue : 0
Red Saturation : 0
Green Hue : 0
Green Saturation : 0
Blue Hue : 0
Blue Saturation : 0
Fill Light : 40
Highlight Recovery : 0
Clarity : +80
Gray Mixer Red : -9
Gray Mixer Orange : -18
Gray Mixer Yellow : -22
Gray Mixer Green : -27
Gray Mixer Aqua : -19
Gray Mixer Blue : +8
Gray Mixer Purple : +15
Gray Mixer Magenta : +4
Split Toning Shadow Hue : 0
Split Toning Shadow Saturation : 0
Split Toning Highlight Hue : 49
Split Toning Highlight Saturation : 0
Split Toning Balance : 0
Parametric Shadows : -34
Parametric Darks : 0
Parametric Lights : 0
Parametric Highlights : +49
Parametric Shadow Split : 25
Parametric Midtone Split : 50
Parametric Highlight Split : 75
Sharpen Radius : +1.5
Sharpen Detail : 25
Sharpen Edge Masking : 0
Post Crop Vignette Amount : 0
Grain Amount : 0
Lens Profile Enable : 0
Lens Manual Distortion Amount : 0
Perspective Vertical : 0
Perspective Horizontal : 0
Perspective Rotate : 0.0
Perspective Scale : 100
Perspective Aspect : 0
Perspective Upright : Off
Auto Lateral CA : 0
Convert To Grayscale : True
Tone Curve Name : Strong Contrast
Tone Curve Name 2012 : Linear
Camera Profile : Embedded
Lens Profile Setup : LensDefaults
Has Settings : True
Crop Top : 0
Crop Left : 0.013505
Crop Bottom : 1
Crop Right : 0.949336
Crop Angle : 0.728377
Crop Constrain To Warp : 0
Has Crop : True
Already Applied : True
Creator : Romy Wibisono
Rights : © Romy Wibisono
Tone Curve : 0, 0, 32, 16, 64, 50, 128, 128, 192, 202, 255, 255
Tone Curve Red : 0, 0, 255, 255
Tone Curve Green : 0, 0, 255, 255
Tone Curve Blue : 0, 0, 255, 255
Tone Curve PV2012 : 0, 0, 255, 255
Tone Curve PV2012 Red : 0, 0, 255, 255
Tone Curve PV2012 Green : 0, 0, 255, 255
Tone Curve PV2012 Blue : 0, 0, 255, 255
Image Width : 300
Image Height : 209
Bits Per Sample : 8
Color Components : 1
Aperture : 9.5
Image Size : 300x209
Megapixels : 0.063
Scale Factor To 35 mm Equivalent : 19.6
Shutter Speed : 1/125
Circle Of Confusion : 0.002 mm
Field Of View : 2.1 deg
Focal Length : 50.0 mm (35 mm equivalent: 978.2 mm)
Hyperfocal Distance : 171.36 m
Light Value : 12.1
Lens ID : Summilux-M 1:1.4/50 ASPH.