Uber Exif Photo
By-line : Tim Whalen
Copyright Notice : Tim Whalen
Photometric Interpretation : RGB
Make : SONY
Camera Model Name : DSC-RX100M4
Orientation : Horizontal (normal)
Samples Per Pixel : 3
Software : Adobe Photoshop CS6 (Macintosh)
Modify Date : 2015:11:05 08:52:31
Artist : Tim Whalen
Copyright : Tim Whalen
Exposure Time : 1/160
F Number : 2.8
Exposure Program : Aperture-priority AE
ISO : 125
Sensitivity Type : Recommended Exposure Index
Recommended Exposure Index : 125
Date/Time Original : 2015:08:24 17:40:49
Create Date : 2015:08:24 17:40:49
Shutter Speed Value : 1/160
Aperture Value : 2.8
Brightness Value : 6.5328125
Exposure Compensation : 0
Max Aperture Value : 1.8
Metering Mode : Center-weighted average
Light Source : Unknown
Flash : Off, Did not fire
Focal Length : 8.8 mm
Color Space : sRGB
Exif Image Width : 1500
Exif Image Height : 844
Scene Type : Directly photographed
Custom Rendered : Normal
Exposure Mode : Auto
White Balance : Auto
Digital Zoom Ratio : 1
Focal Length In 35mm Format : 24 mm
Scene Capture Type : Standard
Contrast : High
Saturation : High
Sharpness : Hard
Lens Info : 8.8-25.7mm f/1.8-2.8
Lens Model : 24-70mm F1.8-2.8
Format : image/jpeg
Creator Tool : Adobe Photoshop Lightroom 6.1.1 (Macintosh)
Lens : 24-70mm F1.8-2.8
Lens Distort Info : 35336/32768 -322647567/1073741824 175139330/1073741824 -49573325/1073741824
Date Created : 2015:08:24 17:40:49
Color Mode : RGB
ICC Profile Name : sRGB IEC61966-2.1
Version : 9.1.1
Process Version : 6.7
Auto White Version : 134348800
Color Temperature : 5100
Tint : +10
Luminance Smoothing : 0
Color Noise Reduction : 25
Vignette Amount : 0
Shadow Tint : 0
Red Hue : 0
Red Saturation : 0
Green Hue : 0
Green Saturation : 0
Blue Hue : 0
Blue Saturation : 0
Gray Mixer Red : +55
Gray Mixer Orange : -32
Gray Mixer Yellow : 0
Gray Mixer Green : +18
Gray Mixer Aqua : 0
Gray Mixer Blue : 0
Gray Mixer Purple : 0
Gray Mixer Magenta : +7
Split Toning Shadow Hue : 0
Split Toning Shadow Saturation : 0
Split Toning Highlight Hue : 0
Split Toning Highlight Saturation : 0
Split Toning Balance : 0
Parametric Shadows : 0
Parametric Darks : 0
Parametric Lights : 0
Parametric Highlights : 0
Parametric Shadow Split : 25
Parametric Midtone Split : 50
Parametric Highlight Split : 75
Sharpen Radius : +1.2
Sharpen Detail : 25
Sharpen Edge Masking : 0
Post Crop Vignette Amount : 0
Grain Amount : 0
Color Noise Reduction Detail : 50
Color Noise Reduction Smoothness : 50
Lens Profile Enable : 0
Lens Manual Distortion Amount : 0
Perspective Vertical : 0
Perspective Horizontal : 0
Perspective Rotate : 0.0
Perspective Scale : 100
Perspective Aspect : 0
Perspective Upright : Off
Auto Lateral CA : 0
Exposure 2012 : -0.10
Contrast 2012 : +43
Highlights 2012 : -59
Shadows 2012 : +100
Whites 2012 : -70
Blacks 2012 : -85
Clarity 2012 : +49
Dehaze : 0
Tone Map Strength : 0
Convert To Grayscale : True
Tone Curve Name : Linear
Tone Curve Name 2012 : Linear
Camera Profile : Adobe Standard
Lens Profile Setup : LensDefaults
Has Settings : True
Crop Top : 0.005324
Crop Left : 0
Crop Bottom : 0.842065
Crop Right : 1
Crop Angle : -0.203784
Crop Constrain To Warp : 0
Has Crop : True
Already Applied : True
Creator : Tim Whalen
Rights : Tim Whalen
Tone Curve : 0, 0, 255, 255
Tone Curve Red : 0, 0, 255, 255
Tone Curve Green : 0, 0, 255, 255
Tone Curve Blue : 0, 0, 255, 255
Tone Curve PV2012 : 0, 0, 255, 255
Tone Curve PV2012 Red : 0, 0, 255, 255
Tone Curve PV2012 Green : 0, 0, 255, 255
Tone Curve PV2012 Blue : 0, 0, 255, 255
Image Width : 300
Image Height : 169
Bits Per Sample : 8
Color Components : 1
Aperture : 2.8
Image Size : 300x169
Megapixels : 0.051
Scale Factor To 35 mm Equivalent : 2.7
Shutter Speed : 1/160
Circle Of Confusion : 0.011 mm
Field Of View : 73.7 deg
Focal Length : 8.8 mm (35 mm equivalent: 24.0 mm)
Hyperfocal Distance : 2.51 m
Light Value : 10.0
Lens ID : 24-70mm F1.8-2.8