Uber Exif Photo
Make : SONY
Camera Model Name : ILCE-7M2
Orientation : Horizontal (normal)
Software : Adobe Photoshop Lightroom 6.0 (Windows)
Modify Date : 2015:07:25 20:52:14
Exposure Time : 1/200
F Number : 14.0
Exposure Program : Aperture-priority AE
ISO : 100
Sensitivity Type : Recommended Exposure Index
Recommended Exposure Index : 100
Date/Time Original : 2015:07:07 19:21:46
Create Date : 2015:07:07 19:21:46
Shutter Speed Value : 1/200
Aperture Value : 14.0
Brightness Value : 10.31796875
Exposure Compensation : 0
Max Aperture Value : 2.0
Metering Mode : Multi-segment
Light Source : Unknown
Flash : Off, Did not fire
Focal Length : 50.0 mm
Scene Type : Directly photographed
Custom Rendered : Normal
Exposure Mode : Auto
White Balance : Auto
Digital Zoom Ratio : 1
Focal Length In 35mm Format : 50 mm
Scene Capture Type : Standard
Contrast : Normal
Saturation : Normal
Sharpness : Normal
Lens Info : 50mm f/2
Lens Model : E 50mm F2
Profile Description : sRGB IEC61966-2.1
Creator Tool : Adobe Photoshop Lightroom 6.0 (Windows)
Lens : E 50mm F2
Lens Distort Info : 32865/32768 -8748065/1073741824 -5564848/1073741824 158480/1073741824
Date Created : 2015:07:07 19:21:46
Format : image/jpeg
Version : 9.0
Process Version : 6.7
Auto White Version : 134348800
Color Temperature : 5000
Tint : +4
Luminance Smoothing : 0
Color Noise Reduction : 0
Vignette Amount : 0
Shadow Tint : 0
Red Hue : +10
Red Saturation : 0
Green Hue : -10
Green Saturation : -10
Blue Hue : -15
Blue Saturation : +25
Vibrance : 0
Hue Adjustment Red : +8
Hue Adjustment Orange : 0
Hue Adjustment Yellow : 0
Hue Adjustment Green : +18
Hue Adjustment Aqua : 0
Hue Adjustment Blue : +5
Hue Adjustment Purple : +30
Hue Adjustment Magenta : +15
Saturation Adjustment Red : -10
Saturation Adjustment Orange : -8
Saturation Adjustment Yellow : 0
Saturation Adjustment Green : -30
Saturation Adjustment Aqua : -15
Saturation Adjustment Blue : 0
Saturation Adjustment Purple : -10
Saturation Adjustment Magenta : -20
Luminance Adjustment Red : -20
Luminance Adjustment Orange : 0
Luminance Adjustment Yellow : 0
Luminance Adjustment Green : -15
Luminance Adjustment Aqua : 0
Luminance Adjustment Blue : -10
Luminance Adjustment Purple : -10
Luminance Adjustment Magenta : -25
Split Toning Shadow Hue : 0
Split Toning Shadow Saturation : 0
Split Toning Highlight Hue : 0
Split Toning Highlight Saturation : 0
Split Toning Balance : 0
Parametric Shadows : 0
Parametric Darks : 0
Parametric Lights : 0
Parametric Highlights : 0
Parametric Shadow Split : 14
Parametric Midtone Split : 60
Parametric Highlight Split : 75
Sharpen Radius : +1.2
Sharpen Detail : 25
Sharpen Edge Masking : 0
Post Crop Vignette Amount : 0
Grain Amount : 15
Grain Size : 30
Grain Frequency : 30
Lens Profile Enable : 0
Lens Manual Distortion Amount : 0
Perspective Vertical : 0
Perspective Horizontal : 0
Perspective Rotate : 0.0
Perspective Scale : 100
Perspective Aspect : 0
Perspective Upright : Off
Auto Lateral CA : 0
Exposure 2012 : 0.00
Contrast 2012 : 0
Highlights 2012 : -25
Shadows 2012 : +15
Whites 2012 : 0
Blacks 2012 : +25
Clarity 2012 : 0
Defringe Purple Amount : 0
Defringe Purple Hue Lo : 30
Defringe Purple Hue Hi : 70
Defringe Green Amount : 0
Defringe Green Hue Lo : 40
Defringe Green Hue Hi : 60
Convert To Grayscale : False
Tone Curve Name : Linear
Tone Curve Name 2012 : Astia 100F Warm
Camera Profile : Fuji Astia 100F - SO
Lens Profile Setup : LensDefaults
Has Settings : True
Crop Top : 0.000914
Crop Left : 0.007495
Crop Bottom : 0.993972
Crop Right : 0.992505
Crop Angle : 0.66
Crop Constrain To Warp : 0
Has Crop : True
Already Applied : True
Raw File Name : _DSC1818.jpg
Tone Curve : 0, 0, 255, 255
Tone Curve Red : 0, 0, 255, 255
Tone Curve Green : 0, 0, 255, 255
Tone Curve Blue : 0, 0, 255, 255
Tone Curve PV2012 : 0, 0, 255, 255
Tone Curve PV2012 Red : 0, 0, 42, 24, 116, 124, 182, 198, 255, 255
Tone Curve PV2012 Green : 0, 0, 40, 25, 118, 125, 184, 197, 255, 255
Tone Curve PV2012 Blue : 0, 0, 40, 26, 120, 122, 183, 196, 255, 255
Image Width : 300
Image Height : 197
Bits Per Sample : 8
Color Components : 3
Aperture : 14.0
Image Size : 300x197
Megapixels : 0.059
Scale Factor To 35 mm Equivalent : 1.0
Shutter Speed : 1/200
Circle Of Confusion : 0.030 mm
Field Of View : 39.6 deg
Focal Length : 50.0 mm (35 mm equivalent: 50.0 mm)
Hyperfocal Distance : 5.94 m
Light Value : 15.3
Lens ID : E 50mm F2