Uber Exif Photo
Make : SONY
Camera Model Name : ILCE-7R
Orientation : Horizontal (normal)
Software : Adobe Photoshop CS6 (Macintosh)
Modify Date : 2015:10:03 16:23:20
Exposure Time : 1/160
F Number : 4.0
Exposure Program : Manual
ISO : 250
Sensitivity Type : Recommended Exposure Index
Recommended Exposure Index : 250
Date/Time Original : 2015:09:27 07:44:18
Create Date : 2015:09:27 07:44:18
Shutter Speed Value : 1/160
Aperture Value : 4.0
Brightness Value : 5.01328125
Exposure Compensation : 0
Max Aperture Value : 2.8
Metering Mode : Multi-segment
Light Source : Unknown
Flash : Off, Did not fire
Focal Length : 35.0 mm
Color Space : Uncalibrated
Exif Image Width : 1920
Exif Image Height : 1080
Scene Type : Directly photographed
Custom Rendered : Normal
Exposure Mode : Manual
White Balance : Auto
Digital Zoom Ratio : 1
Focal Length In 35mm Format : 35 mm
Scene Capture Type : Standard
Contrast : Normal
Saturation : Normal
Sharpness : Normal
Lens Info : 35mm f/2.8
Lens Model : FE 35mm F2.8 ZA
Profile Description : Adobe RGB (1998)
Creator Tool : Adobe DNG Converter 8.3 (Macintosh)
Rating : 0
Lens : FE 35mm F2.8 ZA
Lens Distort Info : 1071022153/1073741824 16996046/1073741824 -26645031/1073741824 -676945/1073741824
Date Created : 2015:09:27 07:44:18
Color Mode : RGB
ICC Profile Name : Adobe RGB (1998)
Format : image/jpeg
Raw File Name : DSC03772.dng
Version : 7.0
Process Version : 6.7
Color Temperature : 6000
Tint : +18
Exposure : 0.00
Shadows : 5
Brightness : +50
Luminance Smoothing : 24
Color Noise Reduction : 25
Vignette Amount : 0
Shadow Tint : 0
Red Hue : 0
Red Saturation : 0
Green Hue : 0
Green Saturation : 0
Blue Hue : 0
Blue Saturation : 0
Fill Light : 0
Vibrance : -17
Highlight Recovery : 0
Clarity : 0
Defringe : 0
Hue Adjustment Red : 0
Hue Adjustment Orange : 0
Hue Adjustment Yellow : 0
Hue Adjustment Green : 0
Hue Adjustment Aqua : 0
Hue Adjustment Blue : +5
Hue Adjustment Purple : 0
Hue Adjustment Magenta : 0
Saturation Adjustment Red : 0
Saturation Adjustment Orange : -10
Saturation Adjustment Yellow : -10
Saturation Adjustment Green : -57
Saturation Adjustment Aqua : -53
Saturation Adjustment Blue : -40
Saturation Adjustment Purple : +16
Saturation Adjustment Magenta : 0
Luminance Adjustment Red : +13
Luminance Adjustment Orange : 0
Luminance Adjustment Yellow : -11
Luminance Adjustment Green : +19
Luminance Adjustment Aqua : -19
Luminance Adjustment Blue : -45
Luminance Adjustment Purple : -13
Luminance Adjustment Magenta : 0
Split Toning Shadow Hue : 0
Split Toning Shadow Saturation : 0
Split Toning Highlight Hue : 0
Split Toning Highlight Saturation : 0
Split Toning Balance : 0
Parametric Shadows : -23
Parametric Darks : +13
Parametric Lights : -27
Parametric Highlights : +33
Parametric Shadow Split : 25
Parametric Midtone Split : 50
Parametric Highlight Split : 75
Sharpen Radius : +1.0
Sharpen Detail : 25
Sharpen Edge Masking : 0
Post Crop Vignette Amount : 0
Grain Amount : 0
Luminance Noise Reduction Detail : 50
Color Noise Reduction Detail : 50
Luminance Noise Reduction Contrast : 0
Lens Profile Enable : 1
Lens Manual Distortion Amount : 0
Perspective Vertical : 0
Perspective Horizontal : 0
Perspective Rotate : 0.0
Perspective Scale : 100
Auto Lateral CA : 0
Exposure 2012 : +0.45
Contrast 2012 : +26
Highlights 2012 : +25
Shadows 2012 : +71
Whites 2012 : -13
Blacks 2012 : -41
Clarity 2012 : +58
Convert To Grayscale : False
Tone Curve Name : Medium Contrast
Tone Curve Name 2012 : Linear
Camera Profile : Adobe Standard
Lens Profile Setup : LensDefaults
Lens Profile Name : Adobe (Sony FE 35mm F2.8 ZA)
Lens Profile Filename : SONY (Sony FE 35mm F2.8 ZA) - RAW.lcp
Lens Profile Distortion Scale : 100
Lens Profile Chromatic Aberration Scale : 100
Lens Profile Vignetting Scale : 100
Has Settings : True
Crop Top : 0
Crop Left : 0.003501
Crop Bottom : 1
Crop Right : 0.996499
Crop Angle : 0.214858
Crop Constrain To Warp : 1
Crop Width : 2
Crop Height : 3
Crop Unit : Unknown (3)
Has Crop : True
Already Applied : True
Tone Curve : 0, 0, 32, 22, 64, 56, 128, 128, 192, 196, 255, 255
Tone Curve Red : 0, 0, 255, 255
Tone Curve Green : 0, 0, 255, 255
Tone Curve Blue : 0, 0, 255, 255
Tone Curve PV2012 : 0, 0, 255, 255
Tone Curve PV2012 Red : 0, 0, 255, 255
Tone Curve PV2012 Green : 0, 0, 255, 255
Tone Curve PV2012 Blue : 0, 0, 255, 255
Paint Correction What : Correction
Paint Correction Amount : 1.000000
Paint Correction Active : true
Paint Correction Exposure : 0.000000
Paint Correction Saturation : 0.000000
Paint Correction Contrast : 0.000000
Paint Correction Clarity : 0.000000
Paint Correction Sharpness : 0.000000
Paint Correction Brightness : 0.000000
Paint Correction Toning Hue : 76.000000
Paint Correction Toning Saturation : 0.000000
Paint Correction Exposure 2012 : -0.025000
Paint Correction Contrast 2012 : -0.100000
Paint Correction Highlights 2012 : 0.000000
Paint Correction Shadows 2012 : 0.000000
Paint Correction Clarity 2012 : -0.380000
Paint Correction Luminance Noise : 0.000000
Paint Correction Moire : 0.000000
Paint Correction Temperature : 0.100000
Paint Correction Tint : 0.000000
Paint Correction Mask What : Mask/Paint
Paint Correction Mask Value : 1.000000
Paint Correction Mask Radius : 0.080462
Paint Correction Mask Flow : 0.888889
Paint Correction Mask Center Weight : 0.419401
Gradient Based Corr What : Correction
Gradient Based Corr Amount : 1.000000
Gradient Based Corr Active : true
Gradient Based Corr Exposure : 0.000000
Gradient Based Corr Saturation : 0.100000
Gradient Based Corr Contrast : 0.000000
Gradient Based Corr Clarity : 0.000000
Gradient Based Corr Sharpness : 0.140000
Gradient Based Corr Brightness : 0.000000
Gradient Based Corr Toning Hue : 76.000000
Gradient Based Corr Toning Saturation : 0.000000
Gradient Based Corr Exposure 2012 : -0.150000
Gradient Based Corr Contrast 2012 : 0.100000
Gradient Based Corr Highlights 2012 : -0.390000
Gradient Based Corr Shadows 2012 : -0.420000
Gradient Based Corr Clarity 2012 : 0.200000
Gradient Based Corr Luminance Noise : 0.000000
Gradient Based Corr Moire : 0.000000
Gradient Based Corr Temperature : 0.000000
Gradient Based Corr Tint : 0.000000
Gradient Based Corr Mask What : Mask/Gradient
Gradient Based Corr Mask Value : 1.000000
Gradient Based Corr Mask Zero X : 0.529412
Gradient Based Corr Mask Zero Y : 0.433278
Gradient Based Corr Mask Full X : 0.529412
Gradient Based Corr Mask Full Y : 0.262493
Image Width : 300
Image Height : 169
Bits Per Sample : 8
Color Components : 3
Aperture : 4.0
Image Size : 300x169
Megapixels : 0.051
Scale Factor To 35 mm Equivalent : 1.0
Shutter Speed : 1/160
Circle Of Confusion : 0.030 mm
Field Of View : 54.4 deg
Focal Length : 35.0 mm (35 mm equivalent: 35.0 mm)
Hyperfocal Distance : 10.19 m
Light Value : 10.0
Lens ID : FE 35mm F2.8 ZA