Uber Exif Photo
By-line : Sean A Quigley
Copyright Notice : SAQ-2012-13
Photometric Interpretation : RGB
Make : Canon
Camera Model Name : Canon EOS 5D Mark III
Orientation : Horizontal (normal)
Samples Per Pixel : 3
Planar Configuration : Chunky
Software : Adobe Photoshop CS6 (Macintosh)
Modify Date : 2015:11:16 22:58:37
Artist : Sean A Quigley
Copyright : SAQ-2012-13
Exposure Time : 1/125
F Number : 6.3
Exposure Program : Program AE
ISO : 200
Date/Time Original : 2013:02:14 15:47:46
Create Date : 2013:02:14 15:47:46
Shutter Speed Value : 1/125
Aperture Value : 6.3
Exposure Compensation : 0
Max Aperture Value : 4.0
Metering Mode : Multi-segment
Flash : Off, Did not fire
Focal Length : 55.0 mm
Color Space : sRGB
Exif Image Width : 2400
Exif Image Height : 3600
Exposure Mode : Auto
White Balance : Auto
Scene Capture Type : Standard
Serial Number : 043023018242
Lens Info : 24-105mm f/?
Lens Model : EF24-105mm f/4L IS USM
Lens Serial Number : 0000139569
Profile Description : sRGB IEC61966-2.1
Firmware : 1.1.3
Flash Compensation : 0
Image Number : 0
Lens : EF24-105mm f/4L IS USM
Creator Tool : Adobe Photoshop Lightroom 6.2.1 (Macintosh)
Date Created : 2013:02:14 15:47:46
Color Mode : RGB
ICC Profile Name : sRGB IEC61966-2.1
Photographic Sensitivity : 200
Format : image/jpeg
Version : 9.2
Process Version : 6.7
Auto White Version : 134348800
Incremental Temperature : 0
Incremental Tint : 0
Saturation : 0
Sharpness : 0
Luminance Smoothing : 0
Color Noise Reduction : 0
Vignette Amount : 0
Shadow Tint : 0
Red Hue : 0
Red Saturation : 0
Green Hue : 0
Green Saturation : 0
Blue Hue : 0
Blue Saturation : 0
Vibrance : 0
Hue Adjustment Red : 0
Hue Adjustment Orange : 0
Hue Adjustment Yellow : 0
Hue Adjustment Green : 0
Hue Adjustment Aqua : 0
Hue Adjustment Blue : 0
Hue Adjustment Purple : 0
Hue Adjustment Magenta : 0
Saturation Adjustment Red : +18
Saturation Adjustment Orange : +24
Saturation Adjustment Yellow : +15
Saturation Adjustment Green : +24
Saturation Adjustment Aqua : +3
Saturation Adjustment Blue : +75
Saturation Adjustment Purple : 0
Saturation Adjustment Magenta : 0
Luminance Adjustment Red : 0
Luminance Adjustment Orange : 0
Luminance Adjustment Yellow : 0
Luminance Adjustment Green : 0
Luminance Adjustment Aqua : 0
Luminance Adjustment Blue : 0
Luminance Adjustment Purple : 0
Luminance Adjustment Magenta : 0
Split Toning Shadow Hue : 0
Split Toning Shadow Saturation : 0
Split Toning Highlight Hue : 0
Split Toning Highlight Saturation : 0
Split Toning Balance : 0
Parametric Shadows : 0
Parametric Darks : 0
Parametric Lights : 0
Parametric Highlights : 0
Parametric Shadow Split : 25
Parametric Midtone Split : 50
Parametric Highlight Split : 75
Sharpen Radius : +1.0
Sharpen Detail : 25
Sharpen Edge Masking : 0
Post Crop Vignette Amount : 0
Grain Amount : 0
Lens Profile Enable : 0
Lens Manual Distortion Amount : 0
Perspective Vertical : 0
Perspective Horizontal : 0
Perspective Rotate : 0.0
Perspective Scale : 100
Perspective Aspect : 0
Perspective Upright : Off
Auto Lateral CA : 0
Exposure 2012 : 0.00
Contrast 2012 : 0
Highlights 2012 : +3
Shadows 2012 : 0
Whites 2012 : 0
Blacks 2012 : +33
Clarity 2012 : 0
Defringe Purple Amount : 0
Defringe Purple Hue Lo : 30
Defringe Purple Hue Hi : 70
Defringe Green Amount : 0
Defringe Green Hue Lo : 40
Defringe Green Hue Hi : 60
Dehaze : 0
Tone Map Strength : 0
Convert To Grayscale : False
Tone Curve Name : Linear
Tone Curve Name 2012 : Linear
Camera Profile : Embedded
Lens Profile Setup : LensDefaults
Has Settings : True
Has Crop : False
Already Applied : True
Creator : Sean A Quigley
Rights : SAQ-2012-13
Tone Curve : 0, 0, 255, 255
Tone Curve Red : 0, 0, 255, 255
Tone Curve Green : 0, 0, 255, 255
Tone Curve Blue : 0, 0, 255, 255
Tone Curve PV2012 : 0, 0, 255, 255
Tone Curve PV2012 Red : 0, 0, 255, 255
Tone Curve PV2012 Green : 0, 0, 255, 255
Tone Curve PV2012 Blue : 0, 0, 255, 255
Image Width : 200
Image Height : 300
Bits Per Sample : 8
Color Components : 3
Aperture : 6.3
Image Size : 200x300
Megapixels : 0.060
Scale Factor To 35 mm Equivalent : 1.6
Shutter Speed : 1/125
Date/Time Original : 2013:02:14 15:47:46.53
Circle Of Confusion : 0.019 mm
Field Of View : 23.1 deg
Focal Length : 55.0 mm (35 mm equivalent: 88.0 mm)
Hyperfocal Distance : 25.57 m
Light Value : 11.3
Lens ID : Canon EF 24-105mm f/4L IS USM