Uber Exif Photo
By-line : unknown
Make : Canon
Camera Model Name : Canon EOS DIGITAL REBEL XTi
Orientation : Horizontal (normal)
Software : ACD Systems Digital Imaging
Modify Date : 2008:06:13 20:27:10
Artist : unknown
Exposure Time : 1/60
F Number : 5.6
Exposure Program : Program AE
ISO : 800
Date/Time Original : 2007:09:08 12:31:46
Create Date : 2007:09:08 12:31:46
Shutter Speed Value : 1/60
Aperture Value : 5.6
Exposure Compensation : 0
Max Aperture Value : 5.6
Metering Mode : Multi-segment
Focal Length : 64.0 mm
Color Space : Unknown ()
Exif Image Width : 275
Exif Image Height : 600
Custom Rendered : Normal
Exposure Mode : Auto
White Balance : Auto
Scene Capture Type : Standard
Profile Description : Adobe RGB (1998)
Date/Time Digitized : 2007:09:08 12:31:46.0-5:00
Flash Fired : False
Flash Return : No return detection
Flash Mode : Off
Flash Function : False
Flash Red Eye Mode : False
Rating : 0
Creator Tool : Adobe Photoshop CS3 Windows
Format : image/jpeg
Creator : unknown
Serial Number : 420130104
Lens Info : 17-85mm f/?
Lens : EF-S17-85mm f/4-5.6 IS USM
Image Number : 80
Flash Compensation : 0
Owner Name : unknown
Firmware : 1.0.5
Version : 4.2
Raw File Name : _MG_3397.CR2
Color Temperature : 4550
Tint : -1
Exposure : -0.10
Shadows : 25
Brightness : +50
Contrast : +31
Saturation : +18
Sharpness : 25
Luminance Smoothing : 0
Color Noise Reduction : 25
Chromatic Aberration R : 0
Chromatic Aberration B : 0
Vignette Amount : 0
Shadow Tint : 0
Red Hue : 0
Red Saturation : 0
Green Hue : 0
Green Saturation : 0
Blue Hue : 0
Blue Saturation : 0
Fill Light : 42
Vibrance : 0
Highlight Recovery : 0
Clarity : 0
Defringe : 0
Hue Adjustment Red : 0
Hue Adjustment Orange : 0
Hue Adjustment Yellow : 0
Hue Adjustment Green : 0
Hue Adjustment Aqua : 0
Hue Adjustment Blue : 0
Hue Adjustment Purple : 0
Hue Adjustment Magenta : 0
Saturation Adjustment Red : 0
Saturation Adjustment Orange : 0
Saturation Adjustment Yellow : 0
Saturation Adjustment Green : 0
Saturation Adjustment Aqua : 0
Saturation Adjustment Blue : 0
Saturation Adjustment Purple : 0
Saturation Adjustment Magenta : 0
Luminance Adjustment Red : 0
Luminance Adjustment Orange : 0
Luminance Adjustment Yellow : 0
Luminance Adjustment Green : 0
Luminance Adjustment Aqua : 0
Luminance Adjustment Blue : 0
Luminance Adjustment Purple : 0
Luminance Adjustment Magenta : 0
Split Toning Shadow Hue : 0
Split Toning Shadow Saturation : 0
Split Toning Highlight Hue : 0
Split Toning Highlight Saturation : 0
Split Toning Balance : 0
Parametric Shadows : 0
Parametric Darks : 0
Parametric Lights : 0
Parametric Highlights : 0
Parametric Shadow Split : 25
Parametric Midtone Split : 50
Parametric Highlight Split : 75
Sharpen Radius : +1.0
Sharpen Detail : 25
Sharpen Edge Masking : 0
Convert To Grayscale : False
Tone Curve Name : Medium Contrast
Camera Profile : ACR 3.6
Has Settings : True
Has Crop : False
Already Applied : True
Tone Curve : 0, 0, 32, 22, 64, 56, 128, 128, 192, 196, 255, 255
Color Mode : RGB
ICC Profile Name : Adobe RGB (1998)
Derived From :
Image Width : 138
Image Height : 300
Bits Per Sample : 8
Color Components : 3
Aperture : 5.6
Image Size : 138x300
Megapixels : 0.041
Scale Factor To 35 mm Equivalent : 1.6
Shutter Speed : 1/60
Create Date : 2007:09:08 12:31:46.0
Date/Time Original : 2007:09:08 12:31:46.0
Modify Date : 2008:06:13 20:27:10.62
Flash : Off, Did not fire
Circle Of Confusion : 0.019 mm
Field Of View : 19.7 deg
Focal Length : 64.0 mm (35 mm equivalent: 103.6 mm)
Hyperfocal Distance : 39.40 m
Light Value : 7.9
Lens ID : EF-S17-85mm f/4-5.6 IS USM