Uber Exif Photo
By-line : Hunter Peress Photography
Caption-Abstract : Hunter Peress Photography
Copyright Notice : Hunter Peress Photography
Keywords : Hunter Peress Photography
Object Name : Hunter Peress Photography
Image Description : Hunter Peress Photography
Make : SONY
Camera Model Name : ILCE-6000
Orientation : Horizontal (normal)
Software : Adobe Photoshop Lightroom 6.3 (Macintosh)
Modify Date : 2015:11:19 16:36:32
Artist : Hunter Peress Photography
Copyright : Hunter Peress Photography
Exposure Time : 1/50
F Number : 6.3
Exposure Program : Manual
ISO : 1600
Sensitivity Type : Recommended Exposure Index
Recommended Exposure Index : 1600
Date/Time Original : 2015:11:19 02:39:31
Create Date : 2015:11:19 02:39:31
Shutter Speed Value : 1/50
Aperture Value : 6.3
Brightness Value : -3.21328125
Exposure Compensation : 0
Max Aperture Value : 5.6
Metering Mode : Multi-segment
Light Source : Unknown
Flash : Off, Did not fire
Focal Length : 104.0 mm
User Comment : Hunter Peress Photography
Color Space : sRGB
Exif Image Width : 2000
Exif Image Height : 1333
Scene Type : Directly photographed
Custom Rendered : Normal
Exposure Mode : Manual
White Balance : Auto
Digital Zoom Ratio : 1
Focal Length In 35mm Format : 156 mm
Scene Capture Type : Standard
Contrast : Normal
Saturation : Normal
Sharpness : Normal
Lens Info : 55-210mm f/4.5-6.3
Lens Model : E 55-210mm F4.5-6.3 OSS
Sharpen Detail : 25
Blacks 2012 : 0
Luminance Adjustment Orange : 0
Hue Adjustment Yellow : 0
Saturation Adjustment Blue : 0
Parametric Highlight Split : 75
Lens Profile Enable : 0
Split Toning Shadow Saturation : 0
Convert To Grayscale : False
Contrast 2012 : 0
Highlights 2012 : -47
Split Toning Highlight Hue : 0
Saturation Adjustment Aqua : 0
Perspective Scale : 100
Perspective Vertical : 0
Parametric Shadow Split : 25
Luminance Adjustment Green : 0
Perspective Rotate : 0.0
Split Toning Shadow Hue : 0
Luminance Adjustment Yellow : 0
Shadows 2012 : 0
Lens Profile Setup : LensDefaults
Whites 2012 : 0
Perspective Horizontal : 0
Camera Profile : Adobe Standard
Saturation Adjustment Yellow : 0
Parametric Midtone Split : 50
Parametric Highlights : 0
Defringe Green Amount : 0
Parametric Darks : 0
Sharpen Radius : +1.0
Vibrance : +75
Shadow Tint : 0
Has Crop : False
Luminance Smoothing : 0
Tone Curve Name 2012 : Linear
Split Toning Highlight Saturation : 0
Defringe Purple Hue Hi : 70
Saturation Adjustment Orange : 0
Sharpen Edge Masking : 0
Color Temperature : 3000
Hue Adjustment Green : 0
Vignette Amount : 0
Blue Saturation : 0
Red Saturation : 0
Red Hue : 0
Parametric Lights : 0
Split Toning Balance : 0
Hue Adjustment Purple : 0
Dehaze : 0
Tone Curve Name : Linear
Color Noise Reduction Smoothness : 50
Exposure 2012 : +2.00
Color Noise Reduction Detail : 50
Saturation Adjustment Green : 0
Hue Adjustment Blue : 0
Luminance Adjustment Purple : 0
Perspective Aspect : 0
Perspective Upright : Off
Parametric Shadows : 0
Post Crop Vignette Amount : 0
Blue Hue : 0
Clarity 2012 : +22
Grain Amount : 0
Auto Lateral CA : 0
Hue Adjustment Aqua : 0
Process Version : 6.7
Tint : +11
Already Applied : True
Auto White Version : 134348800
Luminance Adjustment Blue : 0
Tone Map Strength : 0
Luminance Adjustment Red : 0
Color Noise Reduction : 25
Green Hue : 0
Hue Adjustment Magenta : 0
Has Settings : True
Saturation Adjustment Red : 0
Hue Adjustment Red : 0
Hue Adjustment Orange : 0
Lens Manual Distortion Amount : 0
Green Saturation : 0
Defringe Purple Hue Lo : 30
Defringe Green Hue Hi : 60
Saturation Adjustment Purple : 0
Saturation Adjustment Magenta : 0
Luminance Adjustment Aqua : 0
Version : 9.3
Defringe Green Hue Lo : 40
Defringe Purple Amount : 0
Luminance Adjustment Magenta : 0
Label : Hunter Peress Photography
Creator Tool : Adobe Photoshop Lightroom 6.3 (Macintosh)
Web Statement : http://www.huntershoots.com
Marked : True
Format : image/jpeg
Source : Hunter Peress Photography
Headline : Hunter Peress Photography
Credit : Hunter Peress Photography
Date Created : 2015:11:19 02:39:31
Lens Distort Info : 1047169721/1073741824 26021136/1073741824 254935/1073741824 277255/1073741824
Lens : E 55-210mm F4.5-6.3 OSS
Tone Curve Blue : 0, 0, 255, 255
Tone Curve Green : 0, 0, 255, 255
Paint Correction Defringe : 0.000000
Paint Correction Toning Hue : 0.000000
Paint Correction Contrast 2012 : 0.000000
Paint Correction Tint : 0.000000
Paint Correction Whites 2012 : 0.000000
Paint Correction Luminance Noise : 0.000000
Paint Correction Highlights 2012 : -0.604651
Paint Correction Brightness : 0.000000
Paint Correction Toning Saturation : 0.000000
Paint Correction Active : true
Paint Correction Saturation : 0.000000
Paint Correction Dehaze : 0.000000
Paint Correction Amount : 1.000000
Paint Correction Sharpness : -1.000000
Paint Correction Clarity 2012 : -1.000000
Paint Correction Moire : 0.000000
Paint Correction Exposure 2012 : -0.581395
Paint Correction Shadows 2012 : 0.000000
Paint Correction What : Correction
Paint Correction Blacks 2012 : 0.000000
Paint Correction Temperature : 0.511628
Paint Correction Mask What : Mask/Paint
Paint Correction Mask Radius : 0.137182
Paint Correction Mask Value : 0.321467
Paint Correction Mask Flow : 1.000000
Paint Correction Mask Center Weight : 0.022916
Tone Curve PV2012 Red : 0, 0, 255, 255
Tone Curve PV2012 : 0, 0, 255, 255
Tone Curve : 0, 0, 255, 255
Tone Curve Red : 0, 0, 255, 255
Tone Curve PV2012 Green : 0, 0, 255, 255
Tone Curve PV2012 Blue : 0, 0, 255, 255
Subject : Hunter Peress Photography
Creator : Hunter Peress Photography
Title : Hunter Peress Photography
Rights : Hunter Peress Photography
Description : Hunter Peress Photography
Image Width : 300
Image Height : 200
Bits Per Sample : 8
Color Components : 3
Aperture : 6.3
Image Size : 300x200
Megapixels : 0.060
Scale Factor To 35 mm Equivalent : 1.5
Shutter Speed : 1/50
Circle Of Confusion : 0.020 mm
Field Of View : 13.2 deg
Focal Length : 104.0 mm (35 mm equivalent: 156.0 mm)
Hyperfocal Distance : 85.71 m
Light Value : 7.0
Lens ID : E 55-210mm F4.5-6.3 OSS