Uber Exif Photo
Photometric Interpretation : RGB
Make : SONY
Camera Model Name : ILCE-6000
Orientation : Horizontal (normal)
Samples Per Pixel : 3
Software : Adobe Photoshop CC 2015 (Windows)
Modify Date : 2015:11:21 13:11:54
Exposure Time : 1/320
F Number : 5.0
Exposure Program : Manual
ISO : 125
Sensitivity Type : Recommended Exposure Index
Recommended Exposure Index : 125
Date/Time Original : 2015:03:22 22:05:24
Create Date : 2015:03:22 22:05:24
Shutter Speed Value : 1/320
Aperture Value : 5.0
Brightness Value : 7.5328125
Exposure Compensation : 0
Max Aperture Value : 5.0
Metering Mode : Multi-segment
Light Source : Unknown
Flash : Off, Did not fire
Focal Length : 30.0 mm
Color Space : sRGB
Exif Image Width : 2556
Exif Image Height : 1701
Scene Type : Directly photographed
Custom Rendered : Normal
Exposure Mode : Auto bracket
White Balance : Auto
Digital Zoom Ratio : 1
Focal Length In 35mm Format : 45 mm
Scene Capture Type : Standard
Contrast : Normal
Saturation : Normal
Sharpness : Normal
Lens Info : 16-50mm f/3.5-5.6
Lens Model : E PZ 16-50mm F3.5-5.6 OSS
Profile Description : sRGB IEC61966-2.1
Lens : E PZ 16-50mm F3.5-5.6 OSS
Method : Details Enhancer
Strength : 70.0
Color Saturation : 56.0
Luminosity : 0.0
White Clip : 0.250000
Black Clip : 0.000000
Smoothing Mode : Slider
Smoothing : 0.0
Microcontrast : 0.0
Microsmoothing : 10.3
Gamma : 1.15
Highlights Smoothing : 0.0
Shadows Smoothing : 0.0
Shadows Clipping : 0.0
Color Temperature : 0.0
Saturation Highlights : 0.0
Saturation Shadows : 0.0
Is Pano 360 : No
Date Created : 2015:03:22 22:05:24
Color Mode : RGB
ICC Profile Name : sRGB IEC61966-2.1
Creator Tool : Adobe Photoshop Lightroom 5.6 (Windows)
Format : image/jpeg
Version : 8.6
Process Version : 6.7
Auto White Version : 134348800
Incremental Temperature : 0
Incremental Tint : 0
Luminance Smoothing : 12
Color Noise Reduction : 0
Vignette Amount : 0
Shadow Tint : 0
Red Hue : 0
Red Saturation : 0
Green Hue : 0
Green Saturation : 0
Blue Hue : 0
Blue Saturation : 0
Vibrance : +24
Hue Adjustment Red : 0
Hue Adjustment Orange : 0
Hue Adjustment Yellow : 0
Hue Adjustment Green : 0
Hue Adjustment Aqua : 0
Hue Adjustment Blue : 0
Hue Adjustment Purple : 0
Hue Adjustment Magenta : 0
Saturation Adjustment Red : 0
Saturation Adjustment Orange : 0
Saturation Adjustment Yellow : 0
Saturation Adjustment Green : 0
Saturation Adjustment Aqua : 0
Saturation Adjustment Blue : 0
Saturation Adjustment Purple : 0
Saturation Adjustment Magenta : 0
Luminance Adjustment Red : 0
Luminance Adjustment Orange : 0
Luminance Adjustment Yellow : 0
Luminance Adjustment Green : 0
Luminance Adjustment Aqua : 0
Luminance Adjustment Blue : 0
Luminance Adjustment Purple : 0
Luminance Adjustment Magenta : 0
Split Toning Shadow Hue : 0
Split Toning Shadow Saturation : 0
Split Toning Highlight Hue : 0
Split Toning Highlight Saturation : 0
Split Toning Balance : 0
Parametric Shadows : 0
Parametric Darks : 0
Parametric Lights : 0
Parametric Highlights : 0
Parametric Shadow Split : 25
Parametric Midtone Split : 50
Parametric Highlight Split : 75
Sharpen Radius : +1.0
Sharpen Detail : 25
Sharpen Edge Masking : 0
Post Crop Vignette Amount : 0
Grain Amount : 0
Luminance Noise Reduction Detail : 50
Luminance Noise Reduction Contrast : 0
Lens Profile Enable : 0
Lens Manual Distortion Amount : 0
Perspective Vertical : 0
Perspective Horizontal : 0
Perspective Rotate : 0.0
Perspective Scale : 100
Perspective Aspect : 0
Perspective Upright : Off
Auto Lateral CA : 0
Exposure 2012 : 0.00
Contrast 2012 : +29
Highlights 2012 : -45
Shadows 2012 : 0
Whites 2012 : 0
Blacks 2012 : 0
Clarity 2012 : +14
Defringe Purple Amount : 0
Defringe Purple Hue Lo : 30
Defringe Purple Hue Hi : 70
Defringe Green Amount : 0
Defringe Green Hue Lo : 40
Defringe Green Hue Hi : 60
Convert To Grayscale : False
Tone Curve Name : Linear
Tone Curve Name 2012 : Linear
Camera Profile : Embedded
Lens Profile Setup : LensDefaults
Has Settings : True
Has Crop : False
Already Applied : True
Tone Curve : 0, 0, 255, 255
Tone Curve Red : 0, 0, 255, 255
Tone Curve Green : 0, 0, 255, 255
Tone Curve Blue : 0, 0, 255, 255
Tone Curve PV2012 : 0, 0, 255, 255
Tone Curve PV2012 Red : 0, 0, 255, 255
Tone Curve PV2012 Green : 0, 0, 255, 255
Tone Curve PV2012 Blue : 0, 0, 255, 255
Image Width : 300
Image Height : 200
Bits Per Sample : 8
Color Components : 3
Aperture : 5.0
Image Size : 300x200
Megapixels : 0.060
Scale Factor To 35 mm Equivalent : 1.5
Shutter Speed : 1/320
Circle Of Confusion : 0.020 mm
Field Of View : 43.6 deg
Focal Length : 30.0 mm (35 mm equivalent: 45.0 mm)
Hyperfocal Distance : 8.99 m
Light Value : 12.6
Lens ID : E PZ 16-50mm F3.5-5.6 OSS