Uber Exif Photo
Photometric Interpretation : RGB
Make : SONY
Camera Model Name : ILCE-7R
Orientation : Horizontal (normal)
Samples Per Pixel : 3
Software : Adobe Photoshop CS6 (Windows)
Modify Date : 2015:09:05 12:37:03
Exposure Time : 1/640
Exposure Program : Aperture-priority AE
ISO : 100
Sensitivity Type : Recommended Exposure Index
Recommended Exposure Index : 100
Date/Time Original : 2015:08:30 18:36:08
Create Date : 2015:08:30 18:36:08
Shutter Speed Value : 1/640
Brightness Value : 2.1578125
Exposure Compensation : -1.3
Max Aperture Value : 1.0
Metering Mode : Multi-segment
Light Source : Unknown
Flash : Off, Did not fire
Color Space : sRGB
Exif Image Width : 2000
Exif Image Height : 1335
Scene Type : Directly photographed
Custom Rendered : Normal
Exposure Mode : Auto
White Balance : Auto
Digital Zoom Ratio : 1
Scene Capture Type : Standard
Contrast : Normal
Saturation : Normal
Sharpness : Normal
Lens Model : ----
Profile Description : sRGB IEC61966-2.1
Creator Tool : Adobe Photoshop CS6 (Windows)
Lens : ----
Date Created : 2015:08:30 18:36:08
Color Mode : RGB
ICC Profile Name : sRGB IEC61966-2.1
Format : image/jpeg
Version : 8.6
Process Version : 6.7
Auto White Version : 134348800
Color Temperature : 3650
Tint : +8
Luminance Smoothing : 17
Color Noise Reduction : 25
Vignette Amount : 0
Shadow Tint : +7
Red Hue : +4
Red Saturation : 0
Green Hue : +12
Green Saturation : 0
Blue Hue : -19
Blue Saturation : +14
Vibrance : +33
Hue Adjustment Red : +5
Hue Adjustment Orange : +9
Hue Adjustment Yellow : -9
Hue Adjustment Green : 0
Hue Adjustment Aqua : 0
Hue Adjustment Blue : +31
Hue Adjustment Purple : +10
Hue Adjustment Magenta : +22
Saturation Adjustment Red : +5
Saturation Adjustment Orange : +40
Saturation Adjustment Yellow : -29
Saturation Adjustment Green : -38
Saturation Adjustment Aqua : -20
Saturation Adjustment Blue : -9
Saturation Adjustment Purple : -22
Saturation Adjustment Magenta : -20
Luminance Adjustment Red : -5
Luminance Adjustment Orange : +11
Luminance Adjustment Yellow : +18
Luminance Adjustment Green : +4
Luminance Adjustment Aqua : +20
Luminance Adjustment Blue : +7
Luminance Adjustment Purple : 0
Luminance Adjustment Magenta : +10
Split Toning Shadow Hue : 39
Split Toning Shadow Saturation : 8
Split Toning Highlight Hue : 283
Split Toning Highlight Saturation : 15
Split Toning Balance : 0
Parametric Shadows : -26
Parametric Darks : -11
Parametric Lights : +48
Parametric Highlights : -13
Parametric Shadow Split : 20
Parametric Midtone Split : 40
Parametric Highlight Split : 85
Sharpen Radius : +1.0
Sharpen Detail : 25
Sharpen Edge Masking : 17
Post Crop Vignette Amount : 0
Grain Amount : 0
Luminance Noise Reduction Detail : 50
Color Noise Reduction Detail : 50
Luminance Noise Reduction Contrast : 0
Color Noise Reduction Smoothness : 50
Lens Profile Enable : 0
Lens Manual Distortion Amount : 0
Perspective Vertical : 0
Perspective Horizontal : 0
Perspective Rotate : 0.0
Perspective Scale : 100
Perspective Aspect : 0
Perspective Upright : Off
Auto Lateral CA : 1
Exposure 2012 : +0.10
Contrast 2012 : +10
Highlights 2012 : -88
Shadows 2012 : +26
Whites 2012 : +45
Blacks 2012 : +100
Clarity 2012 : +21
Defringe Purple Amount : 0
Defringe Purple Hue Lo : 30
Defringe Purple Hue Hi : 70
Defringe Green Amount : 0
Defringe Green Hue Lo : 40
Defringe Green Hue Hi : 60
Convert To Grayscale : False
Tone Curve Name : Linear
Tone Curve Name 2012 : Custom
Camera Profile : Adobe Standard
Lens Profile Setup : LensDefaults
Has Settings : True
Has Crop : False
Already Applied : True
Tone Curve : 0, 0, 255, 255
Tone Curve Red : 0, 0, 255, 255
Tone Curve Green : 0, 0, 255, 255
Tone Curve Blue : 0, 0, 255, 255
Tone Curve PV2012 : 2, 3, 255, 255
Tone Curve PV2012 Red : 5, 0, 51, 44, 88, 79, 106, 100, 127, 121, 152, 144, 183, 173, 219, 212, 255, 248
Tone Curve PV2012 Green : 1, 0, 35, 34, 59, 56, 77, 75, 126, 126, 195, 192, 255, 250
Tone Curve PV2012 Blue : 0, 0, 31, 31, 55, 51, 99, 100, 127, 123, 198, 194, 230, 229, 255, 252
Image Width : 300
Image Height : 200
Bits Per Sample : 8
Color Components : 3
Image Size : 300x200
Megapixels : 0.060
Scale Factor To 35 mm Equivalent : 3.7
Shutter Speed : 1/640
Circle Of Confusion : 0.008 mm