Uber Exif Photo
Copyright Notice : Copyright Austin Troth 2014
Copyright Flag : True
Photometric Interpretation : RGB
Make : SONY
Camera Model Name : DSC-RX100
Orientation : Horizontal (normal)
Samples Per Pixel : 3
Software : Adobe Photoshop CS6 (Windows)
Modify Date : 2014:04:24 10:20:38
Copyright : Copyright Austin Troth 2014
Exposure Time : 1/500
F Number : 6.3
Exposure Program : Aperture-priority AE
ISO : 125
Sensitivity Type : Recommended Exposure Index
Recommended Exposure Index : 125
Date/Time Original : 2013:03:06 17:50:11
Create Date : 2013:03:06 17:50:11
Shutter Speed Value : 1/500
Aperture Value : 6.3
Brightness Value : 9.509375
Exposure Compensation : 0
Max Aperture Value : 4.9
Metering Mode : Multi-segment
Light Source : Unknown
Flash : Off, Did not fire
Focal Length : 37.1 mm
Color Space : sRGB
Exif Image Width : 2000
Exif Image Height : 1333
Scene Type : Directly photographed
Custom Rendered : Normal
Exposure Mode : Auto
White Balance : Auto
Digital Zoom Ratio : 1
Focal Length In 35mm Format : 100 mm
Scene Capture Type : Standard
Contrast : Normal
Saturation : Normal
Sharpness : Normal
Lens Info : 10.4-37.1mm f/1.8-4.9
Lens Model : 28-100mm F1.8-4.9
Profile Description : sRGB IEC61966-2.1
Creator Tool : Adobe Photoshop Lightroom 5.0 (Windows)
Lens : 28-100mm F1.8-4.9
Date Created : 2013:03:06 17:50:11
Color Mode : RGB
ICC Profile Name : sRGB IEC61966-2.1
Marked : True
Format : image/jpeg
Version : 8.2
Process Version : 6.7
Auto White Version : 134348800
Color Temperature : 5810
Tint : +32
Luminance Smoothing : 23
Color Noise Reduction : 27
Vignette Amount : 0
Shadow Tint : 0
Red Hue : +4
Red Saturation : -5
Green Hue : 0
Green Saturation : 0
Blue Hue : 0
Blue Saturation : 0
Vibrance : +12
Hue Adjustment Red : +8
Hue Adjustment Orange : 0
Hue Adjustment Yellow : +13
Hue Adjustment Green : 0
Hue Adjustment Aqua : +44
Hue Adjustment Blue : +9
Hue Adjustment Purple : -5
Hue Adjustment Magenta : +20
Saturation Adjustment Red : -4
Saturation Adjustment Orange : -18
Saturation Adjustment Yellow : -10
Saturation Adjustment Green : -2
Saturation Adjustment Aqua : -24
Saturation Adjustment Blue : +4
Saturation Adjustment Purple : -30
Saturation Adjustment Magenta : -20
Luminance Adjustment Red : -2
Luminance Adjustment Orange : +22
Luminance Adjustment Yellow : -5
Luminance Adjustment Green : -9
Luminance Adjustment Aqua : +10
Luminance Adjustment Blue : -22
Luminance Adjustment Purple : +20
Luminance Adjustment Magenta : +10
Split Toning Shadow Hue : 236
Split Toning Shadow Saturation : 0
Split Toning Highlight Hue : 60
Split Toning Highlight Saturation : 0
Split Toning Balance : 0
Parametric Shadows : -13
Parametric Darks : +20
Parametric Lights : +44
Parametric Highlights : +34
Parametric Shadow Split : 20
Parametric Midtone Split : 42
Parametric Highlight Split : 74
Sharpen Radius : +1.5
Sharpen Detail : 25
Sharpen Edge Masking : 35
Post Crop Vignette Amount : -2
Post Crop Vignette Midpoint : 50
Post Crop Vignette Feather : 50
Post Crop Vignette Roundness : 0
Post Crop Vignette Style : Highlight Priority
Post Crop Vignette Highlight Contrast : 0
Grain Amount : 0
Luminance Noise Reduction Detail : 50
Color Noise Reduction Detail : 50
Luminance Noise Reduction Contrast : 0
Color Noise Reduction Smoothness : 50
Lens Profile Enable : 0
Lens Manual Distortion Amount : 0
Perspective Vertical : 0
Perspective Horizontal : 0
Perspective Rotate : 0.0
Perspective Scale : 100
Perspective Aspect : 0
Perspective Upright : Off
Auto Lateral CA : 0
Exposure 2012 : 0.00
Contrast 2012 : 0
Highlights 2012 : -21
Shadows 2012 : +26
Whites 2012 : +48
Blacks 2012 : +29
Clarity 2012 : +14
Defringe Purple Amount : 0
Defringe Purple Hue Lo : 30
Defringe Purple Hue Hi : 70
Defringe Green Amount : 0
Defringe Green Hue Lo : 40
Defringe Green Hue Hi : 60
Convert To Grayscale : False
Tone Curve Name 2012 : Custom
Camera Profile : Adobe Standard
Lens Profile Setup : LensDefaults
Has Settings : True
Crop Top : 0
Crop Left : 0.020431
Crop Bottom : 0.959137
Crop Right : 0.979569
Crop Angle : 0
Crop Constrain To Warp : 0
Has Crop : True
Already Applied : True
Rights : Copyright Austin Troth 2014
Tone Curve PV2012 : 0, 4, 255, 255
Tone Curve PV2012 Red : 8, 2, 67, 62, 167, 152, 255, 255
Tone Curve PV2012 Green : 5, 0, 64, 60, 178, 171, 255, 255
Tone Curve PV2012 Blue : 0, 0, 56, 51, 122, 118, 201, 196, 255, 255
Image Width : 300
Image Height : 200
Bits Per Sample : 8
Color Components : 3
Aperture : 6.3
Image Size : 300x200
Megapixels : 0.060
Scale Factor To 35 mm Equivalent : 2.7
Shutter Speed : 1/500
Circle Of Confusion : 0.011 mm
Field Of View : 20.4 deg
Focal Length : 37.1 mm (35 mm equivalent: 100.0 mm)
Hyperfocal Distance : 19.60 m
Light Value : 14.0
Lens ID : 28-100mm F1.8-4.9