Uber Exif Photo
Camera Model Name : ILCE-6000
Orientation : Horizontal (normal)
Software : Adobe Photoshop Lightroom 6.0 (Macintosh)
Modify Date : 2015:11:21 20:10:56
Exposure Time : 1/640
F Number : 3.5
ISO : 100
Date/Time Original : 2015:01:07 07:39:19
Create Date : 2015:01:07 07:39:19
Shutter Speed Value : 1/640
Aperture Value : 3.5
Focal Length : 16.0 mm
Lens Info : 16-50mm f/3.5-5.6
Lens Model : E PZ 16-50mm F3.5-5.6 OSS
Profile Description : sRGB IEC61966-2.1
Method : Details Enhancer
Strength : 90.1
Color Saturation : 80.3
Luminosity : -2.0
White Clip : 0.250000
Black Clip : 0.009765
Smoothing Mode : Slider
Smoothing : 0.0
Microcontrast : 0.0
Microsmoothing : 1.0
Gamma : 1.20
Highlights Smoothing : 0.0
Shadows Smoothing : 0.0
Shadows Clipping : 0.0
Color Temperature : -1.0
Saturation Highlights : 0.0
Saturation Shadows : 0.0
Is Pano 360 : No
Creator Tool : Adobe Photoshop Lightroom 6.0 (Macintosh)
Lens : E PZ 16-50mm F3.5-5.6 OSS
Lens Distort Info : 34347/32768 -197247822/1073741824 103894550/1073741824 -36093728/1073741824
Date Created : 2015:01:07 07:39:19
Format : image/jpeg
Version : 9.0
Process Version : 6.7
White Balance : Custom
Auto White Version : 134348800
Incremental Temperature : -21
Incremental Tint : -8
Saturation : 0
Sharpness : 10
Luminance Smoothing : 40
Color Noise Reduction : 0
Vignette Amount : 0
Shadow Tint : 0
Red Hue : 0
Red Saturation : 0
Green Hue : 0
Green Saturation : 0
Blue Hue : 0
Blue Saturation : 0
Vibrance : -20
Hue Adjustment Red : 0
Hue Adjustment Orange : 0
Hue Adjustment Yellow : 0
Hue Adjustment Green : 0
Hue Adjustment Aqua : 0
Hue Adjustment Blue : 0
Hue Adjustment Purple : 0
Hue Adjustment Magenta : 0
Saturation Adjustment Red : 0
Saturation Adjustment Orange : 0
Saturation Adjustment Yellow : 0
Saturation Adjustment Green : 0
Saturation Adjustment Aqua : 0
Saturation Adjustment Blue : 0
Saturation Adjustment Purple : 0
Saturation Adjustment Magenta : 0
Luminance Adjustment Red : 0
Luminance Adjustment Orange : 0
Luminance Adjustment Yellow : 0
Luminance Adjustment Green : 0
Luminance Adjustment Aqua : 0
Luminance Adjustment Blue : 0
Luminance Adjustment Purple : 0
Luminance Adjustment Magenta : 0
Split Toning Shadow Hue : 0
Split Toning Shadow Saturation : 0
Split Toning Highlight Hue : 0
Split Toning Highlight Saturation : 0
Split Toning Balance : 0
Parametric Shadows : 0
Parametric Darks : 0
Parametric Lights : 0
Parametric Highlights : 0
Parametric Shadow Split : 25
Parametric Midtone Split : 50
Parametric Highlight Split : 75
Sharpen Radius : +1.0
Sharpen Detail : 25
Sharpen Edge Masking : 0
Post Crop Vignette Amount : 0
Grain Amount : 0
Luminance Noise Reduction Detail : 50
Luminance Noise Reduction Contrast : 0
Lens Profile Enable : 0
Lens Manual Distortion Amount : 0
Perspective Vertical : 0
Perspective Horizontal : 0
Perspective Rotate : -4.3
Perspective Scale : 100
Perspective Aspect : 0
Perspective Upright : Off
Auto Lateral CA : 0
Exposure 2012 : 0.00
Contrast 2012 : +50
Highlights 2012 : -100
Shadows 2012 : +100
Whites 2012 : 0
Blacks 2012 : 0
Clarity 2012 : +30
Defringe Purple Amount : 0
Defringe Purple Hue Lo : 30
Defringe Purple Hue Hi : 70
Defringe Green Amount : 0
Defringe Green Hue Lo : 40
Defringe Green Hue Hi : 60
Convert To Grayscale : False
Tone Curve Name : Linear
Tone Curve Name 2012 : Linear
Camera Profile : Embedded
Lens Profile Setup : LensDefaults
Has Settings : True
Crop Top : 0.106429
Crop Left : 0.049378
Crop Bottom : 0.809569
Crop Right : 0.950622
Crop Angle : 0
Crop Constrain To Warp : 1
Has Crop : True
Already Applied : True
Raw File Name : In Focus by Dmitry Bubis.jpg
Tone Curve : 0, 0, 255, 255
Tone Curve Red : 0, 0, 255, 255
Tone Curve Green : 0, 0, 255, 255
Tone Curve Blue : 0, 0, 255, 255
Tone Curve PV2012 : 0, 0, 255, 255
Tone Curve PV2012 Red : 0, 0, 255, 255
Tone Curve PV2012 Green : 0, 0, 255, 255
Tone Curve PV2012 Blue : 0, 0, 255, 255
Image Width : 300
Image Height : 156
Bits Per Sample : 8
Color Components : 3
Aperture : 3.5
Image Size : 300x156
Megapixels : 0.047
Shutter Speed : 1/640
Light Value : 12.9
Lens ID : E PZ 16-50mm F3.5-5.6 OSS