Uber Exif Photo
Photometric Interpretation : RGB
Make : SONY
Camera Model Name : ILCE-7M2
Orientation : Horizontal (normal)
Samples Per Pixel : 3
Software : Adobe Photoshop CC 2015 (Windows)
Modify Date : 2015:11:22 10:23:48
Exposure Time : 1/320
F Number : 2.8
Exposure Program : Manual
ISO : 200
Date/Time Original : 2014:03:26 05:09:00
Create Date : 2014:03:26 05:09:00
Shutter Speed Value : 1/320
Aperture Value : 2.8
Brightness Value : 5.98984375
Exposure Compensation : 0
Max Aperture Value : 2.8
Metering Mode : Multi-segment
Light Source : Unknown
Flash : On, Did not fire
Focal Length : 35.0 mm
Color Space : sRGB
Exif Image Width : 1400
Exif Image Height : 934
Scene Type : Directly photographed
Exposure Mode : Manual
White Balance : Auto
Digital Zoom Ratio : 1
Focal Length In 35mm Format : 35 mm
Scene Capture Type : Standard
Contrast : Normal
Saturation : Normal
Sharpness : Normal
Lens Info : 35mm f/2.8
Lens Model : FE 35mm F2.8 ZA
Profile Description : sRGB IEC61966-2.1
Lens : FE 35mm F2.8 ZA
Lens Distort Info : 1068960564/1073741824 21721257/1073741824 -24514080/1073741824 -865386/1073741824
Format : image/jpeg
Creator Tool : Adobe Photoshop CC (Windows)
Date Created : 2014:03:26 05:09
Color Mode : RGB
ICC Profile Name : sRGB IEC61966-2.1
Version : 9.1.1
Process Version : 6.7
Auto White Version : 134348800
Incremental Temperature : +32
Incremental Tint : -7
Luminance Smoothing : 15
Color Noise Reduction : 50
Vignette Amount : 0
Shadow Tint : 0
Red Hue : 0
Red Saturation : 0
Green Hue : 0
Green Saturation : 0
Blue Hue : 0
Blue Saturation : 0
Gray Mixer Red : +3
Gray Mixer Orange : +19
Gray Mixer Yellow : -27
Gray Mixer Green : +60
Gray Mixer Aqua : -25
Gray Mixer Blue : -3
Gray Mixer Purple : -36
Gray Mixer Magenta : -39
Split Toning Shadow Hue : 194
Split Toning Shadow Saturation : 0
Split Toning Highlight Hue : 45
Split Toning Highlight Saturation : 41
Split Toning Balance : +18
Parametric Shadows : +26
Parametric Darks : 0
Parametric Lights : -1
Parametric Highlights : -35
Parametric Shadow Split : 25
Parametric Midtone Split : 50
Parametric Highlight Split : 75
Sharpen Radius : +1.0
Sharpen Detail : 37
Sharpen Edge Masking : 0
Post Crop Vignette Amount : -17
Post Crop Vignette Midpoint : 1
Post Crop Vignette Feather : 100
Post Crop Vignette Roundness : +100
Post Crop Vignette Style : Highlight Priority
Post Crop Vignette Highlight Contrast : 35
Grain Amount : 0
Luminance Noise Reduction Detail : 50
Color Noise Reduction Detail : 50
Luminance Noise Reduction Contrast : 0
Color Noise Reduction Smoothness : 50
Lens Profile Enable : 0
Lens Manual Distortion Amount : 0
Perspective Vertical : 0
Perspective Horizontal : 0
Perspective Rotate : 0.0
Perspective Scale : 100
Perspective Aspect : 0
Perspective Upright : Off
Auto Lateral CA : 0
Exposure 2012 : -0.44
Contrast 2012 : +26
Highlights 2012 : -100
Shadows 2012 : +90
Whites 2012 : +73
Blacks 2012 : +79
Clarity 2012 : +51
Dehaze : 0
Tone Map Strength : 0
Convert To Grayscale : True
Tone Curve Name : Linear
Tone Curve Name 2012 : Custom
Camera Profile : Embedded
Lens Profile Setup : Custom
Lens Profile Name : Adobe (Sony DT 18-200mm f/3.5-6.3)
Lens Profile Filename : DSLR-A700 (Sony DT 18-200mm f3.5-6.3).lcp
Lens Profile Distortion Scale : 100
Lens Profile Chromatic Aberration Scale : 100
Lens Profile Vignetting Scale : 100
Has Settings : True
Has Crop : False
Already Applied : True
Tone Curve : 0, 0, 255, 255
Tone Curve Red : 0, 0, 255, 255
Tone Curve Green : 0, 0, 255, 255
Tone Curve Blue : 0, 0, 255, 255
Tone Curve PV2012 : 0, 0, 67, 47, 128, 116, 190, 198, 255, 255
Tone Curve PV2012 Red : 0, 0, 255, 255
Tone Curve PV2012 Green : 0, 0, 255, 255
Tone Curve PV2012 Blue : 0, 0, 255, 255
Gradient Based Corr What : Correction
Gradient Based Corr Amount : 1.000000
Gradient Based Corr Active : true
Gradient Based Corr Saturation : 0.000000
Gradient Based Corr Sharpness : 0.000000
Gradient Based Corr Brightness : 0.000000
Gradient Based Corr Toning Hue : 0.000000
Gradient Based Corr Toning Saturation : 0.000000
Gradient Based Corr Exposure 2012 : 0.000000
Gradient Based Corr Contrast 2012 : 0.000000
Gradient Based Corr Highlights 2012 : 0.000000
Gradient Based Corr Shadows 2012 : 0.000000
Gradient Based Corr Clarity 2012 : -0.103448
Gradient Based Corr Luminance Noise : 0.000000
Gradient Based Corr Moire : 0.000000
Gradient Based Corr Temperature : -0.500000
Gradient Based Corr Tint : 0.000000
Gradient Based Corr Mask What : Mask/Gradient
Gradient Based Corr Mask Value : 1.000000
Gradient Based Corr Mask Zero X : 0.454905
Gradient Based Corr Mask Zero Y : 0.499909
Gradient Based Corr Mask Full X : 0.454905
Gradient Based Corr Mask Full Y : -0.009660
Circ Grad Based Corr What : Correction
Circ Grad Based Corr Amount : 1.000000
Circ Grad Based Corr Active : true
Circ Grad Based Corr Saturation : 0.000000
Circ Grad Based Corr Sharpness : 0.070221
Circ Grad Based Corr Brightness : 0.000000
Circ Grad Based Corr Toning Hue : 333.546997
Circ Grad Based Corr Toning Saturation : 0.000000
Circ Grad Based Corr Exposure 2012 : 0.000000
Circ Grad Based Corr Contrast 2012 : 0.224696
Circ Grad Based Corr Highlights 2012 : -0.007052
Circ Grad Based Corr Shadows 2012 : 0.003072
Circ Grad Based Corr Clarity 2012 : -0.096654
Circ Grad Based Corr Luminance Noise : 0.000000
Circ Grad Based Corr Moire : 0.000000
Circ Grad Based Corr Defringe : 0.000000
Circ Grad Based Corr Temperature : 0.049908
Circ Grad Based Corr Tint : 0.000000
Circ Grad Based Corr Mask What : Mask/CircularGradient
Circ Grad Based Corr Mask Value : 1.000000
Circ Grad Based Corr Mask Top : 0.237326
Circ Grad Based Corr Mask Left : 0.285858
Circ Grad Based Corr Mask Bottom : 0.780824
Circ Grad Based Corr Mask Right : 0.778313
Circ Grad Based Corr Mask Angle : 0.000000
Circ Grad Based Corr Mask Midpoint : +50
Circ Grad Based Corr Mask Roundness : 0
Circ Grad Based Corr Mask Feather : +50
Circ Grad Based Corr Mask Flipped : false
Circ Grad Based Corr Mask Version : +2
Image Width : 300
Image Height : 200
Bits Per Sample : 8
Color Components : 3
Aperture : 2.8
Image Size : 300x200
Megapixels : 0.060
Scale Factor To 35 mm Equivalent : 1.0
Shutter Speed : 1/320
Circle Of Confusion : 0.030 mm
Field Of View : 54.4 deg
Focal Length : 35.0 mm (35 mm equivalent: 35.0 mm)
Hyperfocal Distance : 14.56 m
Light Value : 10.3
Lens ID : FE 35mm F2.8 ZA