Uber Exif Photo
Caption-Abstract : Pelican
Sub-location : Safari
Country-Primary Location Name : Israel
Country-Primary Location Code : IL
Photometric Interpretation : RGB
Image Description : Pelican
Make : NIKON CORPORATION
Camera Model Name : NIKON D5300
Orientation : Horizontal (normal)
Samples Per Pixel : 3
Software : Adobe Photoshop CC 2014 (Windows)
Modify Date : 2015:05:13 16:30:13
Reference Black White : 0 255 0 255 0 255
Exposure Time : 1/320
F Number : 4.5
Exposure Program : Manual
ISO : 250
Sensitivity Type : Recommended Exposure Index
Date/Time Original : 2015:04:09 12:06:12
Create Date : 2015:04:09 12:06:12
Shutter Speed Value : 1/320
Aperture Value : 4.5
Exposure Compensation : 0
Max Aperture Value : 1.7
Metering Mode : Spot
Light Source : Unknown
Flash : No Flash
Focal Length : 35.0 mm
User Comment : shot_by_EZ
Color Space : Uncalibrated
Exif Image Width : 2560
Exif Image Height : 1440
Sensing Method : One-chip color area
Scene Type : Directly photographed
CFA Pattern : [Red,Green][Green,Blue]
Custom Rendered : Normal
Exposure Mode : Manual
White Balance : Auto
Digital Zoom Ratio : 1
Focal Length In 35mm Format : 52 mm
Scene Capture Type : Standard
Gain Control : None
Contrast : Normal
Saturation : Normal
Sharpness : Normal
Subject Distance Range : Unknown
Serial Number : 6104055
Lens Info : 35mm f/1.8
Lens Model : 35.0 mm f/1.8
GPS Version ID : 2.3.0.0
Profile Description : Adobe RGB (1998)
Rating : 0
Creator Tool : Adobe Photoshop CC 2014 (Windows)
Date Created : 2015:04:09 12:06:12.001
City : Ramat Gan
Country : Israel
Color Mode : RGB
ICC Profile Name : Adobe RGB (1998)
Location : Safari
Country Code : IL
Format : image/jpeg
Lens : 35.0 mm f/1.8
Image Number : 17252
Approximate Focus Distance : 1
Lateral Chromatic Aberration Correction Already Applied:
True
Raw File Name : _DSC0457.NEF
Version : 9.0
Process Version : 6.7
Auto White Version : 134348800
Color Temperature : 4500
Tint : +13
Luminance Smoothing : 0
Color Noise Reduction : 12
Vignette Amount : 0
Shadow Tint : 0
Red Hue : 0
Red Saturation : 0
Green Hue : +20
Green Saturation : 0
Blue Hue : -10
Blue Saturation : +3
Vibrance : +26
Hue Adjustment Red : 0
Hue Adjustment Orange : 0
Hue Adjustment Yellow : +3
Hue Adjustment Green : 0
Hue Adjustment Aqua : 0
Hue Adjustment Blue : 0
Hue Adjustment Purple : 0
Hue Adjustment Magenta : 0
Saturation Adjustment Red : +18
Saturation Adjustment Orange : 0
Saturation Adjustment Yellow : 0
Saturation Adjustment Green : +3
Saturation Adjustment Aqua : 0
Saturation Adjustment Blue : +10
Saturation Adjustment Purple : 0
Saturation Adjustment Magenta : 0
Luminance Adjustment Red : -7
Luminance Adjustment Orange : 0
Luminance Adjustment Yellow : 0
Luminance Adjustment Green : -12
Luminance Adjustment Aqua : 0
Luminance Adjustment Blue : 0
Luminance Adjustment Purple : 0
Luminance Adjustment Magenta : 0
Split Toning Shadow Hue : 345
Split Toning Shadow Saturation : 5
Split Toning Highlight Hue : 72
Split Toning Highlight Saturation : 10
Split Toning Balance : 0
Parametric Shadows : 0
Parametric Darks : 0
Parametric Lights : 0
Parametric Highlights : 0
Parametric Shadow Split : 25
Parametric Midtone Split : 50
Parametric Highlight Split : 75
Sharpen Radius : +1.5
Sharpen Detail : 18
Sharpen Edge Masking : 15
Post Crop Vignette Amount : -15
Post Crop Vignette Midpoint : 60
Post Crop Vignette Feather : 70
Post Crop Vignette Roundness : +50
Post Crop Vignette Style : Highlight Priority
Post Crop Vignette Highlight Contrast : 30
Grain Amount : 10
Grain Size : 15
Grain Frequency : 48
Color Noise Reduction Detail : 50
Color Noise Reduction Smoothness : 50
Lens Profile Enable : 0
Lens Manual Distortion Amount : 0
Perspective Vertical : 0
Perspective Horizontal : 0
Perspective Rotate : 0.0
Perspective Scale : 100
Perspective Aspect : 0
Perspective Upright : Off
Auto Lateral CA : 1
Exposure 2012 : +0.45
Contrast 2012 : +57
Highlights 2012 : -100
Shadows 2012 : -31
Whites 2012 : 0
Blacks 2012 : -34
Clarity 2012 : +4
Defringe Purple Amount : 2
Defringe Purple Hue Lo : 30
Defringe Purple Hue Hi : 70
Defringe Green Amount : 3
Defringe Green Hue Lo : 40
Defringe Green Hue Hi : 61
Convert To Grayscale : False
Tone Curve Name : Medium Contrast
Tone Curve Name 2012 : Linear
Camera Profile : Camera Portrait
Lens Profile Setup : LensDefaults
Has Settings : True
Crop Top : 0.172726
Crop Left : 0.17418
Crop Bottom : 0.786411
Crop Right : 0.901511
Crop Angle : 0
Crop Constrain To Warp : 1
Crop Width : 9
Crop Height : 16
Crop Unit : Unknown (3)
Has Crop : True
Already Applied : True
Description : Pelican
Tone Curve : 0, 0, 32, 22, 64, 56, 128, 128, 192, 196, 255, 255
Tone Curve Red : 0, 0, 255, 255
Tone Curve Green : 0, 0, 255, 255
Tone Curve Blue : 0, 0, 255, 255
Tone Curve PV2012 : 0, 0, 255, 255
Tone Curve PV2012 Red : 0, 0, 255, 255
Tone Curve PV2012 Green : 0, 0, 255, 255
Tone Curve PV2012 Blue : 0, 0, 255, 255
Paint Correction What : Correction
Paint Correction Amount : 1.000000
Paint Correction Active : true
Paint Correction Exposure : 0.000000
Paint Correction Saturation : 0.250000
Paint Correction Contrast : 0.000000
Paint Correction Clarity : 0.000000
Paint Correction Sharpness : 0.050000
Paint Correction Brightness : 0.000000
Paint Correction Toning Hue : 0.000000
Paint Correction Toning Saturation : 0.000000
Paint Correction Exposure 2012 : -0.012500
Paint Correction Contrast 2012 : 0.000000
Paint Correction Highlights 2012 : -0.400000
Paint Correction Shadows 2012 : 0.000000
Paint Correction Clarity 2012 : 0.100000
Paint Correction Luminance Noise : 0.000000
Paint Correction Moire : 0.000000
Paint Correction Defringe : 0.000000
Paint Correction Temperature : 0.000000
Paint Correction Tint : 0.000000
Paint Correction Mask What : Mask/Paint
Paint Correction Mask Value : 0.000000
Paint Correction Mask Radius : 0.016559
Paint Correction Mask Flow : 0.888889
Paint Correction Mask Center Weight : 0.110504
Gradient Based Corr What : Correction
Gradient Based Corr Amount : 1.000000
Gradient Based Corr Active : true
Gradient Based Corr Exposure : 0.000000
Gradient Based Corr Saturation : 0.000000
Gradient Based Corr Contrast : 0.000000
Gradient Based Corr Clarity : 0.000000
Gradient Based Corr Sharpness : -0.150000
Gradient Based Corr Brightness : 0.000000
Gradient Based Corr Toning Hue : 0.000000
Gradient Based Corr Toning Saturation : 0.000000
Gradient Based Corr Exposure 2012 : 0.000000
Gradient Based Corr Contrast 2012 : 0.000000
Gradient Based Corr Highlights 2012 : 0.000000
Gradient Based Corr Shadows 2012 : 0.000000
Gradient Based Corr Clarity 2012 : -0.250000
Gradient Based Corr Luminance Noise : 0.000000
Gradient Based Corr Moire : 0.000000
Gradient Based Corr Defringe : 0.000000
Gradient Based Corr Temperature : 0.000000
Gradient Based Corr Tint : 0.000000
Gradient Based Corr Mask What : Mask/Gradient
Gradient Based Corr Mask Value : 1.000000
Gradient Based Corr Mask Zero X : 0.239001
Gradient Based Corr Mask Zero Y : 0.835088
Gradient Based Corr Mask Full X : 0.110149
Gradient Based Corr Mask Full Y : 0.934616
Circ Grad Based Corr What : Correction
Circ Grad Based Corr Amount : 1.000000
Circ Grad Based Corr Active : true
Circ Grad Based Corr Exposure : 0.000000
Circ Grad Based Corr Saturation : 0.250000
Circ Grad Based Corr Contrast : 0.000000
Circ Grad Based Corr Clarity : 0.000000
Circ Grad Based Corr Sharpness : 0.050000
Circ Grad Based Corr Brightness : 0.000000
Circ Grad Based Corr Toning Hue : 0.000000
Circ Grad Based Corr Toning Saturation : 0.000000
Circ Grad Based Corr Exposure 2012 : 0.125000
Circ Grad Based Corr Contrast 2012 : 0.000000
Circ Grad Based Corr Highlights 2012 : 0.000000
Circ Grad Based Corr Shadows 2012 : 0.250000
Circ Grad Based Corr Clarity 2012 : 0.000000
Circ Grad Based Corr Luminance Noise : 0.000000
Circ Grad Based Corr Moire : 0.000000
Circ Grad Based Corr Defringe : 0.000000
Circ Grad Based Corr Temperature : 0.000000
Circ Grad Based Corr Tint : 0.000000
Circ Grad Based Corr Mask Top : 0.308028
Circ Grad Based Corr Mask Left : 0.445228
Circ Grad Based Corr Mask Bottom : 0.338597
Circ Grad Based Corr Mask Right : 0.466855
Circ Grad Based Corr Mask Angle : 0.000000
Circ Grad Based Corr Mask Midpoint : +50
Circ Grad Based Corr Mask Roundness : 0
Circ Grad Based Corr Mask Feather : +25
Circ Grad Based Corr Mask Flipped : true
Circ Grad Based Corr Mask Version : +2
Circ Grad Based Corr Mask What : Mask/Paint
Circ Grad Based Corr Mask Value : 1.000000
Circ Grad Based Corr Mask Radius : 0.003785
Circ Grad Based Corr Mask Flow : 0.888889
Circ Grad Based Corr Mask Center Weight : 0.000000
Image Width : 300
Image Height : 169
Bits Per Sample : 8
Color Components : 3
Aperture : 4.5
Image Size : 300x169
Megapixels : 0.051
Scale Factor To 35 mm Equivalent : 1.5
Shutter Speed : 1/320
Create Date : 2015:04:09 12:06:12.10
Date/Time Original : 2015:04:09 12:06:12.10
Modify Date : 2015:05:13 16:30:13.10
Circle Of Confusion : 0.020 mm
Depth Of Field : 0.14 m (0.93 - 1.08 m)
Field Of View : 38.2 deg
Focal Length : 35.0 mm (35 mm equivalent: 52.0 mm)
Hyperfocal Distance : 13.46 m
Light Value : 11.3
Lens ID : AF-S DX Nikkor 35mm f/1.8G