Uber Exif Photo
Photometric Interpretation : RGB
Make : SONY
Camera Model Name : NEX-6
Orientation : Horizontal (normal)
Samples Per Pixel : 3
Software : Adobe Photoshop CC 2015 (Windows)
Modify Date : 2015:11:22 22:51:24
Exposure Time : 1/100
F Number : 8.0
Exposure Program : Shutter speed priority AE
ISO : 100
Sensitivity Type : Recommended Exposure Index
Recommended Exposure Index : 100
Date/Time Original : 2015:05:08 14:59:25
Create Date : 2015:05:08 14:59:25
Shutter Speed Value : 1/100
Aperture Value : 8.0
Brightness Value : 7.9078125
Exposure Compensation : -0.3
Max Aperture Value : 2.8
Metering Mode : Center-weighted average
Light Source : Unknown
Flash : Off, Did not fire
Focal Length : 19.0 mm
Color Space : sRGB
Exif Image Width : 2000
Exif Image Height : 2667
Scene Type : Directly photographed
Custom Rendered : Normal
Exposure Mode : Auto
White Balance : Auto
Digital Zoom Ratio : 1
Focal Length In 35mm Format : 28 mm
Scene Capture Type : Standard
Contrast : Low
Saturation : Low
Sharpness : Soft
Lens Info : 19mm f/2.8
Lens Model : E 19mm F2.8
Profile Description : sRGB IEC61966-2.1
Creator Tool : Adobe Photoshop Lightroom 5.7.1 (Windows)
Lens : E 19mm F2.8
Lens Distort Info : 33204/32768 -59099582/1073741824 42820666/1073741824 -8222492/1073741824
Date Created : 2015:05:08 14:59:25
Color Mode : RGB
ICC Profile Name : sRGB IEC61966-2.1
Format : image/jpeg
Version : 8.7.1
Process Version : 6.7
Auto White Version : 134348800
Color Temperature : 4900
Tint : +5
Luminance Smoothing : 0
Color Noise Reduction : 25
Vignette Amount : 0
Shadow Tint : 0
Red Hue : 0
Red Saturation : 0
Green Hue : +15
Green Saturation : 0
Blue Hue : 0
Blue Saturation : 0
Vibrance : 0
Hue Adjustment Red : +20
Hue Adjustment Orange : +10
Hue Adjustment Yellow : 0
Hue Adjustment Green : +16
Hue Adjustment Aqua : +10
Hue Adjustment Blue : +5
Hue Adjustment Purple : +20
Hue Adjustment Magenta : +50
Saturation Adjustment Red : -15
Saturation Adjustment Orange : 0
Saturation Adjustment Yellow : 0
Saturation Adjustment Green : -11
Saturation Adjustment Aqua : 0
Saturation Adjustment Blue : +10
Saturation Adjustment Purple : -2
Saturation Adjustment Magenta : 0
Luminance Adjustment Red : -15
Luminance Adjustment Orange : +5
Luminance Adjustment Yellow : +31
Luminance Adjustment Green : 0
Luminance Adjustment Aqua : +1
Luminance Adjustment Blue : 0
Luminance Adjustment Purple : -8
Luminance Adjustment Magenta : -21
Split Toning Shadow Hue : 0
Split Toning Shadow Saturation : 0
Split Toning Highlight Hue : 60
Split Toning Highlight Saturation : 0
Split Toning Balance : +20
Parametric Shadows : -20
Parametric Darks : +20
Parametric Lights : +15
Parametric Highlights : 0
Parametric Shadow Split : 16
Parametric Midtone Split : 50
Parametric Highlight Split : 75
Sharpen Radius : +1.0
Sharpen Detail : 25
Sharpen Edge Masking : 0
Post Crop Vignette Amount : 0
Grain Amount : 11
Grain Size : 29
Grain Frequency : 38
Color Noise Reduction Detail : 50
Color Noise Reduction Smoothness : 50
Lens Profile Enable : 0
Lens Manual Distortion Amount : 0
Perspective Vertical : 0
Perspective Horizontal : 0
Perspective Rotate : 0.0
Perspective Scale : 100
Perspective Aspect : 0
Perspective Upright : Off
Auto Lateral CA : 1
Exposure 2012 : 0.00
Contrast 2012 : -69
Highlights 2012 : -100
Shadows 2012 : +10
Whites 2012 : -100
Blacks 2012 : +49
Clarity 2012 : +72
Defringe Purple Amount : 0
Defringe Purple Hue Lo : 30
Defringe Purple Hue Hi : 70
Defringe Green Amount : 0
Defringe Green Hue Lo : 40
Defringe Green Hue Hi : 60
Convert To Grayscale : False
Tone Curve Name : Linear
Tone Curve Name 2012 : Custom
Camera Profile : Adobe Standard
Lens Profile Setup : LensDefaults
Lens Profile Name : Adobe (SIGMA 19mm F2.8 DN A013, SONY)
Lens Profile Filename : SONY (SIGMA 19mm F2.8 DN A013) - RAW.lcp
Lens Profile Distortion Scale : 100
Lens Profile Chromatic Aberration Scale : 100
Lens Profile Vignetting Scale : 100
Has Settings : True
Crop Top : 0
Crop Left : 0
Crop Bottom : 1
Crop Right : 0.885994
Crop Angle : 0
Crop Constrain To Warp : 0
Has Crop : True
Already Applied : True
Tone Curve : 0, 0, 255, 255
Tone Curve Red : 0, 0, 255, 255
Tone Curve Green : 0, 0, 255, 255
Tone Curve Blue : 0, 0, 255, 255
Tone Curve PV2012 : 0, 0, 33, 24, 123, 123, 197, 199, 255, 255
Tone Curve PV2012 Red : 0, 0, 33, 9, 50, 22, 125, 127, 186, 200, 255, 255
Tone Curve PV2012 Green : 0, 0, 26, 11, 54, 33, 124, 127, 183, 198, 255, 250
Tone Curve PV2012 Blue : 0, 11, 47, 29, 132, 125, 186, 197, 255, 250
Image Width : 225
Image Height : 300
Bits Per Sample : 8
Color Components : 3
Aperture : 8.0
Image Size : 225x300
Megapixels : 0.068
Scale Factor To 35 mm Equivalent : 1.5
Shutter Speed : 1/100
Circle Of Confusion : 0.020 mm
Field Of View : 65.5 deg
Focal Length : 19.0 mm (35 mm equivalent: 28.0 mm)
Hyperfocal Distance : 2.21 m
Light Value : 12.6
Lens ID : E 19mm F2.8