Uber Exif Photo
Photometric Interpretation : RGB
Make : SONY
Camera Model Name : NEX-6
Orientation : Horizontal (normal)
Samples Per Pixel : 3
Software : Adobe Photoshop CC 2015 (Windows)
Modify Date : 2015:11:22 22:51:07
Exposure Time : 1/250
F Number : 13.0
Exposure Program : Shutter speed priority AE
ISO : 100
Sensitivity Type : Recommended Exposure Index
Recommended Exposure Index : 100
Date/Time Original : 2015:05:08 14:18:32
Create Date : 2015:05:08 14:18:32
Shutter Speed Value : 1/250
Aperture Value : 13.0
Brightness Value : 9.5328125
Exposure Compensation : -0.3
Max Aperture Value : 2.8
Metering Mode : Center-weighted average
Light Source : Unknown
Flash : Off, Did not fire
Focal Length : 19.0 mm
Color Space : sRGB
Exif Image Width : 2000
Exif Image Height : 3010
Scene Type : Directly photographed
Custom Rendered : Normal
Exposure Mode : Auto
White Balance : Auto
Digital Zoom Ratio : 1
Focal Length In 35mm Format : 28 mm
Scene Capture Type : Standard
Contrast : Low
Saturation : Low
Sharpness : Soft
Lens Info : 19mm f/2.8
Lens Model : E 19mm F2.8
Profile Description : sRGB IEC61966-2.1
Creator Tool : Adobe Photoshop Lightroom 5.7.1 (Windows)
Lens : E 19mm F2.8
Lens Distort Info : 33204/32768 -59099582/1073741824 42820666/1073741824 -8222492/1073741824
Date Created : 2015:05:08 14:18:32
Color Mode : RGB
ICC Profile Name : sRGB IEC61966-2.1
Format : image/jpeg
Version : 8.7.1
Process Version : 6.7
Auto White Version : 134348800
Color Temperature : 5450
Tint : +5
Luminance Smoothing : 19
Color Noise Reduction : 25
Vignette Amount : 0
Shadow Tint : 0
Red Hue : +10
Red Saturation : +5
Green Hue : +45
Green Saturation : +40
Blue Hue : +10
Blue Saturation : 0
Vibrance : -40
Hue Adjustment Red : +25
Hue Adjustment Orange : +20
Hue Adjustment Yellow : -20
Hue Adjustment Green : -20
Hue Adjustment Aqua : -20
Hue Adjustment Blue : -30
Hue Adjustment Purple : 0
Hue Adjustment Magenta : 0
Saturation Adjustment Red : +20
Saturation Adjustment Orange : +10
Saturation Adjustment Yellow : 0
Saturation Adjustment Green : -60
Saturation Adjustment Aqua : -10
Saturation Adjustment Blue : -45
Saturation Adjustment Purple : -30
Saturation Adjustment Magenta : -25
Luminance Adjustment Red : +15
Luminance Adjustment Orange : +15
Luminance Adjustment Yellow : -10
Luminance Adjustment Green : -10
Luminance Adjustment Aqua : -5
Luminance Adjustment Blue : -20
Luminance Adjustment Purple : +35
Luminance Adjustment Magenta : 0
Split Toning Shadow Hue : 0
Split Toning Shadow Saturation : 0
Split Toning Highlight Hue : 0
Split Toning Highlight Saturation : 0
Split Toning Balance : 0
Parametric Shadows : -70
Parametric Darks : +45
Parametric Lights : +10
Parametric Highlights : +70
Parametric Shadow Split : 15
Parametric Midtone Split : 35
Parametric Highlight Split : 80
Sharpen Radius : +1.0
Sharpen Detail : 25
Sharpen Edge Masking : 0
Post Crop Vignette Amount : -10
Post Crop Vignette Midpoint : 50
Post Crop Vignette Feather : 50
Post Crop Vignette Roundness : +100
Post Crop Vignette Style : Highlight Priority
Post Crop Vignette Highlight Contrast : 0
Grain Amount : 0
Luminance Noise Reduction Detail : 50
Color Noise Reduction Detail : 50
Luminance Noise Reduction Contrast : 14
Color Noise Reduction Smoothness : 50
Lens Profile Enable : 1
Lens Manual Distortion Amount : 0
Perspective Vertical : 0
Perspective Horizontal : 0
Perspective Rotate : 0.0
Perspective Scale : 100
Perspective Aspect : 0
Perspective Upright : Off
Auto Lateral CA : 0
Exposure 2012 : +0.50
Contrast 2012 : +5
Highlights 2012 : -100
Shadows 2012 : +72
Whites 2012 : -100
Blacks 2012 : +100
Clarity 2012 : +20
Defringe Purple Amount : 0
Defringe Purple Hue Lo : 30
Defringe Purple Hue Hi : 70
Defringe Green Amount : 0
Defringe Green Hue Lo : 40
Defringe Green Hue Hi : 60
Convert To Grayscale : False
Tone Curve Name : Linear
Tone Curve Name 2012 : Custom
Camera Profile : Adobe Standard
Lens Profile Setup : Auto
Lens Profile Name : Adobe (SIGMA 19mm F2.8 DN A013, SONY)
Lens Profile Filename : SONY (SIGMA 19mm F2.8 DN A013) - RAW.lcp
Lens Profile Distortion Scale : 100
Lens Profile Chromatic Aberration Scale : 100
Lens Profile Vignetting Scale : 100
Has Settings : True
Has Crop : False
Already Applied : True
Tone Curve : 0, 0, 255, 255
Tone Curve Red : 0, 0, 255, 255
Tone Curve Green : 0, 0, 255, 255
Tone Curve Blue : 0, 0, 255, 255
Tone Curve PV2012 : 0, 30, 71, 65, 180, 192, 255, 255
Tone Curve PV2012 Red : 0, 0, 21, 8, 45, 27, 72, 56, 128, 125, 163, 168, 255, 255
Tone Curve PV2012 Green : 0, 0, 38, 20, 80, 66, 128, 125, 163, 168, 208, 215, 255, 251
Tone Curve PV2012 Blue : 0, 0, 37, 21, 122, 125, 163, 172, 205, 216, 255, 251
Gradient Based Corr What : Correction
Gradient Based Corr Amount : 1.000000
Gradient Based Corr Active : true
Gradient Based Corr Saturation : 0.000000
Gradient Based Corr Sharpness : 0.000000
Gradient Based Corr Brightness : 0.000000
Gradient Based Corr Toning Hue : 0.000000
Gradient Based Corr Toning Saturation : 0.000000
Gradient Based Corr Exposure 2012 : 0.000000
Gradient Based Corr Contrast 2012 : 0.000000
Gradient Based Corr Highlights 2012 : 0.000000
Gradient Based Corr Shadows 2012 : 0.000000
Gradient Based Corr Clarity 2012 : 0.000000
Gradient Based Corr Luminance Noise : 0.000000
Gradient Based Corr Moire : 0.000000
Gradient Based Corr Defringe : 0.000000
Gradient Based Corr Temperature : 0.000000
Gradient Based Corr Tint : 0.000000
Gradient Based Corr Mask What : Mask/Gradient
Gradient Based Corr Mask Value : 1.000000
Gradient Based Corr Mask Zero X : 1.010000
Gradient Based Corr Mask Zero Y : 0.000000
Gradient Based Corr Mask Full X : 1.000000
Gradient Based Corr Mask Full Y : 0.000000
Image Width : 199
Image Height : 300
Bits Per Sample : 8
Color Components : 3
Aperture : 13.0
Image Size : 199x300
Megapixels : 0.060
Scale Factor To 35 mm Equivalent : 1.5
Shutter Speed : 1/250
Circle Of Confusion : 0.020 mm
Field Of View : 65.5 deg
Focal Length : 19.0 mm (35 mm equivalent: 28.0 mm)
Hyperfocal Distance : 1.36 m
Light Value : 15.4
Lens ID : E 19mm F2.8