Uber Exif Photo
Keywords : Fred Wissink Photography, Frederik Wissink, Hotel, Portrait, South East Asia, architecture, design, interior, property
By-line : Frederik Wissink
By-line Title : Photographer/Owner
Copyright Notice : Frederik Wissink
Copyright Flag : True
Make : SONY
Camera Model Name : ILCE-7
Software : Adobe Photoshop Lightroom 5.7 (Macintosh)
Modify Date : 2015:03:26 21:59:01
Artist : Frederik Wissink
Copyright : Frederik Wissink
Exposure Time : 1/200
Exposure Program : Manual
ISO : 100
Sensitivity Type : Recommended Exposure Index
Recommended Exposure Index : 100
Date/Time Original : 2015:01:19 14:12:44
Create Date : 2015:01:19 14:12:44
Shutter Speed Value : 1/200
Brightness Value : 2.540625
Exposure Compensation : 0
Max Aperture Value : 1.0
Metering Mode : Multi-segment
Light Source : Daylight
Flash : Off, Did not fire
Scene Type : Directly photographed
Custom Rendered : Normal
Exposure Mode : Manual
White Balance : Manual
Digital Zoom Ratio : 1
Scene Capture Type : Standard
Contrast : Normal
Saturation : Normal
Sharpness : Normal
Lens Model : ----
Creator Tool : Adobe Photoshop Lightroom 5.7 (Macintosh)
Rating : 2
Lens : ----
Date Created : 2015:01:19 14:12:44
Credit : Frederik Wissink
Authors Position : Photographer/Owner
Format : image/jpeg
Marked : True
Version : 8.7
Process Version : 6.7
Auto White Version : 134348800
Color Temperature : 5050
Tint : +5
Luminance Smoothing : 0
Color Noise Reduction : 25
Vignette Amount : 0
Shadow Tint : 0
Red Hue : 0
Red Saturation : 0
Green Hue : 0
Green Saturation : 0
Blue Hue : 0
Blue Saturation : 0
Gray Mixer Red : +31
Gray Mixer Orange : 0
Gray Mixer Yellow : 0
Gray Mixer Green : +57
Gray Mixer Aqua : -28
Gray Mixer Blue : -67
Gray Mixer Purple : 0
Gray Mixer Magenta : 0
Split Toning Shadow Hue : 0
Split Toning Shadow Saturation : 0
Split Toning Highlight Hue : 0
Split Toning Highlight Saturation : 0
Split Toning Balance : 0
Parametric Shadows : 0
Parametric Darks : 0
Parametric Lights : 0
Parametric Highlights : 0
Parametric Shadow Split : 25
Parametric Midtone Split : 50
Parametric Highlight Split : 75
Sharpen Radius : +1.0
Sharpen Detail : 25
Sharpen Edge Masking : 0
Post Crop Vignette Amount : 0
Grain Amount : 0
Color Noise Reduction Detail : 50
Color Noise Reduction Smoothness : 50
Lens Profile Enable : 0
Lens Manual Distortion Amount : 0
Perspective Vertical : 0
Perspective Horizontal : 0
Perspective Rotate : 0.0
Perspective Scale : 100
Perspective Aspect : 0
Perspective Upright : Off
Auto Lateral CA : 0
Exposure 2012 : +0.75
Contrast 2012 : +42
Highlights 2012 : -38
Shadows 2012 : +16
Whites 2012 : +28
Blacks 2012 : -9
Clarity 2012 : +17
Convert To Grayscale : True
Tone Curve Name : Linear
Tone Curve Name 2012 : Linear
Camera Profile : Adobe Standard
Lens Profile Setup : LensDefaults
Has Settings : True
Crop Top : 0.302786
Crop Left : 0.193305
Crop Bottom : 0.926857
Crop Right : 0.817376
Crop Angle : 0
Crop Constrain To Warp : 0
Has Crop : True
Already Applied : True
Creator : Frederik Wissink
Rights : Frederik Wissink
Subject : Fred Wissink Photography, Frederik Wissink, Hotel, Portrait, South East Asia, architecture, design, interior, property
Creator Postal Code : 70000
Creator Work Telephone : +84906684176
Creator Country : Vietnam
Creator City : Ho Chi Minh
Creator Work Email : fpwphoto@gmail.com
Creator Address : 35/6 Me Linh Street, Ward 19, Binh Thanh District
Creator Work URL : fredwissink.com
Hierarchical Subject : Fred Wissink Photography, Frederik Wissink, Hotel, Portrait, South East Asia, architecture, design, interior, property
Tone Curve : 0, 0, 255, 255
Tone Curve Red : 0, 0, 255, 255
Tone Curve Green : 0, 0, 255, 255
Tone Curve Blue : 0, 0, 255, 255
Tone Curve PV2012 : 0, 0, 255, 255
Tone Curve PV2012 Red : 0, 0, 255, 255
Tone Curve PV2012 Green : 0, 0, 255, 255
Tone Curve PV2012 Blue : 0, 0, 255, 255
Image Width : 300
Image Height : 200
Bits Per Sample : 8
Color Components : 1
Image Size : 300x200
Megapixels : 0.060
Scale Factor To 35 mm Equivalent : 20.1
Shutter Speed : 1/200
Circle Of Confusion : 0.001 mm