Uber Exif Photo
Keywords : Buenos Aires, Stock
By-line : Lenin Ramirez-Sanchez
Copyright Notice : © 2015, Lenin Ramirez-Sanchez All Rights Reserved
Copyright Flag : True
URL : www.movingelectrons.net
Make : Canon
Camera Model Name : Canon EOS 60D
Software : Adobe Photoshop Lightroom 6.3 (Macintosh)
Modify Date : 2015:11:25 15:26:04
Artist : Lenin Ramirez-Sanchez
Copyright : © 2015, Lenin Ramirez-Sanchez All Rights Reserved
Exposure Time : 1/125
F Number : 6.3
Exposure Program : Aperture-priority AE
ISO : 100
Sensitivity Type : Recommended Exposure Index
Recommended Exposure Index : 100
Date/Time Original : 2013:04:23 15:49:22
Create Date : 2013:04:23 15:49:22
Shutter Speed Value : 1/125
Aperture Value : 6.3
Exposure Compensation : 0
Max Aperture Value : 3.5
Metering Mode : Multi-segment
Flash : Off, Did not fire
Focal Length : 18.0 mm
Color Space : sRGB
Custom Rendered : Normal
Exposure Mode : Auto
White Balance : Auto
Scene Capture Type : Standard
Serial Number : 0470212185
Lens Info : 18-135mm f/?
Lens Model : EF-S18-135mm f/3.5-5.6 IS
Lens Serial Number : 0000126e68
Profile Description : sRGB IEC61966-2.1
Rating : 5
Label : Yellow
Creator Tool : Adobe Photoshop Lightroom 6.3 (Macintosh)
Lens : EF-S18-135mm f/3.5-5.6 IS
Image Number : 0
Approximate Focus Distance : 5.55
Flash Compensation : 0
Firmware : 1.1.1
Date Created : 2013:04:23 15:49:22.00
Format : image/jpeg
Marked : True
Web Statement : www.movingelectrons.net
Version : 9.3
Process Version : 6.7
Auto White Version : 134348800
Color Temperature : 6100
Tint : +4
Saturation : 0
Sharpness : 25
Luminance Smoothing : 70
Color Noise Reduction : 31
Vignette Amount : 0
Shadow Tint : 0
Red Hue : 0
Red Saturation : 0
Green Hue : 0
Green Saturation : 0
Blue Hue : 0
Blue Saturation : 0
Vibrance : +26
Hue Adjustment Red : 0
Hue Adjustment Orange : 0
Hue Adjustment Yellow : 0
Hue Adjustment Green : 0
Hue Adjustment Aqua : 0
Hue Adjustment Blue : 0
Hue Adjustment Purple : 0
Hue Adjustment Magenta : 0
Saturation Adjustment Red : 0
Saturation Adjustment Orange : 0
Saturation Adjustment Yellow : 0
Saturation Adjustment Green : 0
Saturation Adjustment Aqua : 0
Saturation Adjustment Blue : 0
Saturation Adjustment Purple : 0
Saturation Adjustment Magenta : 0
Luminance Adjustment Red : 0
Luminance Adjustment Orange : 0
Luminance Adjustment Yellow : 0
Luminance Adjustment Green : 0
Luminance Adjustment Aqua : 0
Luminance Adjustment Blue : 0
Luminance Adjustment Purple : 0
Luminance Adjustment Magenta : 0
Split Toning Shadow Hue : 0
Split Toning Shadow Saturation : 0
Split Toning Highlight Hue : 0
Split Toning Highlight Saturation : 0
Split Toning Balance : 0
Parametric Shadows : 0
Parametric Darks : 0
Parametric Lights : 0
Parametric Highlights : 0
Parametric Shadow Split : 25
Parametric Midtone Split : 50
Parametric Highlight Split : 75
Sharpen Radius : +1.0
Sharpen Detail : 25
Sharpen Edge Masking : 0
Post Crop Vignette Amount : -15
Post Crop Vignette Midpoint : 50
Post Crop Vignette Feather : 50
Post Crop Vignette Roundness : 0
Post Crop Vignette Style : Highlight Priority
Post Crop Vignette Highlight Contrast : 0
Grain Amount : 0
Luminance Noise Reduction Detail : 50
Color Noise Reduction Detail : 50
Luminance Noise Reduction Contrast : 0
Color Noise Reduction Smoothness : 50
Lens Profile Enable : 1
Lens Manual Distortion Amount : 0
Perspective Vertical : 0
Perspective Horizontal : 0
Perspective Rotate : 0.0
Perspective Scale : 100
Perspective Aspect : 0
Perspective Upright : Off
Auto Lateral CA : 1
Exposure 2012 : +0.55
Contrast 2012 : -2
Highlights 2012 : -50
Shadows 2012 : +65
Whites 2012 : +13
Blacks 2012 : 0
Clarity 2012 : +37
Defringe Purple Amount : 0
Defringe Purple Hue Lo : 30
Defringe Purple Hue Hi : 70
Defringe Green Amount : 0
Defringe Green Hue Lo : 40
Defringe Green Hue Hi : 60
Dehaze : 0
Tone Map Strength : 0
Convert To Grayscale : False
Tone Curve Name : Linear
Tone Curve Name 2012 : Linear
Camera Profile : Adobe Standard
Lens Profile Setup : LensDefaults
Lens Profile Name : Adobe (Canon EF-S 18-135mm f/3.5-5.6 IS)
Lens Profile Filename : Canon EOS 50D (Canon EF-S 18-135mm f3.5-5.6 IS) - RAW.lcp
Lens Profile Distortion Scale : 100
Lens Profile Chromatic Aberration Scale : 100
Lens Profile Vignetting Scale : 100
Has Settings : True
Crop Top : 0.087953
Crop Left : 0.048747
Crop Bottom : 0.941798
Crop Right : 0.983832
Crop Angle : -2.35923
Crop Constrain To Warp : 0
Has Crop : True
Already Applied : True
Creator : Lenin Ramirez-Sanchez
Rights : © 2015, Lenin Ramirez-Sanchez All Rights Reserved
Subject : Buenos Aires, Stock
Usage Terms : All rights reserved, no reproduction without prior permission.
Creator Work Email : lenin.ramirez.s@gmail.com
Creator Country : United States of America
Creator Work URL : www.movingelectrons.net
Tone Curve : 0, 0, 255, 255
Tone Curve Red : 0, 0, 255, 255
Tone Curve Green : 0, 0, 255, 255
Tone Curve Blue : 0, 0, 255, 255
Tone Curve PV2012 : 0, 0, 255, 255
Tone Curve PV2012 Red : 0, 0, 255, 255
Tone Curve PV2012 Green : 0, 0, 255, 255
Tone Curve PV2012 Blue : 0, 0, 255, 255
Gradient Based Corr What : Correction
Gradient Based Corr Amount : 1.000000
Gradient Based Corr Active : true
Gradient Based Corr Saturation : 0.400000
Gradient Based Corr Sharpness : 0.000000
Gradient Based Corr Brightness : 0.000000
Gradient Based Corr Toning Hue : 240.000000
Gradient Based Corr Toning Saturation : 0.000000
Gradient Based Corr Exposure 2012 : 0.150000
Gradient Based Corr Contrast 2012 : 0.000000
Gradient Based Corr Highlights 2012 : 0.000000
Gradient Based Corr Shadows 2012 : 0.000000
Gradient Based Corr Clarity 2012 : 0.100000
Gradient Based Corr Luminance Noise : 0.000000
Gradient Based Corr Moire : 0.000000
Gradient Based Corr Defringe : 0.000000
Gradient Based Corr Temperature : 0.200000
Gradient Based Corr Tint : 0.000000
Gradient Based Corr Mask What : Mask/Gradient
Gradient Based Corr Mask Value : 1.000000
Gradient Based Corr Mask Zero X : 0.539123
Gradient Based Corr Mask Zero Y : 0.607623
Gradient Based Corr Mask Full X : 0.516325
Gradient Based Corr Mask Full Y : 1.002530
Image Width : 300
Image Height : 200
Bits Per Sample : 8
Color Components : 3
Aperture : 6.3
Image Size : 300x200
Megapixels : 0.060
Scale Factor To 35 mm Equivalent : 1.6
Shutter Speed : 1/125
Create Date : 2013:04:23 15:49:22.00
Date/Time Original : 2013:04:23 15:49:22.00
Circle Of Confusion : 0.019 mm
Depth Of Field : inf (1.82 m - inf)
Field Of View : 64.9 deg
Focal Length : 18.0 mm (35 mm equivalent: 28.3 mm)
Hyperfocal Distance : 2.69 m
Light Value : 12.3
Lens ID : Canon EF-S 18-135mm f/3.5-5.6 IS