Uber Exif Photo
Make : SONY
Camera Model Name : DSC-RX100M3
Orientation : Horizontal (normal)
Software : Adobe Photoshop Lightroom 6.2.1 (Macintosh)
Modify Date : 2015:11:28 22:42:37
Exposure Time : 1/400
F Number : 3.5
Exposure Program : Aperture-priority AE
ISO : 125
Sensitivity Type : Recommended Exposure Index
Recommended Exposure Index : 125
Date/Time Original : 2015:11:28 10:58:08
Create Date : 2015:11:28 10:58:08
Shutter Speed Value : 1/400
Aperture Value : 3.5
Brightness Value : 8.02109375
Exposure Compensation : 0
Max Aperture Value : 2.8
Metering Mode : Multi-segment
Light Source : Unknown
Flash : Off, Did not fire
Focal Length : 19.9 mm
Color Space : sRGB
Exif Image Width : 5472
Exif Image Height : 3648
Scene Type : Directly photographed
Custom Rendered : Normal
Exposure Mode : Auto
White Balance : Auto
Digital Zoom Ratio : 1
Focal Length In 35mm Format : 54 mm
Scene Capture Type : Standard
Contrast : Normal
Saturation : Normal
Sharpness : Normal
Lens Info : 8.8-25.7mm f/1.8-2.8
Lens Model : 24-70mm F1.8-2.8
Highlights 2012 : -9
Defringe Purple Hue Lo : 30
Exposure 2012 : +1.15
Grain Amount : 0
Tint : +10
Hue Adjustment Purple : 0
Green Hue : 0
Lens Manual Distortion Amount : 0
Whites 2012 : +22
Parametric Highlight Split : 75
Luminance Adjustment Aqua : 0
Version : 9.2
Lens Profile Enable : 0
Parametric Shadow Split : 25
Contrast 2012 : -6
Saturation Adjustment Yellow : 0
Perspective Vertical : 0
Sharpen Edge Masking : 0
Luminance Adjustment Yellow : 0
Defringe Green Hue Hi : 60
Red Saturation : 0
Perspective Rotate : 0.0
Tone Curve Name : Linear
Saturation Adjustment Aqua : 0
Parametric Shadows : 0
Vibrance : 0
Split Toning Shadow Hue : 0
Tone Map Strength : 0
Color Temperature : 5500
Hue Adjustment Green : 0
Luminance Adjustment Green : 0
Hue Adjustment Yellow : 0
Perspective Aspect : 0
Parametric Highlights : 0
Luminance Adjustment Orange : 0
Saturation Adjustment Green : 0
Saturation Adjustment Orange : 0
Luminance Adjustment Purple : 0
Already Applied : True
Defringe Green Amount : 0
Shadows 2012 : +9
Process Version : 6.7
Luminance Adjustment Blue : 0
Has Settings : True
Clarity 2012 : +10
Hue Adjustment Orange : 0
Luminance Adjustment Magenta : 0
Lens Profile Setup : LensDefaults
Shadow Tint : 0
Hue Adjustment Blue : 0
Post Crop Vignette Amount : 0
Defringe Purple Hue Hi : 70
Split Toning Highlight Hue : 0
Perspective Upright : Off
Has Crop : False
Blue Hue : 0
Split Toning Shadow Saturation : 0
Perspective Scale : 100
Split Toning Highlight Saturation : 0
Parametric Lights : 0
Convert To Grayscale : False
Saturation Adjustment Magenta : 0
Blacks 2012 : -17
Auto White Version : 134348800
Defringe Green Hue Lo : 40
Luminance Smoothing : 0
Perspective Horizontal : 0
Saturation Adjustment Blue : 0
Tone Curve Name 2012 : Linear
Dehaze : 0
Green Saturation : 0
Saturation Adjustment Purple : 0
Blue Saturation : 0
Camera Profile : Adobe Standard
Color Noise Reduction Smoothness : 50
Parametric Midtone Split : 50
Red Hue : 0
Parametric Darks : 0
Defringe Purple Amount : 0
Sharpen Detail : 25
Saturation Adjustment Red : 0
Hue Adjustment Red : 0
Luminance Adjustment Red : 0
Auto Lateral CA : 0
Hue Adjustment Aqua : 0
Split Toning Balance : 0
Sharpen Radius : +1.0
Color Noise Reduction Detail : 50
Vignette Amount : 0
Hue Adjustment Magenta : 0
Color Noise Reduction : 25
Lens : 24-70mm F1.8-2.8
Lens Distort Info : 33155/32768 -48958102/1073741824 22082669/1073741824 9776091/1073741824
Creator Tool : Adobe Photoshop Lightroom 6.2.1 (Macintosh)
Format : image/jpeg
Date Created : 2015:11:28 10:58:08
Tone Curve Blue : 0, 0, 255, 255
Tone Curve PV2012 Red : 0, 0, 255, 255
Tone Curve : 0, 0, 255, 255
Tone Curve PV2012 Green : 0, 0, 255, 255
Tone Curve Green : 0, 0, 255, 255
Tone Curve Red : 0, 0, 255, 255
Tone Curve PV2012 Blue : 0, 0, 255, 255
Tone Curve PV2012 : 0, 0, 255, 255
Image Width : 300
Image Height : 200
Bits Per Sample : 8
Color Components : 3
Aperture : 3.5
Image Size : 300x200
Megapixels : 0.060
Scale Factor To 35 mm Equivalent : 2.7
Shutter Speed : 1/400
Circle Of Confusion : 0.011 mm
Field Of View : 36.9 deg
Focal Length : 19.9 mm (35 mm equivalent: 54.0 mm)
Hyperfocal Distance : 10.20 m
Light Value : 11.9
Lens ID : 24-70mm F1.8-2.8