Uber Exif Photo
Keywords : Croatia, Europe, Rovinj, Европа, Ровинь, Хорватия
By-line : Photographer Alexey Pavin
Copyright Notice : Alexey Pavin
Caption-Abstract : Alexey Pavin
Copyright Flag : True
Image Description : Alexey Pavin
Make : Canon
Camera Model Name : Canon EOS 5D Mark III
Software : Adobe Photoshop Lightroom 6.2.1 (Macintosh)
Modify Date : 2015:11:30 22:28:19
Artist : Photographer Alexey Pavin
Copyright : Alexey Pavin
Exposure Time : 1/250
F Number : 1.4
Exposure Program : Aperture-priority AE
ISO : 5000
Sensitivity Type : Recommended Exposure Index
Recommended Exposure Index : 5000
Date/Time Original : 2015:09:25 20:15:11
Create Date : 2015:09:25 20:15:11
Shutter Speed Value : 1/250
Aperture Value : 1.4
Exposure Compensation : +2/3
Max Aperture Value : 1.4
Metering Mode : Multi-segment
Flash : Off, Did not fire
Focal Length : 85.0 mm
Custom Rendered : Normal
Exposure Mode : Auto
White Balance : Manual
Scene Capture Type : Standard
Owner Name : Alexey Pavin
Serial Number : 193029005753
Lens Info : 85mm f/?
Lens Model : Zeiss Otus 1.4/85 ZE
Lens Serial Number : 0000000000
Profile Description : sRGB IEC61966-2.1
Rating : 5
Creator Tool : Adobe Photoshop Lightroom 6.2.1 (Macintosh)
Format : image/jpeg
Lens : Zeiss Otus 1.4/85 ZE
Image Number : 0
Flash Compensation : 0
Firmware : 1.3.3
Date Created : 2015:09:25 20:15:11.00
Marked : True
Version : 9.2
Process Version : 6.7
Auto White Version : 134348800
Color Temperature : 6343
Tint : +12
Saturation : 0
Sharpness : 51
Luminance Smoothing : 20
Color Noise Reduction : 25
Vignette Amount : 0
Shadow Tint : 0
Red Hue : 0
Red Saturation : 0
Green Hue : 0
Green Saturation : 0
Blue Hue : 0
Blue Saturation : 0
Vibrance : +21
Hue Adjustment Red : 0
Hue Adjustment Orange : 0
Hue Adjustment Yellow : 0
Hue Adjustment Green : 0
Hue Adjustment Aqua : 0
Hue Adjustment Blue : 0
Hue Adjustment Purple : 0
Hue Adjustment Magenta : 0
Saturation Adjustment Red : 0
Saturation Adjustment Orange : 0
Saturation Adjustment Yellow : +13
Saturation Adjustment Green : 0
Saturation Adjustment Aqua : 0
Saturation Adjustment Blue : +17
Saturation Adjustment Purple : +18
Saturation Adjustment Magenta : +13
Luminance Adjustment Red : 0
Luminance Adjustment Orange : 0
Luminance Adjustment Yellow : 0
Luminance Adjustment Green : 0
Luminance Adjustment Aqua : 0
Luminance Adjustment Blue : 0
Luminance Adjustment Purple : 0
Luminance Adjustment Magenta : 0
Split Toning Shadow Hue : 0
Split Toning Shadow Saturation : 0
Split Toning Highlight Hue : 0
Split Toning Highlight Saturation : 0
Split Toning Balance : 0
Parametric Shadows : 0
Parametric Darks : 0
Parametric Lights : 0
Parametric Highlights : 0
Parametric Shadow Split : 25
Parametric Midtone Split : 50
Parametric Highlight Split : 75
Sharpen Radius : +1.0
Sharpen Detail : 25
Sharpen Edge Masking : 0
Post Crop Vignette Amount : 0
Grain Amount : 0
Luminance Noise Reduction Detail : 50
Color Noise Reduction Detail : 50
Luminance Noise Reduction Contrast : 0
Color Noise Reduction Smoothness : 50
Lens Profile Enable : 0
Lens Manual Distortion Amount : 0
Perspective Vertical : 0
Perspective Horizontal : 0
Perspective Rotate : 0.0
Perspective Scale : 100
Perspective Aspect : 0
Perspective Upright : Off
Auto Lateral CA : 0
Exposure 2012 : +0.15
Contrast 2012 : +12
Highlights 2012 : -51
Shadows 2012 : +25
Whites 2012 : +49
Blacks 2012 : -11
Clarity 2012 : +19
Defringe Purple Amount : 0
Defringe Purple Hue Lo : 30
Defringe Purple Hue Hi : 70
Defringe Green Amount : 0
Defringe Green Hue Lo : 40
Defringe Green Hue Hi : 60
Dehaze : 0
Tone Map Strength : 0
Convert To Grayscale : False
Tone Curve Name : Linear
Tone Curve Name 2012 : Linear
Camera Profile : Canon EOS 5D Mark III
Lens Profile Setup : LensDefaults
Has Settings : True
Crop Top : 0.012921
Crop Left : 0.003589
Crop Bottom : 0.930855
Crop Right : 0.952399
Crop Angle : -0.5
Crop Constrain To Warp : 0
Has Crop : True
Already Applied : True
Creator : Photographer Alexey Pavin
Rights : Alexey Pavin
Description : Alexey Pavin
Subject : Croatia, Europe, Rovinj, Европа, Ровинь, Хорватия
Hierarchical Subject : Croatia, Europe, Rovinj, Европа, Ровинь, Хорватия
Tone Curve : 0, 0, 255, 255
Tone Curve Red : 0, 0, 255, 255
Tone Curve Green : 0, 0, 255, 255
Tone Curve Blue : 0, 0, 255, 255
Tone Curve PV2012 : 0, 0, 255, 255
Tone Curve PV2012 Red : 0, 0, 255, 255
Tone Curve PV2012 Green : 0, 0, 255, 255
Tone Curve PV2012 Blue : 0, 0, 255, 255
Paint Correction What : Correction
Paint Correction Amount : 1.000000
Paint Correction Active : true
Paint Correction Saturation : 0.000000
Paint Correction Sharpness : 0.000000
Paint Correction Brightness : 0.000000
Paint Correction Toning Hue : 0.000000
Paint Correction Toning Saturation : 0.000000
Paint Correction Exposure 2012 : -0.068086
Paint Correction Contrast 2012 : 0.000000
Paint Correction Highlights 2012 : 0.000000
Paint Correction Shadows 2012 : 0.000000
Paint Correction Whites 2012 : 0.000000
Paint Correction Blacks 2012 : 0.000000
Paint Correction Clarity 2012 : 0.000000
Paint Correction Dehaze : 0.000000
Paint Correction Luminance Noise : 0.000000
Paint Correction Moire : 0.000000
Paint Correction Defringe : 0.000000
Paint Correction Temperature : 0.000000
Paint Correction Tint : 0.000000
Paint Correction Mask What : Mask/Paint
Paint Correction Mask Value : 1.000000
Paint Correction Mask Radius : 0.050622
Paint Correction Mask Flow : 1.000000
Paint Correction Mask Center Weight : 0.000000
Gradient Based Corr What : Correction
Gradient Based Corr Amount : 1.000000
Gradient Based Corr Active : true
Gradient Based Corr Saturation : 0.000000
Gradient Based Corr Sharpness : 0.000000
Gradient Based Corr Brightness : 0.000000
Gradient Based Corr Toning Hue : 0.000000
Gradient Based Corr Toning Saturation : 0.000000
Gradient Based Corr Exposure 2012 : -0.088083
Gradient Based Corr Contrast 2012 : 0.000000
Gradient Based Corr Highlights 2012 : 0.000000
Gradient Based Corr Shadows 2012 : 0.000000
Gradient Based Corr Whites 2012 : 0.000000
Gradient Based Corr Blacks 2012 : 0.000000
Gradient Based Corr Clarity 2012 : 0.000000
Gradient Based Corr Dehaze : 0.000000
Gradient Based Corr Luminance Noise : 0.000000
Gradient Based Corr Moire : 0.000000
Gradient Based Corr Defringe : 0.000000
Gradient Based Corr Temperature : 0.000000
Gradient Based Corr Tint : 0.000000
Gradient Based Corr Mask What : Mask/Gradient
Gradient Based Corr Mask Value : 1.000000
Gradient Based Corr Mask Zero X : 0.208838
Gradient Based Corr Mask Zero Y : 0.610120
Gradient Based Corr Mask Full X : 0.103153
Gradient Based Corr Mask Full Y : 0.972596
Image Width : 300
Image Height : 197
Bits Per Sample : 8
Color Components : 3
Aperture : 1.4
Image Size : 300x197
Megapixels : 0.059
Scale Factor To 35 mm Equivalent : 19.3
Shutter Speed : 1/250
Create Date : 2015:09:25 20:15:11.00
Circle Of Confusion : 0.002 mm
Field Of View : 1.3 deg
Focal Length : 85.0 mm (35 mm equivalent: 1639.5 mm)
Hyperfocal Distance : 3312.98 m
Light Value : 3.3
Lens ID : Zeiss Otus 85mm f/1.4 ZE