Uber Exif Photo
Photometric Interpretation : RGB
Make : Canon
Camera Model Name : Canon EOS 5D Mark II
Orientation : Horizontal (normal)
Samples Per Pixel : 3
Planar Configuration : Chunky
Software : Adobe Photoshop CS6 (Windows)
Modify Date : 2015:12:08 18:47:51
Exposure Time : 1.3
F Number : 16.0
Exposure Program : Manual
ISO : 200
Date/Time Original : 2011:08:23 23:06:46
Create Date : 2011:08:23 23:06:46
Shutter Speed Value : 1.3
Aperture Value : 16.0
Exposure Compensation : 0
Max Aperture Value : 4.0
Subject Distance : 4294967295 m
Metering Mode : Multi-segment
Flash : Off, Did not fire
Focal Length : 23.0 mm
Color Space : sRGB
Exif Image Width : 1300
Exif Image Height : 867
Custom Rendered : Normal
Exposure Mode : Manual
White Balance : Manual
Scene Capture Type : Standard
Serial Number : 930600832
Lens Info : 17-40mm f/?
Lens Model : EF17-40mm f/4L USM
Profile Description : sRGB IEC61966-2.1
Lens : EF17-40mm f/4L USM
Image Number : 0
Approximate Focus Distance : 4294967295
Flash Compensation : 0
Firmware : 2.0.7
Rating : 0
Creator Tool : Adobe Photoshop CS5 Windows
Date Created : 2011:08:23 23:06:46.065
Color Mode : RGB
ICC Profile Name : sRGB IEC61966-2.1
Format : image/jpeg
Raw File Name : IMG_1487.CR2
Version : 6.4.1
Process Version : 5.7
Color Temperature : 6500
Tint : +10
Exposure : 0.00
Shadows : 5
Brightness : +50
Contrast : +25
Saturation : +10
Sharpness : 25
Luminance Smoothing : 0
Color Noise Reduction : 25
Chromatic Aberration R : -21
Chromatic Aberration B : 0
Vignette Amount : 0
Shadow Tint : 0
Red Hue : 0
Red Saturation : 0
Green Hue : 0
Green Saturation : 0
Blue Hue : 0
Blue Saturation : 0
Fill Light : 0
Vibrance : +35
Highlight Recovery : 0
Clarity : +25
Defringe : 2
Hue Adjustment Red : 0
Hue Adjustment Orange : 0
Hue Adjustment Yellow : 0
Hue Adjustment Green : 0
Hue Adjustment Aqua : 0
Hue Adjustment Blue : 0
Hue Adjustment Purple : 0
Hue Adjustment Magenta : 0
Saturation Adjustment Red : 0
Saturation Adjustment Orange : 0
Saturation Adjustment Yellow : 0
Saturation Adjustment Green : 0
Saturation Adjustment Aqua : 0
Saturation Adjustment Blue : 0
Saturation Adjustment Purple : 0
Saturation Adjustment Magenta : 0
Luminance Adjustment Red : 0
Luminance Adjustment Orange : 0
Luminance Adjustment Yellow : 0
Luminance Adjustment Green : 0
Luminance Adjustment Aqua : 0
Luminance Adjustment Blue : 0
Luminance Adjustment Purple : 0
Luminance Adjustment Magenta : 0
Split Toning Shadow Hue : 0
Split Toning Shadow Saturation : 0
Split Toning Highlight Hue : 0
Split Toning Highlight Saturation : 0
Split Toning Balance : 0
Parametric Shadows : 0
Parametric Darks : 0
Parametric Lights : 0
Parametric Highlights : 0
Parametric Shadow Split : 25
Parametric Midtone Split : 50
Parametric Highlight Split : 75
Sharpen Radius : +1.0
Sharpen Detail : 25
Sharpen Edge Masking : 0
Post Crop Vignette Amount : 0
Grain Amount : 0
Color Noise Reduction Detail : 50
Lens Profile Enable : 0
Lens Manual Distortion Amount : 0
Perspective Vertical : 0
Perspective Horizontal : 0
Perspective Rotate : 0.0
Perspective Scale : 100
Convert To Grayscale : False
Tone Curve Name : Medium Contrast
Camera Profile : Adobe Standard
Lens Profile Setup : LensDefaults
Has Settings : True
Has Crop : False
Already Applied : True
Tone Curve : 0, 0, 32, 22, 64, 56, 128, 128, 192, 196, 255, 255
Image Width : 300
Image Height : 200
Bits Per Sample : 8
Color Components : 3
Aperture : 16.0
Image Size : 300x200
Megapixels : 0.060
Scale Factor To 35 mm Equivalent : 1.0
Shutter Speed : 1.3
Create Date : 2011:08:23 23:06:46.65
Date/Time Original : 2011:08:23 23:06:46.65
Modify Date : 2015:12:08 18:47:51.65
Circle Of Confusion : 0.031 mm
Depth Of Field : inf (1.07 m - inf)
Field Of View : 77.5 deg
Focal Length : 23.0 mm (35 mm equivalent: 22.4 mm)
Hyperfocal Distance : 1.07 m
Light Value : 6.6
Lens ID : Canon EF 17-40mm f/4L USM