Uber Exif Photo
By-line : EDGAR QUEROL
Copyright Notice : EDGAR QUEROL
Photometric Interpretation : RGB
Make : NIKON CORPORATION
Camera Model Name : NIKON D7100
Orientation : Horizontal (normal)
Samples Per Pixel : 3
Software : Adobe Photoshop CS6 (Macintosh)
Modify Date : 2015:12:08 22:08:00
Artist : EDGAR QUEROL
Copyright : EDGAR QUEROL
Exposure Time : 0.4
F Number : 22.0
Exposure Program : Manual
ISO : 100
Sensitivity Type : Recommended Exposure Index
Date/Time Original : 2015:08:09 17:51:08
Create Date : 2015:08:09 17:51:08
Shutter Speed Value : 0.4
Aperture Value : 22.0
Exposure Compensation : 0
Max Aperture Value : 4.0
Metering Mode : Multi-segment
Light Source : Cloudy
Flash : Off, Did not fire
Focal Length : 12.0 mm
Color Space : sRGB
Exif Image Width : 3984
Exif Image Height : 5976
Sensing Method : One-chip color area
Scene Type : Directly photographed
CFA Pattern : [Red,Green][Green,Blue]
Custom Rendered : Normal
Exposure Mode : Manual
White Balance : Manual
Digital Zoom Ratio : 1
Focal Length In 35mm Format : 12 mm
Scene Capture Type : Standard
Gain Control : None
Contrast : Normal
Saturation : High
Sharpness : Normal
Subject Distance Range : Unknown
Serial Number : 4333955
Lens Info : 12-24mm f/4
Lens Model : 12.0-24.0 mm f/4.0
Format : image/jpeg
Creator Tool : Adobe Photoshop Lightroom 6.1 (Macintosh)
Lens : 12.0-24.0 mm f/4.0
Image Number : 10963
Approximate Focus Distance : 1
Date Created : 2015:08:09 17:51:08.007
Color Mode : RGB
ICC Profile Name : sRGB IEC61966-2.1
Version : 9.1
Process Version : 6.7
Auto White Version : 134348800
Color Temperature : 5850
Tint : +3
Luminance Smoothing : 0
Color Noise Reduction : 25
Vignette Amount : 0
Shadow Tint : 0
Red Hue : 0
Red Saturation : 0
Green Hue : 0
Green Saturation : 0
Blue Hue : 0
Blue Saturation : 0
Gray Mixer Red : -10
Gray Mixer Orange : -19
Gray Mixer Yellow : -7
Gray Mixer Green : -27
Gray Mixer Aqua : -18
Gray Mixer Blue : +10
Gray Mixer Purple : +16
Gray Mixer Magenta : +4
Split Toning Shadow Hue : 0
Split Toning Shadow Saturation : 0
Split Toning Highlight Hue : 0
Split Toning Highlight Saturation : 0
Split Toning Balance : 0
Parametric Shadows : 0
Parametric Darks : 0
Parametric Lights : 0
Parametric Highlights : 0
Parametric Shadow Split : 25
Parametric Midtone Split : 50
Parametric Highlight Split : 75
Sharpen Radius : +1.0
Sharpen Detail : 25
Sharpen Edge Masking : 0
Post Crop Vignette Amount : 0
Grain Amount : 0
Color Noise Reduction Detail : 50
Color Noise Reduction Smoothness : 50
Lens Profile Enable : 0
Lens Manual Distortion Amount : 0
Perspective Vertical : 0
Perspective Horizontal : 0
Perspective Rotate : 0.0
Perspective Scale : 100
Perspective Aspect : 0
Perspective Upright : Off
Auto Lateral CA : 0
Exposure 2012 : -1.35
Contrast 2012 : +32
Highlights 2012 : -53
Shadows 2012 : -92
Whites 2012 : +59
Blacks 2012 : -40
Clarity 2012 : +19
Dehaze : 0
Tone Map Strength : 0
Convert To Grayscale : True
Tone Curve Name : Linear
Tone Curve Name 2012 : Linear
Camera Profile : Adobe Standard
Lens Profile Setup : LensDefaults
Has Settings : True
Crop Top : 0
Crop Left : 0.00291
Crop Bottom : 1
Crop Right : 0.99709
Crop Angle : 0.154495
Crop Constrain To Warp : 0
Has Crop : True
Already Applied : True
Raw File Name : DSC_7853.jpg
Creator : EDGAR QUEROL
Rights : EDGAR QUEROL
Tone Curve : 0, 0, 255, 255
Tone Curve Red : 0, 0, 255, 255
Tone Curve Green : 0, 0, 255, 255
Tone Curve Blue : 0, 0, 255, 255
Tone Curve PV2012 : 0, 0, 255, 255
Tone Curve PV2012 Red : 0, 0, 255, 255
Tone Curve PV2012 Green : 0, 0, 255, 255
Tone Curve PV2012 Blue : 0, 0, 255, 255
Image Width : 200
Image Height : 300
Bits Per Sample : 8
Color Components : 1
Aperture : 22.0
Image Size : 200x300
Megapixels : 0.060
Scale Factor To 35 mm Equivalent : 1.0
Shutter Speed : 0.4
Create Date : 2015:08:09 17:51:08.7
Date/Time Original : 2015:08:09 17:51:08.7
Circle Of Confusion : 0.030 mm
Depth Of Field : inf (0.18 m - inf)
Field Of View : 112.6 deg
Focal Length : 12.0 mm (35 mm equivalent: 12.0 mm)
Hyperfocal Distance : 0.22 m
Light Value : 10.2
Lens ID : AF-S DX Zoom-Nikkor 12-24mm f/4G IF-ED or Tokina AT-X 124 AF PRO DX II (AF 12-24mm f/4)