Uber Exif Photo
By-line : EDGAR QUEROL
Copyright Notice : EDGAR QUEROL
Photometric Interpretation : RGB
Make : NIKON CORPORATION
Camera Model Name : NIKON D7100
Orientation : Horizontal (normal)
Samples Per Pixel : 3
Software : Adobe Photoshop CS6 (Macintosh)
Modify Date : 2015:12:08 22:05:17
Artist : EDGAR QUEROL
Copyright : EDGAR QUEROL
Exposure Time : 1/500
F Number : 4.0
Exposure Program : Aperture-priority AE
ISO : 160
Sensitivity Type : Recommended Exposure Index
Date/Time Original : 2015:08:09 17:48:15
Create Date : 2015:08:09 17:48:15
Shutter Speed Value : 1/500
Aperture Value : 4.0
Exposure Compensation : 0
Max Aperture Value : 4.0
Metering Mode : Multi-segment
Light Source : Cloudy
Flash : Off, Did not fire
Focal Length : 24.0 mm
Color Space : sRGB
Exif Image Width : 5854
Exif Image Height : 3903
Sensing Method : One-chip color area
Scene Type : Directly photographed
CFA Pattern : [Red,Green][Green,Blue]
Custom Rendered : Normal
Exposure Mode : Auto
White Balance : Manual
Digital Zoom Ratio : 1
Focal Length In 35mm Format : 24 mm
Scene Capture Type : Standard
Gain Control : None
Contrast : Normal
Saturation : High
Sharpness : Normal
Subject Distance Range : Unknown
Serial Number : 4333955
Lens Info : 12-24mm f/4
Lens Model : 12.0-24.0 mm f/4.0
Format : image/jpeg
Creator Tool : Adobe Photoshop Lightroom 6.1 (Macintosh)
Lens : 12.0-24.0 mm f/4.0
Image Number : 10951
Approximate Focus Distance : 2
Date Created : 2015:08:09 17:48:15.009
Color Mode : RGB
ICC Profile Name : sRGB IEC61966-2.1
Version : 9.1
Process Version : 6.7
Auto White Version : 134348800
Color Temperature : 5850
Tint : +3
Luminance Smoothing : 0
Color Noise Reduction : 25
Vignette Amount : 0
Shadow Tint : 0
Red Hue : 0
Red Saturation : 0
Green Hue : 0
Green Saturation : 0
Blue Hue : 0
Blue Saturation : 0
Gray Mixer Red : -50
Gray Mixer Orange : +81
Gray Mixer Yellow : -51
Gray Mixer Green : +16
Gray Mixer Aqua : -18
Gray Mixer Blue : +50
Gray Mixer Purple : +28
Gray Mixer Magenta : +25
Split Toning Shadow Hue : 0
Split Toning Shadow Saturation : 0
Split Toning Highlight Hue : 0
Split Toning Highlight Saturation : 0
Split Toning Balance : 0
Parametric Shadows : 0
Parametric Darks : 0
Parametric Lights : 0
Parametric Highlights : 0
Parametric Shadow Split : 25
Parametric Midtone Split : 50
Parametric Highlight Split : 75
Sharpen Radius : +1.2
Sharpen Detail : 25
Sharpen Edge Masking : 14
Post Crop Vignette Amount : -16
Post Crop Vignette Midpoint : 15
Post Crop Vignette Feather : 75
Post Crop Vignette Roundness : +47
Post Crop Vignette Style : Highlight Priority
Post Crop Vignette Highlight Contrast : 23
Grain Amount : 0
Color Noise Reduction Detail : 50
Color Noise Reduction Smoothness : 50
Lens Profile Enable : 0
Lens Manual Distortion Amount : 0
Perspective Vertical : 0
Perspective Horizontal : 0
Perspective Rotate : 0.0
Perspective Scale : 100
Perspective Aspect : 0
Perspective Upright : Off
Auto Lateral CA : 0
Exposure 2012 : +0.25
Contrast 2012 : +61
Highlights 2012 : +100
Shadows 2012 : +8
Whites 2012 : -4
Blacks 2012 : -27
Clarity 2012 : +18
Dehaze : 0
Tone Map Strength : 0
Convert To Grayscale : True
Tone Curve Name : Linear
Tone Curve Name 2012 : Strong Contrast
Camera Profile : Adobe Standard
Lens Profile Setup : LensDefaults
Has Settings : True
Crop Top : 0
Crop Left : 0.017566
Crop Bottom : 1
Crop Right : 0.982434
Crop Angle : 0.952107
Crop Constrain To Warp : 0
Has Crop : True
Already Applied : True
Raw File Name : DSC_7841.jpg
Creator : EDGAR QUEROL
Rights : EDGAR QUEROL
Tone Curve : 0, 0, 255, 255
Tone Curve Red : 0, 0, 255, 255
Tone Curve Green : 0, 0, 255, 255
Tone Curve Blue : 0, 0, 255, 255
Tone Curve PV2012 : 0, 0, 32, 16, 64, 50, 128, 128, 192, 202, 255, 255
Tone Curve PV2012 Red : 0, 0, 255, 255
Tone Curve PV2012 Green : 0, 0, 255, 255
Tone Curve PV2012 Blue : 0, 0, 255, 255
Image Width : 300
Image Height : 200
Bits Per Sample : 8
Color Components : 1
Aperture : 4.0
Image Size : 300x200
Megapixels : 0.060
Scale Factor To 35 mm Equivalent : 1.0
Shutter Speed : 1/500
Create Date : 2015:08:09 17:48:15.9
Date/Time Original : 2015:08:09 17:48:15.9
Circle Of Confusion : 0.030 mm
Depth Of Field : 1.99 m (1.42 - 3.40 m)
Field Of View : 73.7 deg
Focal Length : 24.0 mm (35 mm equivalent: 24.0 mm)
Hyperfocal Distance : 4.79 m
Light Value : 12.3
Lens ID : Tokina AT-X 124 AF PRO DX II (AF 12-24mm f/4) or AF-S DX Zoom-Nikkor 12-24mm f/4G IF-ED