Uber Exif Photo
Make : SONY
Camera Model Name : ILCE-6000
Orientation : Horizontal (normal)
Software : Adobe Photoshop CS6 (Windows)
Modify Date : 2015:01:11 11:17:46
Exposure Time : 1/15
F Number : 11.0
Exposure Program : Manual
ISO : 100
Sensitivity Type : Recommended Exposure Index
Recommended Exposure Index : 100
Date/Time Original : 2015:01:02 17:55:14
Create Date : 2015:01:02 17:55:14
Shutter Speed Value : 1/15
Aperture Value : 11.0
Brightness Value : 4.540625
Exposure Compensation : 0
Max Aperture Value : 4.5
Metering Mode : Multi-segment
Light Source : Daylight
Flash : Off, Did not fire
Focal Length : 55.0 mm
Color Space : sRGB
Exif Image Width : 1920
Exif Image Height : 1080
Scene Type : Directly photographed
Custom Rendered : Normal
Exposure Mode : Manual
White Balance : Manual
Digital Zoom Ratio : 1
Focal Length In 35mm Format : 82 mm
Scene Capture Type : Standard
Contrast : Low
Saturation : High
Sharpness : Hard
Lens Info : 55-210mm f/4.5-6.3
Lens Model : E 55-210mm F4.5-6.3 OSS
Profile Description : sRGB IEC61966-2.1
Creator Tool : ILCE-6000 v1.00
Rating : 1
Lens : E 55-210mm F4.5-6.3 OSS
Lens Distort Info : 1056465413/1073741824 10810256/1073741824 3878393/1073741824 2571929/1073741824
Date Created : 2015:01:02 17:55:14
Color Mode : RGB
ICC Profile Name : sRGB IEC61966-2.1
Format : image/jpeg
Raw File Name : _DSC0786 edit 2.jpg
Version : 8.6
Process Version : 6.7
Auto White Version : 134348800
Incremental Temperature : 0
Incremental Tint : 0
Luminance Smoothing : 0
Color Noise Reduction : 0
Vignette Amount : 0
Shadow Tint : 0
Red Hue : 0
Red Saturation : 0
Green Hue : 0
Green Saturation : 0
Blue Hue : 0
Blue Saturation : 0
Vibrance : 0
Hue Adjustment Red : 0
Hue Adjustment Orange : 0
Hue Adjustment Yellow : 0
Hue Adjustment Green : 0
Hue Adjustment Aqua : 0
Hue Adjustment Blue : 0
Hue Adjustment Purple : 0
Hue Adjustment Magenta : 0
Saturation Adjustment Red : 0
Saturation Adjustment Orange : 0
Saturation Adjustment Yellow : 0
Saturation Adjustment Green : 0
Saturation Adjustment Aqua : 0
Saturation Adjustment Blue : 0
Saturation Adjustment Purple : 0
Saturation Adjustment Magenta : 0
Luminance Adjustment Red : 0
Luminance Adjustment Orange : 0
Luminance Adjustment Yellow : 0
Luminance Adjustment Green : 0
Luminance Adjustment Aqua : 0
Luminance Adjustment Blue : 0
Luminance Adjustment Purple : 0
Luminance Adjustment Magenta : 0
Split Toning Shadow Hue : 0
Split Toning Shadow Saturation : 0
Split Toning Highlight Hue : 0
Split Toning Highlight Saturation : 0
Split Toning Balance : 0
Parametric Shadows : 0
Parametric Darks : 0
Parametric Lights : 0
Parametric Highlights : 0
Parametric Shadow Split : 25
Parametric Midtone Split : 50
Parametric Highlight Split : 75
Sharpen Radius : +1.0
Sharpen Detail : 25
Sharpen Edge Masking : 0
Post Crop Vignette Amount : 0
Grain Amount : 0
Lens Profile Enable : 0
Lens Manual Distortion Amount : 0
Perspective Vertical : 0
Perspective Horizontal : 0
Perspective Rotate : 0.0
Perspective Scale : 100
Perspective Aspect : 0
Perspective Upright : Off
Auto Lateral CA : 1
Exposure 2012 : 0.00
Contrast 2012 : 0
Highlights 2012 : 0
Shadows 2012 : 0
Whites 2012 : -15
Blacks 2012 : 0
Clarity 2012 : 0
Defringe Purple Amount : 4
Defringe Purple Hue Lo : 0
Defringe Purple Hue Hi : 34
Defringe Green Amount : 0
Defringe Green Hue Lo : 40
Defringe Green Hue Hi : 60
Convert To Grayscale : False
Tone Curve Name : Linear
Tone Curve Name 2012 : Linear
Camera Profile : Embedded
Lens Profile Setup : LensDefaults
Has Settings : True
Has Crop : False
Already Applied : True
Tone Curve : 0, 0, 255, 255
Tone Curve Red : 0, 0, 255, 255
Tone Curve Green : 0, 0, 255, 255
Tone Curve Blue : 0, 0, 255, 255
Tone Curve PV2012 : 0, 0, 255, 255
Tone Curve PV2012 Red : 0, 0, 255, 255
Tone Curve PV2012 Green : 0, 0, 255, 255
Tone Curve PV2012 Blue : 0, 0, 255, 255
Image Width : 300
Image Height : 169
Bits Per Sample : 8
Color Components : 3
Aperture : 11.0
Image Size : 300x169
Megapixels : 0.051
Scale Factor To 35 mm Equivalent : 1.5
Shutter Speed : 1/15
Circle Of Confusion : 0.020 mm
Field Of View : 24.8 deg
Focal Length : 55.0 mm (35 mm equivalent: 82.0 mm)
Hyperfocal Distance : 13.65 m
Light Value : 10.8
Lens ID : E 55-210mm F4.5-6.3 OSS