Uber Exif Photo
Caption-Abstract : Stitched Panorama
Copyright Notice : Andrew Fussell
Copyright Flag : True
Photometric Interpretation : RGB
Image Description : Stitched Panorama
Make : Canon
Camera Model Name : Canon EOS 5D Mark II
Orientation : Horizontal (normal)
Samples Per Pixel : 3
Software : Adobe Photoshop CS6 (Macintosh)
Modify Date : 2015:12:23 11:09:08
Copyright : Andrew Fussell
Exposure Time : 0.4
F Number : 11.0
Exposure Program : Manual
ISO : 100
Date/Time Original : 2011:04:19 08:06:53
Create Date : 2011:04:19 08:06:53
Shutter Speed Value : 0.4
Aperture Value : 11.0
Exposure Compensation : 0
Max Aperture Value : 4.0
Subject Distance : 4294967295 m
Metering Mode : Multi-segment
Flash : Off, Did not fire
Focal Length : 116.0 mm
User Comment : Kolor stitching | 8 pictures | Size: 16774 x 5577 | FOV: 49.97 x 17.61 ~ 1.16 | RMS: 1.90 | Lens: Standard | Projection: Planar | Color: None |
Color Space : sRGB
Exif Image Width : 1200
Exif Image Height : 399
Custom Rendered : Normal
Exposure Mode : Manual
White Balance : Manual
Scene Capture Type : Standard
Serial Number : 330224138
Lens Info : 70-200mm f/?
Lens Model : EF70-200mm f/4L IS USM
Profile Description : sRGB IEC61966-2.1
Creator Tool : Adobe Photoshop Lightroom 5.7.1 (Macintosh)
Format : image/jpeg
Date Created : 2011:04:19 08:06:53.059
Color Mode : RGB
ICC Profile Name : sRGB IEC61966-2.1
Lens : EF70-200mm f/4L IS USM
Approximate Focus Distance : 4294967295
Marked : True
Version : 8.7.1
Process Version : 6.7
Auto White Version : 134348800
Incremental Temperature : 0
Incremental Tint : 0
Saturation : 0
Sharpness : 0
Luminance Smoothing : 0
Color Noise Reduction : 0
Vignette Amount : 0
Shadow Tint : 0
Red Hue : 0
Red Saturation : 0
Green Hue : 0
Green Saturation : 0
Blue Hue : 0
Blue Saturation : 0
Vibrance : 0
Hue Adjustment Red : 0
Hue Adjustment Orange : 0
Hue Adjustment Yellow : 0
Hue Adjustment Green : 0
Hue Adjustment Aqua : 0
Hue Adjustment Blue : 0
Hue Adjustment Purple : 0
Hue Adjustment Magenta : 0
Saturation Adjustment Red : 0
Saturation Adjustment Orange : 0
Saturation Adjustment Yellow : 0
Saturation Adjustment Green : 0
Saturation Adjustment Aqua : 0
Saturation Adjustment Blue : 0
Saturation Adjustment Purple : 0
Saturation Adjustment Magenta : 0
Luminance Adjustment Red : 0
Luminance Adjustment Orange : 0
Luminance Adjustment Yellow : 0
Luminance Adjustment Green : 0
Luminance Adjustment Aqua : 0
Luminance Adjustment Blue : 0
Luminance Adjustment Purple : 0
Luminance Adjustment Magenta : 0
Split Toning Shadow Hue : 0
Split Toning Shadow Saturation : 0
Split Toning Highlight Hue : 0
Split Toning Highlight Saturation : 0
Split Toning Balance : 0
Parametric Shadows : 0
Parametric Darks : 0
Parametric Lights : 0
Parametric Highlights : 0
Parametric Shadow Split : 25
Parametric Midtone Split : 50
Parametric Highlight Split : 75
Sharpen Radius : +1.0
Sharpen Detail : 25
Sharpen Edge Masking : 0
Post Crop Vignette Amount : 0
Grain Amount : 0
Lens Profile Enable : 0
Lens Manual Distortion Amount : 0
Perspective Vertical : 0
Perspective Horizontal : 0
Perspective Rotate : 0.0
Perspective Scale : 100
Perspective Aspect : 0
Perspective Upright : Off
Auto Lateral CA : 0
Exposure 2012 : -0.20
Contrast 2012 : +10
Highlights 2012 : +6
Shadows 2012 : 0
Whites 2012 : 0
Blacks 2012 : -25
Clarity 2012 : 0
Defringe Purple Amount : 0
Defringe Purple Hue Lo : 30
Defringe Purple Hue Hi : 70
Defringe Green Amount : 0
Defringe Green Hue Lo : 40
Defringe Green Hue Hi : 60
Convert To Grayscale : False
Tone Curve Name : Linear
Tone Curve Name 2012 : Linear
Camera Profile : Embedded
Lens Profile Setup : LensDefaults
Has Settings : True
Has Crop : False
Already Applied : True
Rights : Andrew Fussell
Description : Stitched Panorama
Tone Curve : 0, 0, 255, 255
Tone Curve Red : 0, 0, 255, 255
Tone Curve Green : 0, 0, 255, 255
Tone Curve Blue : 0, 0, 255, 255
Tone Curve PV2012 : 0, 0, 255, 255
Tone Curve PV2012 Red : 0, 0, 255, 255
Tone Curve PV2012 Green : 0, 0, 255, 255
Tone Curve PV2012 Blue : 0, 0, 255, 255
Image Width : 300
Image Height : 100
Bits Per Sample : 8
Color Components : 3
Aperture : 11.0
Image Size : 300x100
Megapixels : 0.030
Scale Factor To 35 mm Equivalent : 1.0
Shutter Speed : 0.4
Create Date : 2011:04:19 08:06:53.59
Date/Time Original : 2011:04:19 08:06:53.59
Circle Of Confusion : 0.031 mm
Depth Of Field : inf (39.73 m - inf)
Field Of View : 18.1 deg
Focal Length : 116.0 mm (35 mm equivalent: 113.2 mm)
Hyperfocal Distance : 39.73 m
Light Value : 8.2
Lens ID : EF70-200mm f/4L IS USM