Uber Exif Photo
Caption-Abstract : OLYMPUS DIGITAL CAMERA
By-line : ERIK NAINGGOLAN
Copyright Notice : FOTOEPIC.COM
Image Description : OLYMPUS DIGITAL CAMERA
Make : OLYMPUS IMAGING CORP.
Camera Model Name : E-M1
Orientation : Horizontal (normal)
Software : Adobe Photoshop CS6 (Macintosh)
Modify Date : 2015:10:07 19:56:18
Artist : ERIK NAINGGOLAN
Copyright : FOTOEPIC.COM
Exposure Time : 1/100
F Number : 3.2
Exposure Program : Program AE
ISO : 200
Sensitivity Type : Standard Output Sensitivity
Date/Time Original : 2014:12:11 09:48:05
Create Date : 2014:12:11 09:48:05
Shutter Speed Value : 1/100
Aperture Value : 3.2
Exposure Compensation : 0
Max Aperture Value : 2.0
Metering Mode : Multi-segment
Light Source : Unknown
Flash : Auto, Did not fire
Focal Length : 12.0 mm
Color Space : Uncalibrated
Exif Image Width : 4608
Exif Image Height : 3456
CFA Pattern : [Blue,Green][Green,Red]
Custom Rendered : Custom
Exposure Mode : Auto
White Balance : Manual
Digital Zoom Ratio : 1
Focal Length In 35mm Format : 24 mm
Scene Capture Type : Standard
Gain Control : Low gain up
Contrast : Normal
Saturation : Normal
Sharpness : Normal
Serial Number : BHP288469
Lens Info : 12mm f/2
Lens Model : OLYMPUS M.12mm F2.0
Lens Serial Number : ABF001738
Format : image/jpeg
Creator Tool : Version 2.0
Rating : 0
Lens : OLYMPUS M.12mm F2.0
Approximate Focus Distance : 1.26
Flash Compensation : 0
Distortion Correction Already Applied : True
Lateral Chromatic Aberration Correction Already Applied:
True
Date Created : 2014:12:11 09:48:05
Color Mode : Grayscale
ICC Profile Name : Gray Gamma 2.2
Raw File Name : EM112660.ORF
Version : 9.0
Process Version : 6.7
Auto White Version : 134348800
Color Temperature : 5050
Tint : +29
Luminance Smoothing : 0
Color Noise Reduction : 25
Vignette Amount : 0
Shadow Tint : 0
Red Hue : 0
Red Saturation : 0
Green Hue : 0
Green Saturation : 0
Blue Hue : 0
Blue Saturation : 0
Gray Mixer Red : +7
Gray Mixer Orange : +35
Gray Mixer Yellow : -23
Gray Mixer Green : -27
Gray Mixer Aqua : -18
Gray Mixer Blue : -41
Gray Mixer Purple : +15
Gray Mixer Magenta : +4
Split Toning Shadow Hue : 0
Split Toning Shadow Saturation : 0
Split Toning Highlight Hue : 0
Split Toning Highlight Saturation : 0
Split Toning Balance : 0
Parametric Shadows : +82
Parametric Darks : 0
Parametric Lights : 0
Parametric Highlights : 0
Parametric Shadow Split : 25
Parametric Midtone Split : 50
Parametric Highlight Split : 75
Sharpen Radius : +1.0
Sharpen Detail : 25
Sharpen Edge Masking : 0
Post Crop Vignette Amount : 0
Grain Amount : 0
Color Noise Reduction Detail : 50
Color Noise Reduction Smoothness : 50
Lens Profile Enable : 0
Lens Manual Distortion Amount : 0
Perspective Vertical : 0
Perspective Horizontal : 0
Perspective Rotate : 0.0
Perspective Scale : 100
Perspective Aspect : 0
Perspective Upright : Off
Auto Lateral CA : 0
Exposure 2012 : -1.30
Contrast 2012 : +28
Highlights 2012 : +14
Shadows 2012 : -17
Whites 2012 : +59
Blacks 2012 : 0
Clarity 2012 : +61
Convert To Grayscale : True
Tone Curve Name : Medium Contrast
Tone Curve Name 2012 : Linear
Camera Profile : Adobe Standard
Lens Profile Setup : LensDefaults
Has Settings : True
Has Crop : False
Already Applied : True
Description : OLYMPUS DIGITAL CAMERA
Creator : ERIK NAINGGOLAN
Rights : FOTOEPIC.COM
Tone Curve : 0, 0, 32, 22, 64, 56, 128, 128, 192, 196, 255, 255
Tone Curve Red : 0, 0, 255, 255
Tone Curve Green : 0, 0, 255, 255
Tone Curve Blue : 0, 0, 255, 255
Tone Curve PV2012 : 0, 0, 255, 255
Tone Curve PV2012 Red : 0, 0, 255, 255
Tone Curve PV2012 Green : 0, 0, 255, 255
Tone Curve PV2012 Blue : 0, 0, 255, 255
Gradient Based Corr What : Correction
Gradient Based Corr Amount : 1.000000
Gradient Based Corr Active : true
Gradient Based Corr Exposure : 0.000000
Gradient Based Corr Saturation : 0.000000
Gradient Based Corr Contrast : 0.000000
Gradient Based Corr Clarity : 0.000000
Gradient Based Corr Sharpness : 0.820000
Gradient Based Corr Brightness : 0.000000
Gradient Based Corr Toning Hue : 1.000000
Gradient Based Corr Toning Saturation : 0.000000
Gradient Based Corr Exposure 2012 : -0.425000
Gradient Based Corr Contrast 2012 : 0.240000
Gradient Based Corr Highlights 2012 : -0.580000
Gradient Based Corr Shadows 2012 : -0.660000
Gradient Based Corr Clarity 2012 : 0.620000
Gradient Based Corr Luminance Noise : 0.500000
Gradient Based Corr Moire : 0.000000
Gradient Based Corr Defringe : 0.000000
Gradient Based Corr Temperature : 0.090000
Gradient Based Corr Tint : 0.000000
Gradient Based Corr Mask What : Mask/Gradient
Gradient Based Corr Mask Value : 1.000000
Gradient Based Corr Mask Zero X : 0.191624
Gradient Based Corr Mask Zero Y : 0.412860
Gradient Based Corr Mask Full X : -0.006345
Gradient Based Corr Mask Full Y : -0.001692
Image Width : 300
Image Height : 225
Bits Per Sample : 8
Color Components : 1
Aperture : 3.2
Image Size : 300x225
Megapixels : 0.068
Scale Factor To 35 mm Equivalent : 2.0
Shutter Speed : 1/100
Circle Of Confusion : 0.015 mm
Depth Of Field : 1.27 m (0.89 - 2.16 m)
Field Of View : 73.7 deg
Focal Length : 12.0 mm (35 mm equivalent: 24.0 mm)
Hyperfocal Distance : 3.00 m
Light Value : 9.0
Lens ID : OLYMPUS M.12mm F2.0