Uber Exif Photo
Photometric Interpretation : RGB
Make : Leica Camera AG
Camera Model Name : M9 Digital Camera
Orientation : Horizontal (normal)
Samples Per Pixel : 3
Planar Configuration : Chunky
Software : Adobe Photoshop CC 2015 (Macintosh)
Modify Date : 2015:12:23 11:41:03
Exposure Time : 1/125
F Number : 1.0
Exposure Program : Aperture-priority AE
ISO : 160
Date/Time Original : 2011:06:06 16:52:54
Create Date : 2011:06:06 16:52:54
Shutter Speed Value : 1/125
Aperture Value : 1.0
Exposure Compensation : -0.332
Max Aperture Value : 1.0
Metering Mode : Center-weighted average
Light Source : Other
Flash : No Flash
Color Space : Uncalibrated
Exif Image Width : 858
Exif Image Height : 571
Scene Type : Directly photographed
Exposure Mode : Manual
White Balance : Manual
Digital Zoom Ratio : 0
Scene Capture Type : Standard
Serial Number : 3810004
Creator Tool : Adobe Photoshop CS5 Macintosh
Date Created : 2011:06:06 16:52:54
Color Mode : RGB
ICC Profile Name : Adobe RGB (1998)
Version : 6.4.1
Process Version : 5.7
Color Temperature : 5000
Tint : +36
Exposure : +0.25
Shadows : 12
Brightness : +114
Contrast : +50
Sharpness : 25
Luminance Smoothing : 0
Color Noise Reduction : 25
Chromatic Aberration R : 0
Chromatic Aberration B : 0
Vignette Amount : 0
Shadow Tint : 0
Red Hue : 0
Red Saturation : 0
Green Hue : 0
Green Saturation : 0
Blue Hue : 0
Blue Saturation : 0
Fill Light : 15
Highlight Recovery : 79
Clarity : +42
Defringe : 0
Gray Mixer Red : -14
Gray Mixer Orange : -17
Gray Mixer Yellow : -18
Gray Mixer Green : -18
Gray Mixer Aqua : -8
Gray Mixer Blue : +9
Gray Mixer Purple : +8
Gray Mixer Magenta : -5
Split Toning Shadow Hue : 0
Split Toning Shadow Saturation : 0
Split Toning Highlight Hue : 0
Split Toning Highlight Saturation : 0
Split Toning Balance : 0
Parametric Shadows : +8
Parametric Darks : -5
Parametric Lights : +15
Parametric Highlights : +2
Parametric Shadow Split : 25
Parametric Midtone Split : 50
Parametric Highlight Split : 75
Sharpen Radius : +1.0
Sharpen Detail : 25
Sharpen Edge Masking : 0
Post Crop Vignette Amount : 0
Grain Amount : 0
Color Noise Reduction Detail : 50
Lens Profile Enable : 0
Lens Manual Distortion Amount : 0
Perspective Vertical : 0
Perspective Horizontal : 0
Perspective Rotate : 0.0
Perspective Scale : 100
Convert To Grayscale : True
Tone Curve Name : Medium Contrast
Camera Profile : Adobe Standard
Lens Profile Setup : LensDefaults
Has Settings : True
Has Crop : False
Already Applied : True
Format : image/jpeg
Tone Curve : 0, 0, 32, 22, 64, 56, 128, 128, 192, 196, 255, 255
Image Width : 300
Image Height : 200
Bits Per Sample : 8
Color Components : 1
Aperture : 1.0
Image Size : 300x200
Megapixels : 0.060
Scale Factor To 35 mm Equivalent : 6.1
Shutter Speed : 1/125
Circle Of Confusion : 0.005 mm
Light Value : 6.3