Uber Exif Photo
Caption-Abstract : La chenille passe son existence à se nourrir, effectuant quelques mues, grandissant petit à petit, tout en changeant d’aspect.
By-line : Thierry Kergroac'h
By-line Title : Photographe & artiste numérique
Object Name : Mue intermédiaire - 4
Keywords : Thierry Kergroac'h, Canon 5 D MK II
Copyright Notice : Please share if you like this image!.The unauthorized use of any images will be litigated.
Copyright Flag : True
Image Description : La chenille passe son existence à se nourrir, effectuant quelques mues, grandissant petit à petit, tout en changeant d’aspect.
Orientation : Horizontal (normal)
Software : Adobe Photoshop CC 2015 (Windows)
Modify Date : 2015:12:28 11:42:33
Artist : Thierry Kergroac'h
Copyright : Please share if you like this image!.The unauthorized use of any images will be litigated.
Create Date : 2013:04:03 20:57:18
Color Space : Uncalibrated
Exif Image Width : 1200
Exif Image Height : 800
Profile Description : Adobe RGB (1998)
Creator Tool : Adobe Photoshop CC (Windows)
Rating : 0
Authors Position : Photographe & artiste numérique
Color Mode : RGB
ICC Profile Name : Adobe RGB (1998)
Format : image/jpeg
Marked : True
Raw File Name : mue-4.jpg
Version : 9.3.1
Process Version : 6.7
White Balance : Auto
Auto White Version : 134348800
Incremental Temperature : -27
Incremental Tint : -13
Saturation : 0
Sharpness : 0
Luminance Smoothing : 0
Color Noise Reduction : 0
Vignette Amount : 0
Shadow Tint : 0
Red Hue : 0
Red Saturation : 0
Green Hue : 0
Green Saturation : 0
Blue Hue : 0
Blue Saturation : 0
Vibrance : 0
Hue Adjustment Red : 0
Hue Adjustment Orange : 0
Hue Adjustment Yellow : 0
Hue Adjustment Green : 0
Hue Adjustment Aqua : 0
Hue Adjustment Blue : 0
Hue Adjustment Purple : 0
Hue Adjustment Magenta : 0
Saturation Adjustment Red : +3
Saturation Adjustment Orange : 0
Saturation Adjustment Yellow : +34
Saturation Adjustment Green : +35
Saturation Adjustment Aqua : 0
Saturation Adjustment Blue : 0
Saturation Adjustment Purple : 0
Saturation Adjustment Magenta : 0
Luminance Adjustment Red : 0
Luminance Adjustment Orange : 0
Luminance Adjustment Yellow : 0
Luminance Adjustment Green : 0
Luminance Adjustment Aqua : 0
Luminance Adjustment Blue : 0
Luminance Adjustment Purple : 0
Luminance Adjustment Magenta : 0
Split Toning Shadow Hue : 0
Split Toning Shadow Saturation : 0
Split Toning Highlight Hue : 0
Split Toning Highlight Saturation : 0
Split Toning Balance : 0
Parametric Shadows : 0
Parametric Darks : 0
Parametric Lights : 0
Parametric Highlights : 0
Parametric Shadow Split : 25
Parametric Midtone Split : 50
Parametric Highlight Split : 75
Sharpen Radius : +1.0
Sharpen Detail : 25
Sharpen Edge Masking : 0
Post Crop Vignette Amount : 0
Grain Amount : 0
Lens Profile Enable : 0
Lens Manual Distortion Amount : 0
Perspective Vertical : 0
Perspective Horizontal : 0
Perspective Rotate : 0.0
Perspective Scale : 100
Perspective Aspect : 0
Perspective Upright : Off
Auto Lateral CA : 0
Exposure 2012 : +0.30
Contrast 2012 : +13
Highlights 2012 : -79
Shadows 2012 : 0
Whites 2012 : +4
Blacks 2012 : +19
Clarity 2012 : 0
Defringe Purple Amount : 0
Defringe Purple Hue Lo : 30
Defringe Purple Hue Hi : 70
Defringe Green Amount : 0
Defringe Green Hue Lo : 40
Defringe Green Hue Hi : 60
Dehaze : 0
Tone Map Strength : 0
Convert To Grayscale : False
Tone Curve Name : Linear
Tone Curve Name 2012 : Linear
Camera Profile : Embedded
Lens Profile Setup : LensDefaults
Has Settings : True
Has Crop : False
Already Applied : True
Creator : Thierry Kergroac'h
Subject : Thierry Kergroac'h, Canon 5 D MK II
Rights : Please share if you like this image!.The unauthorized use of any images will be litigated.
Title : Mue intermédiaire - 4
Description : La chenille passe son existence à se nourrir, effectuant quelques mues, grandissant petit à petit, tout en changeant d’aspect.
Creator Address : Le Magellan.390 avenue Marie de Solms.
Creator City : Aix les Bains
Creator Region : Savoie
Creator Postal Code : 73100
Creator Country : France
Creator Work Email : kergroach.thierry@neuf.fr
Creator Work URL : http://www.visites-interactives.eu
Tone Curve : 0, 0, 255, 255
Tone Curve Red : 0, 0, 255, 255
Tone Curve Green : 0, 0, 255, 255
Tone Curve Blue : 0, 0, 255, 255
Tone Curve PV2012 : 0, 0, 255, 255
Tone Curve PV2012 Red : 0, 0, 255, 255
Tone Curve PV2012 Green : 0, 0, 255, 255
Tone Curve PV2012 Blue : 0, 0, 255, 255
Image Width : 300
Image Height : 200
Bits Per Sample : 8
Color Components : 3
Image Size : 300x200
Megapixels : 0.060