Uber Exif Photo
Make : Canon
Camera Model Name : Canon PowerShot SX120 IS
Software : Adobe Photoshop Lightroom 3.4
Modify Date : 2015:11:22 17:29:39
Exposure Time : 1/30
F Number : 3.2
ISO : 200
Date/Time Original : 2015:11:22 13:38:02
Create Date : 2015:11:22 13:38:02
Shutter Speed Value : 1/30
Aperture Value : 3.2
Exposure Compensation : 0
Max Aperture Value : 3.2
Subject Distance : 0.11 m
Metering Mode : Multi-segment
Flash : Off, Did not fire
Focal Length : 8.2 mm
Sensing Method : One-chip color area
Custom Rendered : Normal
Exposure Mode : Auto
White Balance : Auto
Digital Zoom Ratio : 1
Scene Capture Type : Portrait
Lens Info : 6-60mm f/?
Lens Model : 6.0-60.0 mm
Profile Description : sRGB IEC61966-2.1
Lens : 6.0-60.0 mm
Approximate Focus Distance : 0.11
Flash Compensation : 0
Firmware : 1.00
Creator Tool : Adobe Photoshop Lightroom 3.4
Date Created : 2015:11:22 13:38:02
Version : 6.4
Process Version : 5.7
Incremental Temperature : 0
Incremental Tint : 0
Exposure : 0.00
Shadows : 15
Brightness : 0
Contrast : 0
Saturation : 0
Sharpness : 0
Luminance Smoothing : 100
Color Noise Reduction : 0
Chromatic Aberration R : 0
Chromatic Aberration B : 0
Vignette Amount : 0
Shadow Tint : 0
Red Hue : 0
Red Saturation : 0
Green Hue : 0
Green Saturation : 0
Blue Hue : 0
Blue Saturation : 0
Fill Light : 20
Vibrance : 0
Highlight Recovery : 100
Clarity : +100
Defringe : 0
Hue Adjustment Red : +41
Hue Adjustment Orange : 0
Hue Adjustment Yellow : 0
Hue Adjustment Green : 0
Hue Adjustment Aqua : 0
Hue Adjustment Blue : 0
Hue Adjustment Purple : 0
Hue Adjustment Magenta : 0
Saturation Adjustment Red : +100
Saturation Adjustment Orange : 0
Saturation Adjustment Yellow : 0
Saturation Adjustment Green : 0
Saturation Adjustment Aqua : 0
Saturation Adjustment Blue : 0
Saturation Adjustment Purple : 0
Saturation Adjustment Magenta : 0
Luminance Adjustment Red : -23
Luminance Adjustment Orange : 0
Luminance Adjustment Yellow : 0
Luminance Adjustment Green : 0
Luminance Adjustment Aqua : 0
Luminance Adjustment Blue : 0
Luminance Adjustment Purple : 0
Luminance Adjustment Magenta : 0
Split Toning Shadow Hue : 46
Split Toning Shadow Saturation : 62
Split Toning Highlight Hue : 0
Split Toning Highlight Saturation : 0
Split Toning Balance : +15
Parametric Shadows : 0
Parametric Darks : 0
Parametric Lights : 0
Parametric Highlights : 0
Parametric Shadow Split : 25
Parametric Midtone Split : 50
Parametric Highlight Split : 75
Sharpen Radius : +1.0
Sharpen Detail : 25
Sharpen Edge Masking : 0
Post Crop Vignette Amount : 0
Grain Amount : 0
Luminance Noise Reduction Detail : 0
Luminance Noise Reduction Contrast : 0
Lens Profile Enable : 0
Lens Manual Distortion Amount : 0
Perspective Vertical : 0
Perspective Horizontal : 0
Perspective Rotate : 0.0
Perspective Scale : 100
Convert To Grayscale : False
Tone Curve Name : Linear
Camera Profile : Embedded
Lens Profile Setup : LensDefaults
Has Settings : True
Has Crop : False
Already Applied : True
Tone Curve : 0, 0, 255, 255
Image Width : 300
Image Height : 400
Bits Per Sample : 8
Color Components : 3
Aperture : 3.2
Image Size : 300x400
Megapixels : 0.120
Scale Factor To 35 mm Equivalent : 6.0
Shutter Speed : 1/30
Circle Of Confusion : 0.005 mm
Depth Of Field : 0.005 m (0.107 - 0.113 m)
Field Of View : 40.0 deg
Focal Length : 8.2 mm (35 mm equivalent: 49.4 mm)
Hyperfocal Distance : 4.21 m
Light Value : 7.3
Lens ID : 6.0-60.0mm