Uber Exif Photo
Make : Canon
Camera Model Name : Canon PowerShot SX120 IS
Software : Adobe Photoshop Lightroom 3.4
Modify Date : 2015:12:27 19:54:55
Exposure Time : 1/320
F Number : 3.5
ISO : 80
Date/Time Original : 2015:12:27 16:27:08
Create Date : 2015:12:27 16:27:08
Shutter Speed Value : 1/320
Aperture Value : 3.5
Exposure Compensation : 0
Max Aperture Value : 3.5
Subject Distance : 0.14 m
Metering Mode : Multi-segment
Flash : Off, Did not fire
Focal Length : 12.8 mm
Sensing Method : One-chip color area
Custom Rendered : Normal
Exposure Mode : Auto
White Balance : Auto
Digital Zoom Ratio : 1
Scene Capture Type : Portrait
Lens Info : 6-60mm f/?
Lens Model : 6.0-60.0 mm
Profile Description : ProPhoto RGB
Lens : 6.0-60.0 mm
Approximate Focus Distance : 0.14
Flash Compensation : 0
Firmware : 1.00
Creator Tool : Adobe Photoshop Lightroom 3.4
Date Created : 2015:12:27 16:27:08
Version : 6.4
Process Version : 5.7
Incremental Temperature : 0
Incremental Tint : 0
Exposure : 0.00
Shadows : 0
Brightness : 0
Contrast : +28
Saturation : 0
Sharpness : 150
Luminance Smoothing : 86
Color Noise Reduction : 0
Chromatic Aberration R : 0
Chromatic Aberration B : 0
Vignette Amount : 0
Shadow Tint : 0
Red Hue : 0
Red Saturation : 0
Green Hue : 0
Green Saturation : 0
Blue Hue : 0
Blue Saturation : 0
Fill Light : 17
Vibrance : 0
Highlight Recovery : 53
Clarity : +100
Defringe : 0
Hue Adjustment Red : 0
Hue Adjustment Orange : 0
Hue Adjustment Yellow : 0
Hue Adjustment Green : 0
Hue Adjustment Aqua : 0
Hue Adjustment Blue : 0
Hue Adjustment Purple : 0
Hue Adjustment Magenta : 0
Saturation Adjustment Red : 0
Saturation Adjustment Orange : +36
Saturation Adjustment Yellow : +23
Saturation Adjustment Green : +43
Saturation Adjustment Aqua : +36
Saturation Adjustment Blue : +25
Saturation Adjustment Purple : 0
Saturation Adjustment Magenta : 0
Luminance Adjustment Red : 0
Luminance Adjustment Orange : 0
Luminance Adjustment Yellow : 0
Luminance Adjustment Green : 0
Luminance Adjustment Aqua : 0
Luminance Adjustment Blue : 0
Luminance Adjustment Purple : 0
Luminance Adjustment Magenta : 0
Split Toning Shadow Hue : 0
Split Toning Shadow Saturation : 0
Split Toning Highlight Hue : 0
Split Toning Highlight Saturation : 0
Split Toning Balance : 0
Parametric Shadows : -45
Parametric Darks : -20
Parametric Lights : -1
Parametric Highlights : +43
Parametric Shadow Split : 25
Parametric Midtone Split : 50
Parametric Highlight Split : 75
Sharpen Radius : +0.5
Sharpen Detail : 0
Sharpen Edge Masking : 100
Post Crop Vignette Amount : 0
Grain Amount : 0
Luminance Noise Reduction Detail : 50
Luminance Noise Reduction Contrast : 84
Lens Profile Enable : 0
Lens Manual Distortion Amount : 0
Perspective Vertical : 0
Perspective Horizontal : 0
Perspective Rotate : 0.0
Perspective Scale : 100
Convert To Grayscale : False
Tone Curve Name : Linear
Camera Profile : Embedded
Lens Profile Setup : LensDefaults
Has Settings : True
Crop Top : 0.334279
Crop Left : 0.073124
Crop Bottom : 0.665721
Crop Right : 0.926876
Crop Angle : -20.6363
Crop Constrain To Warp : 0
Crop Width : 2596
Crop Height : 1946
Crop Unit : pixels
Has Crop : True
Already Applied : True
Tone Curve : 0, 0, 255, 255
Paint Correction What : Correction
Paint Correction Amount : 1.000000
Paint Correction Active : true
Paint Correction Exposure : -0.080460
Paint Correction Saturation : 0.000000
Paint Correction Contrast : 0.000000
Paint Correction Clarity : 0.000000
Paint Correction Sharpness : 0.000000
Paint Correction Brightness : 0.000000
Paint Correction Toning Hue : 240.000000
Paint Correction Toning Saturation : 0.000000
Paint Correction Mask What : Mask/Paint
Paint Correction Mask Value : 1.000000
Paint Correction Mask Radius : 0.209092
Paint Correction Mask Flow : 1.000000
Paint Correction Mask Center Weight : 0.036352
Image Width : 300
Image Height : 225
Bits Per Sample : 8
Color Components : 3
Aperture : 3.5
Image Size : 300x225
Megapixels : 0.068
Scale Factor To 35 mm Equivalent : 6.0
Shutter Speed : 1/320
Circle Of Confusion : 0.005 mm
Depth Of Field : 0.004 m (0.138 - 0.142 m)
Field Of View : 26.3 deg
Focal Length : 12.8 mm (35 mm equivalent: 77.1 mm)
Hyperfocal Distance : 9.38 m
Light Value : 12.3
Lens ID : 6.0-60.0mm