Uber Exif Photo
Make : SONY
Camera Model Name : ILCE-7R
Orientation : Horizontal (normal)
Software : Adobe Photoshop CS6 (Macintosh)
Modify Date : 2016:02:14 11:31:46
Exposure Time : 1/320
F Number : 5.6
Exposure Program : Manual
ISO : 100
Sensitivity Type : Recommended Exposure Index
Recommended Exposure Index : 100
Date/Time Original : 2016:01:07 13:20:01
Create Date : 2016:01:07 13:20:01
Shutter Speed Value : 1/320
Aperture Value : 5.6
Brightness Value : 8.8140625
Exposure Compensation : 0
Max Aperture Value : 2.8
Metering Mode : Multi-segment
Light Source : Unknown
Flash : Off, Did not fire
Focal Length : 90.0 mm
Color Space : Uncalibrated
Exif Image Width : 1920
Exif Image Height : 1920
Scene Type : Directly photographed
Custom Rendered : Normal
Exposure Mode : Manual
White Balance : Auto
Digital Zoom Ratio : 1
Focal Length In 35mm Format : 90 mm
Scene Capture Type : Standard
Contrast : Normal
Saturation : Normal
Sharpness : Normal
Lens Info : 90mm f/2.8
Lens Model : FE 90mm F2.8 Macro G OSS
Profile Description : Adobe RGB (1998)
Creator Tool : Adobe DNG Converter 8.3 (Macintosh)
Rating : 0
Lens : FE 90mm F2.8 Macro G OSS
Lens Distort Info : 32835/32768 -6239563/1073741824 -3873686/1073741824 1961039/1073741824
Date Created : 2016:01:07 13:20:01
Color Mode : RGB
ICC Profile Name : Adobe RGB (1998)
Format : image/jpeg
Raw File Name : DSC09491.dng
Version : 7.0
Process Version : 6.7
Color Temperature : 4900
Tint : -25
Exposure : 0.00
Shadows : 5
Brightness : +50
Luminance Smoothing : 0
Color Noise Reduction : 25
Vignette Amount : 0
Shadow Tint : 0
Red Hue : 0
Red Saturation : 0
Green Hue : 0
Green Saturation : 0
Blue Hue : 0
Blue Saturation : 0
Fill Light : 0
Highlight Recovery : 0
Clarity : 0
Defringe : 0
Gray Mixer Red : 0
Gray Mixer Orange : 0
Gray Mixer Yellow : -62
Gray Mixer Green : +8
Gray Mixer Aqua : +73
Gray Mixer Blue : -55
Gray Mixer Purple : +21
Gray Mixer Magenta : 0
Split Toning Shadow Hue : 219
Split Toning Shadow Saturation : 3
Split Toning Highlight Hue : 38
Split Toning Highlight Saturation : 9
Split Toning Balance : -48
Parametric Shadows : -13
Parametric Darks : +52
Parametric Lights : -28
Parametric Highlights : +26
Parametric Shadow Split : 25
Parametric Midtone Split : 50
Parametric Highlight Split : 75
Sharpen Radius : +1.0
Sharpen Detail : 25
Sharpen Edge Masking : 0
Post Crop Vignette Amount : -13
Post Crop Vignette Midpoint : 50
Post Crop Vignette Feather : 66
Post Crop Vignette Roundness : 0
Post Crop Vignette Style : Highlight Priority
Post Crop Vignette Highlight Contrast : 82
Grain Amount : 0
Color Noise Reduction Detail : 50
Lens Profile Enable : 0
Lens Manual Distortion Amount : 0
Perspective Vertical : 0
Perspective Horizontal : 0
Perspective Rotate : 0.0
Perspective Scale : 100
Auto Lateral CA : 0
Exposure 2012 : +0.60
Contrast 2012 : +23
Highlights 2012 : -38
Shadows 2012 : +80
Whites 2012 : +38
Blacks 2012 : -54
Clarity 2012 : +90
Convert To Grayscale : True
Tone Curve Name : Medium Contrast
Tone Curve Name 2012 : Linear
Camera Profile : Adobe Standard
Lens Profile Setup : LensDefaults
Has Settings : True
Crop Top : 0.039675
Crop Left : 0.367908
Crop Bottom : 0.872196
Crop Right : 0.923525
Crop Angle : 0
Crop Constrain To Warp : 1
Crop Width : 1
Crop Height : 1
Crop Unit : Unknown (3)
Has Crop : True
Already Applied : True
Tone Curve : 0, 0, 32, 22, 64, 56, 128, 128, 192, 196, 255, 255
Tone Curve Red : 0, 0, 255, 255
Tone Curve Green : 0, 0, 255, 255
Tone Curve Blue : 0, 0, 255, 255
Tone Curve PV2012 : 0, 0, 255, 255
Tone Curve PV2012 Red : 0, 0, 255, 255
Tone Curve PV2012 Green : 0, 0, 255, 255
Tone Curve PV2012 Blue : 0, 0, 255, 255
Image Width : 300
Image Height : 300
Bits Per Sample : 8
Color Components : 3
Aperture : 5.6
Image Size : 300x300
Megapixels : 0.090
Scale Factor To 35 mm Equivalent : 1.0
Shutter Speed : 1/320
Circle Of Confusion : 0.030 mm
Field Of View : 22.6 deg
Focal Length : 90.0 mm (35 mm equivalent: 90.0 mm)
Hyperfocal Distance : 48.14 m
Light Value : 13.3
Lens ID : FE 90mm F2.8 Macro G OSS