Uber Exif Photo
By-line : Wassim Beydoun
Copyright Notice : 2016
Photometric Interpretation : RGB
Make : Canon
Camera Model Name : Canon EOS 5DS R
Orientation : Horizontal (normal)
Samples Per Pixel : 3
Software : Adobe Photoshop CC 2015 (Macintosh)
Modify Date : 2016:02:21 19:32:24
Artist : Wassim Beydoun
Copyright : 2016
Exposure Time : 1/80
F Number : 2.8
Exposure Program : Program AE
ISO : 250
Sensitivity Type : Recommended Exposure Index
Recommended Exposure Index : 250
Date/Time Original : 2016:02:20 17:58:25
Create Date : 2016:02:20 17:58:25
Shutter Speed Value : 1/80
Aperture Value : 2.8
Exposure Compensation : 0
Max Aperture Value : 1.4
Metering Mode : Multi-segment
Flash : Off, Did not fire
Focal Length : 85.0 mm
Color Space : Uncalibrated
Exif Image Width : 1390
Exif Image Height : 2085
Custom Rendered : Normal
Exposure Mode : Auto
White Balance : Auto
Scene Capture Type : Standard
Serial Number : 063021000166
Lens Info : 85mm f/?
Lens Model : Zeiss Milvus 1.4/85 ZE
Lens Serial Number : 0000000000
Profile Description : Adobe RGB (1998)
Rating : 5
Creator Tool : Adobe Photoshop CC 2015 (Macintosh)
Format : image/jpeg
Lens : Zeiss Milvus 1.4/85 ZE
Image Number : 0
Flash Compensation : 0
Firmware : 1.0.1
Date Created : 2016:02:20 17:58:25.063
Color Mode : RGB
ICC Profile Name : Adobe RGB (1998)
Raw File Name : 0G6A1556.CR2
Version : 9.4
Process Version : 6.7
Auto White Version : 134348800
Color Temperature : 4600
Tint : -2
Saturation : 0
Sharpness : 25
Luminance Smoothing : 0
Color Noise Reduction : 25
Vignette Amount : 0
Shadow Tint : 0
Red Hue : 0
Red Saturation : 0
Green Hue : 0
Green Saturation : 0
Blue Hue : 0
Blue Saturation : 0
Vibrance : 0
Hue Adjustment Red : 0
Hue Adjustment Orange : 0
Hue Adjustment Yellow : 0
Hue Adjustment Green : 0
Hue Adjustment Aqua : 0
Hue Adjustment Blue : 0
Hue Adjustment Purple : 0
Hue Adjustment Magenta : 0
Saturation Adjustment Red : 0
Saturation Adjustment Orange : 0
Saturation Adjustment Yellow : 0
Saturation Adjustment Green : 0
Saturation Adjustment Aqua : 0
Saturation Adjustment Blue : 0
Saturation Adjustment Purple : 0
Saturation Adjustment Magenta : 0
Luminance Adjustment Red : 0
Luminance Adjustment Orange : 0
Luminance Adjustment Yellow : 0
Luminance Adjustment Green : 0
Luminance Adjustment Aqua : 0
Luminance Adjustment Blue : 0
Luminance Adjustment Purple : 0
Luminance Adjustment Magenta : 0
Split Toning Shadow Hue : 0
Split Toning Shadow Saturation : 0
Split Toning Highlight Hue : 0
Split Toning Highlight Saturation : 0
Split Toning Balance : 0
Parametric Shadows : 0
Parametric Darks : 0
Parametric Lights : 0
Parametric Highlights : 0
Parametric Shadow Split : 25
Parametric Midtone Split : 50
Parametric Highlight Split : 75
Sharpen Radius : +1.0
Sharpen Detail : 25
Sharpen Edge Masking : 0
Post Crop Vignette Amount : 0
Grain Amount : 0
Color Noise Reduction Detail : 50
Color Noise Reduction Smoothness : 50
Lens Profile Enable : 0
Lens Manual Distortion Amount : 0
Perspective Vertical : 0
Perspective Horizontal : 0
Perspective Rotate : 0.0
Perspective Scale : 100
Perspective Aspect : 0
Perspective Upright : Off
Auto Lateral CA : 0
Exposure 2012 : +0.10
Contrast 2012 : +16
Highlights 2012 : +33
Shadows 2012 : +49
Whites 2012 : +37
Blacks 2012 : +48
Clarity 2012 : +13
Defringe Purple Amount : 0
Defringe Purple Hue Lo : 30
Defringe Purple Hue Hi : 70
Defringe Green Amount : 0
Defringe Green Hue Lo : 40
Defringe Green Hue Hi : 60
Dehaze : 0
Tone Map Strength : 0
Convert To Grayscale : False
Tone Curve Name : Medium Contrast
Tone Curve Name 2012 : Linear
Camera Profile : Adobe Standard
Lens Profile Setup : LensDefaults
Has Settings : True
Has Crop : False
Already Applied : True
Creator : Wassim Beydoun
Rights : 2016
Tone Curve : 0, 0, 32, 22, 64, 56, 128, 128, 192, 196, 255, 255
Tone Curve Red : 0, 0, 255, 255
Tone Curve Green : 0, 0, 255, 255
Tone Curve Blue : 0, 0, 255, 255
Tone Curve PV2012 : 0, 0, 255, 255
Tone Curve PV2012 Red : 0, 0, 255, 255
Tone Curve PV2012 Green : 0, 0, 255, 255
Tone Curve PV2012 Blue : 0, 0, 255, 255
Image Width : 308
Image Height : 458
Bits Per Sample : 8
Color Components : 3
Aperture : 2.8
Image Size : 308x458
Megapixels : 0.141
Scale Factor To 35 mm Equivalent : 4.2
Shutter Speed : 1/80
Create Date : 2016:02:20 17:58:25.63
Date/Time Original : 2016:02:20 17:58:25.63
Modify Date : 2016:02:21 19:32:24.63
Circle Of Confusion : 0.007 mm
Field Of View : 5.8 deg
Focal Length : 85.0 mm (35 mm equivalent: 354.2 mm)
Hyperfocal Distance : 357.85 m
Light Value : 8.0
Lens ID : Zeiss Milvus 85mm f/1.4 or Sigma 85mm f/1.5 FF High-Speed Prime | 017