Uber Exif Photo
By-line : Kelly L. Padgett
Country-Primary Location Name : Vietnam
Copyright Notice : 2015
Copyright Flag : True
Photometric Interpretation : RGB
Make : SONY
Camera Model Name : ILCE-7M2
Orientation : Horizontal (normal)
Samples Per Pixel : 3
Planar Configuration : Chunky
Software : Adobe Photoshop CS5 Macintosh
Modify Date : 2015:04:12 14:18:11
Artist : Kelly L. Padgett
Copyright : 2015
Exposure Time : 1/15
F Number : 1.8
Exposure Program : Manual
ISO : 500
Sensitivity Type : Recommended Exposure Index
Recommended Exposure Index : 500
Date/Time Original : 2015:04:10 21:10:40
Create Date : 2015:04:10 21:10:40
Shutter Speed Value : 1/15
Aperture Value : 1.8
Brightness Value : -3.14296875
Exposure Compensation : 0
Max Aperture Value : 1.8
Metering Mode : Multi-segment
Light Source : Unknown
Flash : Off, Did not fire
Focal Length : 55.0 mm
Color Space : sRGB
Exif Image Width : 1200
Exif Image Height : 675
Scene Type : Directly photographed
Custom Rendered : Normal
Exposure Mode : Manual
White Balance : Manual
Digital Zoom Ratio : 1
Focal Length In 35mm Format : 55 mm
Scene Capture Type : Standard
Contrast : Normal
Saturation : Normal
Sharpness : Normal
Lens Info : 55mm f/1.8
Lens Model : FE 55mm F1.8 ZA
Profile Description : sRGB IEC61966-2.1
Creator Tool : Adobe Photoshop CS5 Macintosh
Rating : 5
Label : Red
Lens : FE 55mm F1.8 ZA
Lens Distort Info : 1069399723/1073741824 17081824/1073741824 -15183760/1073741824 -3603365/1073741824
Date Created : 2015:04:10 21:10:40
Country : Vietnam
City : Ho Chi Minh City
Color Mode : RGB
ICC Profile Name : sRGB IEC61966-2.1
Format : image/jpeg
Marked : True
Version : 8.7.1
Process Version : 6.7
Auto White Version : 134348800
Color Temperature : 3633
Tint : +10
Luminance Smoothing : 30
Color Noise Reduction : 25
Vignette Amount : -69
Vignette Midpoint : 17
Shadow Tint : -4
Red Hue : +20
Red Saturation : +85
Green Hue : +50
Green Saturation : -15
Blue Hue : -10
Blue Saturation : -15
Vibrance : 0
Hue Adjustment Red : +20
Hue Adjustment Orange : 0
Hue Adjustment Yellow : +5
Hue Adjustment Green : 0
Hue Adjustment Aqua : +10
Hue Adjustment Blue : 0
Hue Adjustment Purple : +20
Hue Adjustment Magenta : +20
Saturation Adjustment Red : -35
Saturation Adjustment Orange : -30
Saturation Adjustment Yellow : -5
Saturation Adjustment Green : -40
Saturation Adjustment Aqua : -20
Saturation Adjustment Blue : -15
Saturation Adjustment Purple : -65
Saturation Adjustment Magenta : -50
Luminance Adjustment Red : -10
Luminance Adjustment Orange : -15
Luminance Adjustment Yellow : +10
Luminance Adjustment Green : 0
Luminance Adjustment Aqua : -10
Luminance Adjustment Blue : -20
Luminance Adjustment Purple : +20
Luminance Adjustment Magenta : +20
Split Toning Shadow Hue : 247
Split Toning Shadow Saturation : 8
Split Toning Highlight Hue : 34
Split Toning Highlight Saturation : 9
Split Toning Balance : 0
Parametric Shadows : +65
Parametric Darks : +34
Parametric Lights : 0
Parametric Highlights : -17
Parametric Shadow Split : 20
Parametric Midtone Split : 48
Parametric Highlight Split : 75
Sharpen Radius : +1.0
Sharpen Detail : 0
Sharpen Edge Masking : 20
Post Crop Vignette Amount : -7
Post Crop Vignette Midpoint : 50
Post Crop Vignette Feather : 50
Post Crop Vignette Roundness : 0
Post Crop Vignette Style : Highlight Priority
Post Crop Vignette Highlight Contrast : 0
Grain Amount : 0
Luminance Noise Reduction Detail : 50
Color Noise Reduction Detail : 50
Luminance Noise Reduction Contrast : 0
Color Noise Reduction Smoothness : 50
Lens Profile Enable : 1
Lens Manual Distortion Amount : 0
Perspective Vertical : 0
Perspective Horizontal : 0
Perspective Rotate : 0.0
Perspective Scale : 100
Perspective Aspect : 0
Perspective Upright : Off
Auto Lateral CA : 1
Exposure 2012 : +0.80
Contrast 2012 : 0
Highlights 2012 : -40
Shadows 2012 : +90
Whites 2012 : +32
Blacks 2012 : +16
Clarity 2012 : +2
Defringe Purple Amount : 0
Defringe Purple Hue Lo : 30
Defringe Purple Hue Hi : 70
Defringe Green Amount : 0
Defringe Green Hue Lo : 40
Defringe Green Hue Hi : 60
Convert To Grayscale : False
Tone Curve Name : Linear
Tone Curve Name 2012 : Custom
Camera Profile : Adobe Standard
Lens Profile Setup : Custom
Lens Profile Name : Adobe (Sony FE 55mm F1.8 ZA)
Lens Profile Filename : SONY (Sony FE 55mm F1.8 ZA) - RAW.lcp
Lens Profile Distortion Scale : 100
Lens Profile Chromatic Aberration Scale : 100
Lens Profile Vignetting Scale : 156
Has Settings : True
Crop Top : 0.027309
Crop Left : 0.001271
Crop Bottom : 0.862924
Crop Right : 0.998513
Crop Angle : -0.169238
Crop Constrain To Warp : 0
Has Crop : True
Already Applied : True
Creator : Kelly L. Padgett
Rights : 2015
Usage Terms : All Rights Reserved
Tone Curve : 0, 0, 255, 255
Tone Curve Red : 0, 0, 255, 255
Tone Curve Green : 0, 0, 255, 255
Tone Curve Blue : 0, 0, 255, 255
Tone Curve PV2012 : 0, 45, 65, 67, 146, 149, 184, 189, 255, 245
Tone Curve PV2012 Red : 0, 0, 30, 12, 112, 120, 171, 196, 255, 255
Tone Curve PV2012 Green : 0, 0, 38, 20, 66, 51, 114, 123, 173, 199, 255, 255
Tone Curve PV2012 Blue : 0, 0, 33, 20, 122, 130, 177, 197, 255, 255
Gradient Based Corr What : Correction
Gradient Based Corr Amount : 1.000000
Gradient Based Corr Active : true
Gradient Based Corr Saturation : 0.000000
Gradient Based Corr Sharpness : 0.000000
Gradient Based Corr Brightness : 0.000000
Gradient Based Corr Toning Hue : 0.000000
Gradient Based Corr Toning Saturation : 0.000000
Gradient Based Corr Exposure 2012 : 0.109375
Gradient Based Corr Contrast 2012 : 0.000000
Gradient Based Corr Highlights 2012 : 0.000000
Gradient Based Corr Shadows 2012 : 0.000000
Gradient Based Corr Clarity 2012 : 0.000000
Gradient Based Corr Luminance Noise : 0.000000
Gradient Based Corr Moire : 0.000000
Gradient Based Corr Defringe : 0.000000
Gradient Based Corr Temperature : 0.000000
Gradient Based Corr Tint : 0.000000
Gradient Based Corr Mask What : Mask/Gradient
Gradient Based Corr Mask Value : 1.000000
Gradient Based Corr Mask Zero X : 0.555479
Gradient Based Corr Mask Zero Y : 0.108662
Gradient Based Corr Mask Full X : 0.558407
Gradient Based Corr Mask Full Y : 0.863108
Creator Postal Code : 28752
Creator Region : North Carolina
Creator Work Email : kellyl.padgett@gmail.com
Creator Country : United States
Creator City : Marion
Creator Work URL : www.kellypadgett.net
Image Width : 300
Image Height : 169
Bits Per Sample : 8
Color Components : 3
Aperture : 1.8
Image Size : 300x169
Megapixels : 0.051
Scale Factor To 35 mm Equivalent : 1.0
Shutter Speed : 1/15
Circle Of Confusion : 0.030 mm
Field Of View : 36.2 deg
Focal Length : 55.0 mm (35 mm equivalent: 55.0 mm)
Hyperfocal Distance : 55.93 m
Light Value : 3.3
Lens ID : FE 55mm F1.8 ZA