Uber Exif Photo
Make : NIKON CORPORATION
Camera Model Name : NIKON D800
Orientation : Horizontal (normal)
Software : Adobe Photoshop CS6 (Windows)
Modify Date : 2016:04:30 18:56:54
Exposure Time : 1/13
F Number : 16.0
Exposure Program : Manual
ISO : 100
Sensitivity Type : Recommended Exposure Index
Date/Time Original : 2016:04:16 07:15:02
Create Date : 2016:04:16 07:15:02
Shutter Speed Value : 1/13
Aperture Value : 16.0
Exposure Compensation : 0
Max Aperture Value : 4.9
Metering Mode : Multi-segment
Light Source : Unknown
Flash : Off, Did not fire
Focal Length : 150.0 mm
Color Space : sRGB
Exif Image Width : 1024
Exif Image Height : 629
Sensing Method : One-chip color area
Scene Type : Directly photographed
CFA Pattern : [Red,Green][Green,Blue]
Custom Rendered : Normal
Exposure Mode : Manual
White Balance : Auto
Digital Zoom Ratio : 1
Focal Length In 35mm Format : 150 mm
Scene Capture Type : Standard
Gain Control : None
Contrast : Normal
Saturation : Normal
Sharpness : Normal
Subject Distance Range : Unknown
Serial Number : 6052109
Lens Info : 150-500mm f/5-6.3
Lens Model : 150.0-500.0 mm f/5.0-6.3
Profile Description : sRGB IEC61966-2.1
Creator Tool : Adobe Photoshop Lightroom 5.0 (Windows)
Lens : 150.0-500.0 mm f/5.0-6.3
Image Number : 8758
Approximate Focus Distance : 112
Date Created : 2016:04:16 07:15:02.004
Color Mode : RGB
ICC Profile Name : sRGB IEC61966-2.1
Format : image/jpeg
Version : 8.1
Process Version : 6.7
Color Temperature : 5600
Tint : +24
Luminance Smoothing : 0
Color Noise Reduction : 25
Vignette Amount : 0
Shadow Tint : 0
Red Hue : 0
Red Saturation : 0
Green Hue : 0
Green Saturation : 0
Blue Hue : 0
Blue Saturation : 0
Vibrance : 0
Hue Adjustment Red : 0
Hue Adjustment Orange : 0
Hue Adjustment Yellow : 0
Hue Adjustment Green : 0
Hue Adjustment Aqua : 0
Hue Adjustment Blue : 0
Hue Adjustment Purple : 0
Hue Adjustment Magenta : 0
Saturation Adjustment Red : 0
Saturation Adjustment Orange : 0
Saturation Adjustment Yellow : 0
Saturation Adjustment Green : 0
Saturation Adjustment Aqua : 0
Saturation Adjustment Blue : 0
Saturation Adjustment Purple : 0
Saturation Adjustment Magenta : 0
Luminance Adjustment Red : 0
Luminance Adjustment Orange : 0
Luminance Adjustment Yellow : 0
Luminance Adjustment Green : 0
Luminance Adjustment Aqua : 0
Luminance Adjustment Blue : 0
Luminance Adjustment Purple : 0
Luminance Adjustment Magenta : 0
Split Toning Shadow Hue : 111
Split Toning Shadow Saturation : 30
Split Toning Highlight Hue : 58
Split Toning Highlight Saturation : 18
Split Toning Balance : 0
Parametric Shadows : 0
Parametric Darks : 0
Parametric Lights : 0
Parametric Highlights : 0
Parametric Shadow Split : 25
Parametric Midtone Split : 50
Parametric Highlight Split : 75
Sharpen Radius : +1.0
Sharpen Detail : 25
Sharpen Edge Masking : 0
Post Crop Vignette Amount : 0
Grain Amount : 0
Color Noise Reduction Detail : 50
Lens Profile Enable : 1
Lens Manual Distortion Amount : 0
Perspective Vertical : 0
Perspective Horizontal : 0
Perspective Rotate : 0.0
Perspective Scale : 100
Perspective Aspect : 0
Perspective Upright : Off
Auto Lateral CA : 1
Exposure 2012 : -0.21
Contrast 2012 : 0
Highlights 2012 : -60
Shadows 2012 : 0
Whites 2012 : +19
Blacks 2012 : -41
Clarity 2012 : 0
Defringe Purple Amount : 0
Defringe Purple Hue Lo : 30
Defringe Purple Hue Hi : 70
Defringe Green Amount : 0
Defringe Green Hue Lo : 40
Defringe Green Hue Hi : 60
Convert To Grayscale : False
Tone Curve Name 2012 : Linear
Camera Profile : Camera Neutral
Lens Profile Setup : Custom
Lens Profile Name : Adobe (SIGMA APO 150-500mm F5-6.3 DG OS HSM, NIKON CORPORATION)
Lens Profile Filename : NIKON CORPORATION (Sigma_150-500mm_F5-6.3_APO_DG_OS_HSM ) - RAW.lcp
Lens Profile Distortion Scale : 100
Lens Profile Chromatic Aberration Scale : 100
Lens Profile Vignetting Scale : 100
Has Settings : True
Has Crop : False
Already Applied : True
Tone Curve PV2012 : 0, 0, 255, 255
Tone Curve PV2012 Red : 0, 0, 255, 255
Tone Curve PV2012 Green : 0, 0, 255, 255
Tone Curve PV2012 Blue : 0, 0, 255, 255
Image Width : 300
Image Height : 184
Bits Per Sample : 8
Color Components : 3
Aperture : 16.0
Image Size : 300x184
Megapixels : 0.055
Scale Factor To 35 mm Equivalent : 1.0
Shutter Speed : 1/13
Create Date : 2016:04:16 07:15:02.40
Date/Time Original : 2016:04:16 07:15:02.40
Circle Of Confusion : 0.030 mm
Depth Of Field : inf (33.04 m - inf)
Field Of View : 13.7 deg
Focal Length : 150.0 mm (35 mm equivalent: 150.0 mm)
Hyperfocal Distance : 46.80 m
Light Value : 11.7
Lens ID : Sigma 150-500mm F5-6.3 DG OS APO HSM