Uber Exif Photo
Keywords : Tribute In Light 2016
By-line : Christopher Moy
Copyright Notice : Christopher Moy Photography
Make : Canon
Camera Model Name : Canon EOS 5D Mark III
Software : Adobe Photoshop Lightroom 6.6.1 (Macintosh)
Modify Date : 2016:09:11 00:15:36
Artist : Christopher Moy
Copyright : Christopher Moy Photography
Exposure Time : 10
F Number : 13.0
Exposure Program : Manual
ISO : 100
Sensitivity Type : Recommended Exposure Index
Recommended Exposure Index : 100
Date/Time Original : 2016:09:10 19:59:39
Create Date : 2016:09:10 19:59:39
Shutter Speed Value : 10
Aperture Value : 13.0
Exposure Compensation : 0
Max Aperture Value : 4.0
Metering Mode : Spot
Flash : Off, Did not fire
Focal Length : 17.0 mm
Color Space : sRGB
Custom Rendered : Normal
Exposure Mode : Manual
White Balance : Auto
Scene Capture Type : Standard
Serial Number : 212020003030
Lens Info : 17mm f/?
Lens Model : TS-E17mm f/4L
Lens Serial Number : 0000000e0d
Profile Description : sRGB IEC61966-2.1
Rating : 2
Creator Tool : Adobe Photoshop Lightroom 6.6.1 (Macintosh)
Format : image/jpeg
Lens : TS-E17mm f/4L
Image Number : 0
Approximate Focus Distance : 4294967295
Flash Compensation : 0
Firmware : 1.2.3
Is Merged Panorama : True
Lateral Chromatic Aberration Correction Already Applied:
True
Date Created : 2016:09:10 19:52:21.00
Transformation : Perspective
Virtual Focal Length : 0.281498
Virtual Image X Center : 0.201605
Virtual Image Y Center : 0.415191
Version : 9.6
Process Version : 6.7
Auto White Version : 134348800
Color Temperature : 3358
Tint : -1
Saturation : +28
Sharpness : 72
Luminance Smoothing : 70
Color Noise Reduction : 41
Vignette Amount : 0
Shadow Tint : 0
Red Hue : 0
Red Saturation : 0
Green Hue : 0
Green Saturation : 0
Blue Hue : +6
Blue Saturation : +23
Vibrance : +17
Hue Adjustment Red : 0
Hue Adjustment Orange : 0
Hue Adjustment Yellow : 0
Hue Adjustment Green : 0
Hue Adjustment Aqua : 0
Hue Adjustment Blue : 0
Hue Adjustment Purple : 0
Hue Adjustment Magenta : 0
Saturation Adjustment Red : 0
Saturation Adjustment Orange : +8
Saturation Adjustment Yellow : +4
Saturation Adjustment Green : +12
Saturation Adjustment Aqua : 0
Saturation Adjustment Blue : +27
Saturation Adjustment Purple : +12
Saturation Adjustment Magenta : 0
Luminance Adjustment Red : 0
Luminance Adjustment Orange : 0
Luminance Adjustment Yellow : 0
Luminance Adjustment Green : 0
Luminance Adjustment Aqua : 0
Luminance Adjustment Blue : -11
Luminance Adjustment Purple : +13
Luminance Adjustment Magenta : 0
Split Toning Shadow Hue : 0
Split Toning Shadow Saturation : 0
Split Toning Highlight Hue : 0
Split Toning Highlight Saturation : 0
Split Toning Balance : 0
Parametric Shadows : 0
Parametric Darks : 0
Parametric Lights : 0
Parametric Highlights : 0
Parametric Shadow Split : 25
Parametric Midtone Split : 50
Parametric Highlight Split : 75
Sharpen Radius : +1.0
Sharpen Detail : 25
Sharpen Edge Masking : 53
Post Crop Vignette Amount : -6
Post Crop Vignette Midpoint : 50
Post Crop Vignette Feather : 50
Post Crop Vignette Roundness : 0
Post Crop Vignette Style : Highlight Priority
Post Crop Vignette Highlight Contrast : 0
Grain Amount : 0
Luminance Noise Reduction Detail : 50
Color Noise Reduction Detail : 50
Luminance Noise Reduction Contrast : 0
Color Noise Reduction Smoothness : 50
Lens Profile Enable : 0
Lens Manual Distortion Amount : 0
Perspective Vertical : 0
Perspective Horizontal : 0
Perspective Rotate : +0.1
Perspective Scale : 100
Perspective Aspect : 0
Perspective Upright : Off
Perspective X : 0.00
Perspective Y : 0.00
Auto Lateral CA : 1
Exposure 2012 : +1.00
Contrast 2012 : +28
Highlights 2012 : -100
Shadows 2012 : +100
Whites 2012 : -100
Blacks 2012 : +48
Clarity 2012 : +16
Defringe Purple Amount : 0
Defringe Purple Hue Lo : 30
Defringe Purple Hue Hi : 70
Defringe Green Amount : 0
Defringe Green Hue Lo : 40
Defringe Green Hue Hi : 60
Dehaze : +14
Tone Map Strength : 0
Convert To Grayscale : False
Tone Curve Name : Linear
Tone Curve Name 2012 : Linear
Camera Profile : Adobe Standard
Lens Profile Setup : LensDefaults
Has Settings : True
Crop Top : 0.002791
Crop Left : 0.004646
Crop Bottom : 0.709102
Crop Right : 0.93442
Crop Angle : 0
Crop Constrain To Warp : 0
Has Crop : True
Already Applied : True
Creator : Christopher Moy
Rights : Christopher Moy Photography
Subject : Tribute In Light 2016
Tone Curve : 0, 0, 255, 255
Tone Curve Red : 0, 0, 255, 255
Tone Curve Green : 0, 0, 255, 255
Tone Curve Blue : 0, 0, 255, 255
Tone Curve PV2012 : 0, 0, 255, 255
Tone Curve PV2012 Red : 0, 0, 255, 255
Tone Curve PV2012 Green : 0, 0, 255, 255
Tone Curve PV2012 Blue : 0, 0, 255, 255
Paint Correction What : Correction
Paint Correction Amount : 1.000000
Paint Correction Active : true
Paint Correction Saturation : 0.000000
Paint Correction Sharpness : 0.000000
Paint Correction Brightness : 0.000000
Paint Correction Toning Hue : 240.000000
Paint Correction Toning Saturation : 0.000000
Paint Correction Exposure 2012 : 0.000000
Paint Correction Contrast 2012 : 0.000000
Paint Correction Highlights 2012 : 0.000000
Paint Correction Shadows 2012 : 0.000000
Paint Correction Whites 2012 : 0.000000
Paint Correction Blacks 2012 : 0.000000
Paint Correction Clarity 2012 : 0.000000
Paint Correction Dehaze : 0.000000
Paint Correction Luminance Noise : 0.000000
Paint Correction Moire : 0.000000
Paint Correction Defringe : 0.000000
Paint Correction Temperature : 0.121951
Paint Correction Tint : 0.000000
Paint Correction Mask What : Mask/Paint
Paint Correction Mask Value : 0.000000
Paint Correction Mask Radius : 0.048614
Paint Correction Mask Flow : 1.000000
Paint Correction Mask Center Weight : 0.016783
Gradient Based Corr What : Correction
Gradient Based Corr Amount : 1.000000
Gradient Based Corr Active : true
Gradient Based Corr Saturation : 0.102992
Gradient Based Corr Sharpness : 0.000000
Gradient Based Corr Brightness : 0.000000
Gradient Based Corr Toning Hue : 240.000000
Gradient Based Corr Toning Saturation : 0.000000
Gradient Based Corr Exposure 2012 : 0.195122
Gradient Based Corr Contrast 2012 : 0.237614
Gradient Based Corr Highlights 2012 : 0.429402
Gradient Based Corr Shadows 2012 : 0.219512
Gradient Based Corr Whites 2012 : 0.000000
Gradient Based Corr Blacks 2012 : 0.000000
Gradient Based Corr Clarity 2012 : 0.109280
Gradient Based Corr Dehaze : 0.000000
Gradient Based Corr Luminance Noise : 0.493236
Gradient Based Corr Moire : 0.237614
Gradient Based Corr Defringe : 0.000000
Gradient Based Corr Temperature : 0.000000
Gradient Based Corr Tint : 0.073171
Gradient Based Corr Mask What : Mask/Gradient
Gradient Based Corr Mask Value : 1.000000
Gradient Based Corr Mask Zero X : 0.461796
Gradient Based Corr Mask Zero Y : 0.503533
Gradient Based Corr Mask Full X : 0.454731
Gradient Based Corr Mask Full Y : 0.388138
Image Width : 300
Image Height : 570
Bits Per Sample : 8
Color Components : 3
Aperture : 13.0
Image Size : 300x570
Megapixels : 0.171
Scale Factor To 35 mm Equivalent : 7.4
Shutter Speed : 10
Create Date : 2016:09:10 19:59:39.00
Date/Time Original : 2016:09:10 19:59:39.00
Circle Of Confusion : 0.004 mm
Depth Of Field : inf (5.47 m - inf)
Field Of View : 16.3 deg
Focal Length : 17.0 mm (35 mm equivalent: 125.6 mm)
Hyperfocal Distance : 5.47 m
Light Value : 4.1
Lens ID : Canon TS-E 17mm f/4L