Uber Exif Photo
Make : LEICA CAMERA AG
Camera Model Name : LEICA T (Typ 701)
Software : Adobe Photoshop Lightroom 5.7.1 (Windows)
Modify Date : 2016:11:04 17:11:48
Exposure Time : 1/400
Exposure Program : Manual
ISO : 100
Sensitivity Type : Standard Output Sensitivity
Date/Time Original : 2016:11:04 13:56:06
Create Date : 2016:11:04 13:56:06
Shutter Speed Value : 1/400
Exposure Compensation : 0
Max Aperture Value : 2.8
Metering Mode : Multi-segment
Light Source : Unknown
Flash : Off, Did not fire
Focal Length : 35.0 mm
Lens Type : unknown lens
Original File Name : L1081072.DNG
Original Directory : 108LEICA
Focus Distance : 0 m
Exposure Mode : Manual
File Index : 1072
Film Mode : Standard *
WB RGB Levels : 0.3657142857 1 0.6080760095
Internal Serial Number : 000000000000
Color Space : sRGB
Sensing Method : One-chip color area
Custom Rendered : Normal
White Balance : Auto
Digital Zoom Ratio : 1
Focal Length In 35mm Format : 52 mm
Scene Capture Type : Landscape
Contrast : High
Saturation : High
Sharpness : Hard
Serial Number : 000004819375
Lens Info : 35mm f/2.8
Lens Make : LEICA CAMERA AG
Lens Model : unknown lens
Lens Serial Number : N/A
GPS Status : Measurement Void
Maker Note Safety : Safe
Profile Description : sRGB IEC61966-2.1
Creator Tool : Adobe Photoshop Lightroom 5.7.1 (Windows)
Lens : unknown lens
Date Created : 2016:11:04 13:56:06
Format : image/jpeg
Version : 8.7.1
Process Version : 6.7
Auto White Version : 134348800
Color Temperature : 5350
Tint : +37
Luminance Smoothing : 0
Color Noise Reduction : 25
Vignette Amount : 0
Shadow Tint : 0
Red Hue : 0
Red Saturation : 0
Green Hue : 0
Green Saturation : 0
Blue Hue : 0
Blue Saturation : 0
Vibrance : +10
Hue Adjustment Red : 0
Hue Adjustment Orange : 0
Hue Adjustment Yellow : 0
Hue Adjustment Green : 0
Hue Adjustment Aqua : 0
Hue Adjustment Blue : 0
Hue Adjustment Purple : 0
Hue Adjustment Magenta : 0
Saturation Adjustment Red : 0
Saturation Adjustment Orange : 0
Saturation Adjustment Yellow : 0
Saturation Adjustment Green : 0
Saturation Adjustment Aqua : 0
Saturation Adjustment Blue : 0
Saturation Adjustment Purple : 0
Saturation Adjustment Magenta : 0
Luminance Adjustment Red : 0
Luminance Adjustment Orange : 0
Luminance Adjustment Yellow : 0
Luminance Adjustment Green : 0
Luminance Adjustment Aqua : 0
Luminance Adjustment Blue : 0
Luminance Adjustment Purple : 0
Luminance Adjustment Magenta : 0
Split Toning Shadow Hue : 0
Split Toning Shadow Saturation : 0
Split Toning Highlight Hue : 0
Split Toning Highlight Saturation : 0
Split Toning Balance : 0
Parametric Shadows : 0
Parametric Darks : 0
Parametric Lights : 0
Parametric Highlights : 0
Parametric Shadow Split : 25
Parametric Midtone Split : 50
Parametric Highlight Split : 75
Sharpen Radius : +1.0
Sharpen Detail : 25
Sharpen Edge Masking : 0
Post Crop Vignette Amount : 0
Grain Amount : 0
Color Noise Reduction Detail : 50
Color Noise Reduction Smoothness : 50
Lens Profile Enable : 0
Lens Manual Distortion Amount : 0
Perspective Vertical : 0
Perspective Horizontal : 0
Perspective Rotate : 0.0
Perspective Scale : 100
Perspective Aspect : 0
Perspective Upright : Off
Auto Lateral CA : 0
Exposure 2012 : -0.20
Contrast 2012 : 0
Highlights 2012 : -24
Shadows 2012 : 0
Whites 2012 : -33
Blacks 2012 : -19
Clarity 2012 : +7
Defringe Purple Amount : 0
Defringe Purple Hue Lo : 30
Defringe Purple Hue Hi : 70
Defringe Green Amount : 0
Defringe Green Hue Lo : 40
Defringe Green Hue Hi : 60
Convert To Grayscale : False
Tone Curve Name : Linear
Tone Curve Name 2012 : Linear
Camera Profile : Adobe Standard
Lens Profile Setup : LensDefaults
Has Settings : True
Crop Top : 0.055285
Crop Left : 0.035118
Crop Bottom : 0.941731
Crop Right : 0.998648
Crop Angle : -0.169428
Crop Constrain To Warp : 0
Has Crop : True
Already Applied : True
Tone Curve : 0, 0, 255, 255
Tone Curve Red : 0, 0, 255, 255
Tone Curve Green : 0, 0, 255, 255
Tone Curve Blue : 0, 0, 255, 255
Tone Curve PV2012 : 0, 0, 255, 255
Tone Curve PV2012 Red : 0, 0, 255, 255
Tone Curve PV2012 Green : 0, 0, 255, 255
Tone Curve PV2012 Blue : 0, 0, 255, 255
Image Width : 300
Image Height : 184
Bits Per Sample : 8
Color Components : 3
Blue Balance : 0.608076
Image Size : 300x184
Megapixels : 0.055
Red Balance : 0.365714
Scale Factor To 35 mm Equivalent : 1.5
Shutter Speed : 1/400
Circle Of Confusion : 0.020 mm
Field Of View : 38.2 deg
Focal Length : 35.0 mm (35 mm equivalent: 52.0 mm)