Uber Exif Photo
By-line : Kelly L. Padgett
Copyright Notice : 2013
Photometric Interpretation : RGB
Make : Canon
Camera Model Name : Canon EOS 5D Mark III
Orientation : Horizontal (normal)
Samples Per Pixel : 3
Planar Configuration : Chunky
Software : Adobe Photoshop CS5 Macintosh
Modify Date : 2014:10:15 01:27:56
Artist : Kelly L. Padgett
Copyright : 2013
Exposure Time : 1/100
F Number : 3.2
Exposure Program : Manual
ISO : 800
Sensitivity Type : Recommended Exposure Index
Recommended Exposure Index : 800
Date/Time Original : 2014:10:12 15:12:11
Create Date : 2014:10:12 15:12:11
Shutter Speed Value : 1/100
Aperture Value : 3.2
Exposure Compensation : 0
Max Aperture Value : 1.4
Metering Mode : Multi-segment
Flash : Off, Did not fire
Focal Length : 35.0 mm
Color Space : sRGB
Exif Image Width : 1200
Exif Image Height : 800
Custom Rendered : Normal
Exposure Mode : Manual
White Balance : Manual
Scene Capture Type : Standard
Serial Number : 068024010072
Lens Info : 35mm f/?
Lens Model : EF35mm f/1.4L USM
Lens Serial Number : 0000000000
Profile Description : sRGB IEC61966-2.1
Rating : 5
Label : Green
Creator Tool : Adobe Photoshop CS5 Macintosh
Format : image/jpeg
Lens : EF35mm f/1.4L USM
Image Number : 0
Approximate Focus Distance : 2.03
Flash Compensation : 0
Firmware : 1.2.1
Date Created : 2014:10:12 15:12:11
Color Mode : RGB
ICC Profile Name : sRGB IEC61966-2.1
Version : 8.3
Process Version : 6.7
Auto White Version : 134348800
Color Temperature : 4850
Tint : -5
Saturation : -20
Sharpness : 0
Luminance Smoothing : 0
Color Noise Reduction : 25
Vignette Amount : -69
Vignette Midpoint : 17
Shadow Tint : -4
Red Hue : +20
Red Saturation : +85
Green Hue : +50
Green Saturation : -15
Blue Hue : -10
Blue Saturation : -15
Vibrance : 0
Hue Adjustment Red : +20
Hue Adjustment Orange : 0
Hue Adjustment Yellow : +5
Hue Adjustment Green : 0
Hue Adjustment Aqua : +10
Hue Adjustment Blue : 0
Hue Adjustment Purple : +20
Hue Adjustment Magenta : +20
Saturation Adjustment Red : -35
Saturation Adjustment Orange : -30
Saturation Adjustment Yellow : -5
Saturation Adjustment Green : -40
Saturation Adjustment Aqua : -20
Saturation Adjustment Blue : -15
Saturation Adjustment Purple : -65
Saturation Adjustment Magenta : -50
Luminance Adjustment Red : -10
Luminance Adjustment Orange : -15
Luminance Adjustment Yellow : +10
Luminance Adjustment Green : 0
Luminance Adjustment Aqua : -10
Luminance Adjustment Blue : -20
Luminance Adjustment Purple : +20
Luminance Adjustment Magenta : +20
Split Toning Shadow Hue : 67
Split Toning Shadow Saturation : 0
Split Toning Highlight Hue : 37
Split Toning Highlight Saturation : 5
Split Toning Balance : +31
Parametric Shadows : +37
Parametric Darks : +9
Parametric Lights : 0
Parametric Highlights : 0
Parametric Shadow Split : 20
Parametric Midtone Split : 48
Parametric Highlight Split : 75
Sharpen Radius : +1.0
Sharpen Detail : 25
Sharpen Edge Masking : 0
Post Crop Vignette Amount : -7
Post Crop Vignette Midpoint : 50
Post Crop Vignette Feather : 50
Post Crop Vignette Roundness : 0
Post Crop Vignette Style : Highlight Priority
Post Crop Vignette Highlight Contrast : 0
Grain Amount : 0
Color Noise Reduction Detail : 50
Color Noise Reduction Smoothness : 50
Lens Profile Enable : 0
Lens Manual Distortion Amount : 0
Perspective Vertical : 0
Perspective Horizontal : 0
Perspective Rotate : 0.0
Perspective Scale : 100
Perspective Aspect : 0
Perspective Upright : Off
Auto Lateral CA : 0
Exposure 2012 : +0.05
Contrast 2012 : 0
Highlights 2012 : -74
Shadows 2012 : -58
Whites 2012 : +7
Blacks 2012 : +10
Clarity 2012 : 0
Defringe Purple Amount : 0
Defringe Purple Hue Lo : 30
Defringe Purple Hue Hi : 70
Defringe Green Amount : 0
Defringe Green Hue Lo : 40
Defringe Green Hue Hi : 60
Convert To Grayscale : False
Tone Curve Name 2012 : Custom
Camera Profile : Kodak Max 800 - C
Lens Profile Setup : LensDefaults
Has Settings : True
Crop Top : 0.034662
Crop Left : 0.009629
Crop Bottom : 0.965338
Crop Right : 0.990371
Crop Angle : -1.37127
Crop Constrain To Warp : 0
Has Crop : True
Already Applied : True
Creator : Kelly L. Padgett
Rights : 2013
Tone Curve PV2012 : 0, 45, 65, 67, 146, 149, 184, 189, 255, 245
Tone Curve PV2012 Red : 0, 0, 30, 12, 112, 120, 171, 196, 255, 255
Tone Curve PV2012 Green : 0, 0, 38, 20, 66, 51, 114, 123, 173, 199, 255, 255
Tone Curve PV2012 Blue : 0, 0, 33, 20, 122, 130, 177, 197, 255, 255
Paint Correction What : Correction
Paint Correction Amount : 1.000000
Paint Correction Active : true
Paint Correction Saturation : 0.000000
Paint Correction Sharpness : 0.000000
Paint Correction Brightness : 0.000000
Paint Correction Toning Hue : 60.000000
Paint Correction Toning Saturation : 0.009479
Paint Correction Exposure 2012 : -0.466204
Paint Correction Contrast 2012 : 0.000000
Paint Correction Highlights 2012 : -0.688729
Paint Correction Shadows 2012 : -1.000000
Paint Correction Clarity 2012 : 0.000000
Paint Correction Luminance Noise : 0.000000
Paint Correction Moire : 0.000000
Paint Correction Defringe : 0.000000
Paint Correction Temperature : 0.000000
Paint Correction Tint : 0.000000
Paint Correction Mask What : Mask/Paint
Paint Correction Mask Value : 0.130752
Paint Correction Mask Radius : 0.002266
Paint Correction Mask Flow : 1.000000
Paint Correction Mask Center Weight : 0.062546
Image Width : 300
Image Height : 200
Bits Per Sample : 8
Color Components : 3
Aperture : 3.2
Image Size : 300x200
Megapixels : 0.060
Scale Factor To 35 mm Equivalent : 4.8
Shutter Speed : 1/100
Create Date : 2014:10:12 15:12:11.00
Date/Time Original : 2014:10:12 15:12:11.00
Circle Of Confusion : 0.006 mm
Depth Of Field : 0.13 m (1.97 - 2.10 m)
Field Of View : 12.2 deg
Focal Length : 35.0 mm (35 mm equivalent: 168.0 mm)
Hyperfocal Distance : 61.16 m
Light Value : 7.0
Lens ID : Canon EF 35mm f/1.4L USM