Uber Exif Photo
By-line : stoney roberts
Copyright Notice : all rights reserved
Make : SONY
Camera Model Name : ILCE-7RM2
Orientation : Horizontal (normal)
Software : Adobe Photoshop CS6 (Macintosh)
Modify Date : 2016:11:16 17:23:03
Artist : stoney roberts
Copyright : all rights reserved
Exposure Time : 134
Exposure Program : Manual
ISO : 100
Sensitivity Type : Recommended Exposure Index
Recommended Exposure Index : 100
Date/Time Original : 2015:12:03 18:58:18
Create Date : 2015:12:03 18:58:18
Shutter Speed Value : 134
Brightness Value : -11.8578125
Exposure Compensation : 0
Max Aperture Value : 1.0
Metering Mode : Multi-segment
Light Source : Daylight
Flash : Off, Did not fire
Color Space : Uncalibrated
Exif Image Width : 1024
Exif Image Height : 683
Scene Type : Directly photographed
Custom Rendered : Normal
Exposure Mode : Manual
White Balance : Manual
Digital Zoom Ratio : 1
Scene Capture Type : Standard
Contrast : Normal
Saturation : High
Sharpness : Normal
Lens Model : ----
Profile Description : Adobe RGB (1998)
Sharpen Detail : 25
Blacks 2012 : 0
Luminance Adjustment Orange : 0
Hue Adjustment Yellow : 0
Saturation Adjustment Blue : 0
Parametric Highlight Split : 75
Lens Profile Enable : 0
Split Toning Shadow Saturation : 0
Convert To Grayscale : False
Contrast 2012 : 0
Highlights 2012 : 0
Split Toning Highlight Hue : 0
Perspective Scale : 100
Perspective Vertical : 0
Saturation Adjustment Aqua : 0
Parametric Shadow Split : 25
Luminance Adjustment Green : 0
Perspective Rotate : 0.0
Split Toning Shadow Hue : 0
Luminance Adjustment Yellow : 0
Shadows 2012 : +3
Lens Profile Setup : LensDefaults
Whites 2012 : 0
Perspective Horizontal : 0
Camera Profile : Embedded
Saturation Adjustment Yellow : 0
Parametric Midtone Split : 50
Parametric Highlights : 0
Defringe Green Amount : 0
Parametric Darks : 0
Incremental Tint : -35
Sharpen Radius : +1.0
Vibrance : 0
Shadow Tint : 0
Has Crop : False
Luminance Smoothing : 0
Tone Curve Name 2012 : Linear
Split Toning Highlight Saturation : 0
Defringe Purple Hue Hi : 70
Saturation Adjustment Orange : 0
Sharpen Edge Masking : 0
Hue Adjustment Green : 0
Vignette Amount : 0
Blue Saturation : 0
Red Saturation : 0
Red Hue : 0
Parametric Lights : 0
Split Toning Balance : 0
Hue Adjustment Purple : 0
Dehaze : 0
Tone Curve Name : Linear
Exposure 2012 : 0.00
Saturation Adjustment Green : 0
Hue Adjustment Blue : 0
Luminance Adjustment Purple : 0
Perspective Aspect : 0
Perspective Upright : Off
Parametric Shadows : 0
Post Crop Vignette Amount : 0
Blue Hue : 0
Clarity 2012 : 0
Grain Amount : 0
Auto Lateral CA : 0
Hue Adjustment Aqua : 0
Process Version : 6.7
Already Applied : True
Auto White Version : 134348800
Luminance Adjustment Blue : 0
Tone Map Strength : 0
Luminance Adjustment Red : 0
Incremental Temperature : +4
Color Noise Reduction : 0
Green Hue : 0
Hue Adjustment Magenta : 0
Has Settings : True
Saturation Adjustment Red : 0
Hue Adjustment Red : 0
Hue Adjustment Orange : 0
Lens Manual Distortion Amount : 0
Green Saturation : 0
Defringe Purple Hue Lo : 30
Defringe Green Hue Hi : 60
Saturation Adjustment Purple : 0
Saturation Adjustment Magenta : 0
Luminance Adjustment Aqua : 0
Version : 9.1.1
Defringe Green Hue Lo : 40
Defringe Purple Amount : 0
Raw File Name : driftwood-022.jpg
Luminance Adjustment Magenta : 0
Creator Tool : Adobe Photoshop CS6 (Macintosh)
Rating : 0
ICC Profile Name : Adobe RGB (1998)
Date Created : 2015:12:03 18:58:18
Color Mode : RGB
Format : image/jpeg
Lens : ----
Tone Curve Blue : 0, 0, 255, 255
Tone Curve Green : 0, 0, 255, 255
Tone Curve PV2012 Red : 0, 0, 255, 255
Tone Curve PV2012 : 0, 0, 255, 255
Tone Curve : 0, 0, 255, 255
Tone Curve Red : 0, 0, 255, 255
Tone Curve PV2012 Green : 0, 0, 255, 255
Tone Curve PV2012 Blue : 0, 0, 255, 255
Creator : stoney roberts
Rights : all rights reserved
Image Width : 300
Image Height : 200
Bits Per Sample : 8
Color Components : 3
Image Size : 300x200
Megapixels : 0.060
Scale Factor To 35 mm Equivalent : 7.6
Shutter Speed : 134
Circle Of Confusion : 0.004 mm