Uber Exif Photo
Make : SONY
Camera Model Name : ILCE-7M2
Software : Adobe Photoshop Lightroom 5.7.1 (Windows)
Modify Date : 2015:07:22 19:24:12
Exposure Time : 1/400
Exposure Program : Manual
ISO : 800
Sensitivity Type : Recommended Exposure Index
Recommended Exposure Index : 800
Date/Time Original : 2015:07:22 15:24:37
Create Date : 2015:07:22 15:24:37
Shutter Speed Value : 1/400
Brightness Value : -0.0140625
Exposure Compensation : 0
Max Aperture Value : 1.0
Metering Mode : Multi-segment
Light Source : Unknown
Flash : Off, Did not fire
Scene Type : Directly photographed
Custom Rendered : Normal
Exposure Mode : Manual
White Balance : Manual
Digital Zoom Ratio : 1
Scene Capture Type : Standard
Contrast : Normal
Saturation : Normal
Sharpness : Normal
Lens Model : ----
Profile Description : Adobe RGB (1998)
Creator Tool : Adobe Photoshop Lightroom 5.7.1 (Windows)
Lens : ----
Date Created : 2015:07:22 15:24:37
Format : image/jpeg
Version : 8.7.1
Process Version : 6.7
Auto White Version : 134348800
Color Temperature : 4700
Tint : -3
Luminance Smoothing : 0
Color Noise Reduction : 25
Vignette Amount : -33
Vignette Midpoint : 50
Shadow Tint : 0
Red Hue : 0
Red Saturation : 0
Green Hue : 0
Green Saturation : -8
Blue Hue : 0
Blue Saturation : -7
Vibrance : +30
Hue Adjustment Red : 0
Hue Adjustment Orange : 0
Hue Adjustment Yellow : 0
Hue Adjustment Green : -30
Hue Adjustment Aqua : -4
Hue Adjustment Blue : 0
Hue Adjustment Purple : 0
Hue Adjustment Magenta : 0
Saturation Adjustment Red : -4
Saturation Adjustment Orange : -6
Saturation Adjustment Yellow : -14
Saturation Adjustment Green : -4
Saturation Adjustment Aqua : -13
Saturation Adjustment Blue : +45
Saturation Adjustment Purple : +17
Saturation Adjustment Magenta : 0
Luminance Adjustment Red : +5
Luminance Adjustment Orange : +6
Luminance Adjustment Yellow : 0
Luminance Adjustment Green : +4
Luminance Adjustment Aqua : +4
Luminance Adjustment Blue : -7
Luminance Adjustment Purple : 0
Luminance Adjustment Magenta : 0
Split Toning Shadow Hue : 242
Split Toning Shadow Saturation : 78
Split Toning Highlight Hue : 45
Split Toning Highlight Saturation : 20
Split Toning Balance : +84
Parametric Shadows : 0
Parametric Darks : +62
Parametric Lights : +5
Parametric Highlights : +29
Parametric Shadow Split : 25
Parametric Midtone Split : 50
Parametric Highlight Split : 75
Sharpen Radius : +1.0
Sharpen Detail : 25
Sharpen Edge Masking : 0
Post Crop Vignette Amount : 0
Grain Amount : 0
Color Noise Reduction Detail : 50
Color Noise Reduction Smoothness : 50
Lens Profile Enable : 0
Lens Manual Distortion Amount : 0
Perspective Vertical : 0
Perspective Horizontal : 0
Perspective Rotate : 0.0
Perspective Scale : 100
Perspective Aspect : 0
Perspective Upright : Off
Auto Lateral CA : 0
Exposure 2012 : +0.80
Contrast 2012 : +36
Highlights 2012 : -50
Shadows 2012 : -29
Whites 2012 : -34
Blacks 2012 : +22
Clarity 2012 : +32
Defringe Purple Amount : 0
Defringe Purple Hue Lo : 30
Defringe Purple Hue Hi : 70
Defringe Green Amount : 0
Defringe Green Hue Lo : 40
Defringe Green Hue Hi : 60
Convert To Grayscale : False
Tone Curve Name : Linear
Tone Curve Name 2012 : Custom
Camera Profile : Adobe Standard
Lens Profile Setup : LensDefaults
Has Settings : True
Has Crop : False
Already Applied : True
Tone Curve : 0, 0, 255, 255
Tone Curve Red : 0, 0, 255, 255
Tone Curve Green : 0, 0, 255, 255
Tone Curve Blue : 0, 0, 255, 255
Tone Curve PV2012 : 0, 31, 85, 78, 172, 162, 224, 215, 255, 239
Tone Curve PV2012 Red : 0, 0, 255, 255
Tone Curve PV2012 Green : 0, 0, 255, 255
Tone Curve PV2012 Blue : 0, 0, 146, 151, 255, 255
Image Width : 308
Image Height : 208
Bits Per Sample : 8
Color Components : 3
Image Size : 308x208
Megapixels : 0.064
Scale Factor To 35 mm Equivalent : 19.5
Shutter Speed : 1/400
Circle Of Confusion : 0.002 mm