Uber Exif Photo
Keywords : asdgraphy
By-line : Rico Lee Wei-Jie
Copyright Notice : ASDgraphy
Copyright Flag : True
Make : SONY
Camera Model Name : ILCE-6000
Orientation : Horizontal (normal)
Software : Adobe Photoshop Lightroom 6.5.1 (Windows)
Modify Date : 2016:06:29 23:31:47
Artist : Rico Lee Wei-Jie
Copyright : ASDgraphy
Exposure Time : 1/200
F Number : 5.6
Exposure Program : Manual
ISO : 640
Sensitivity Type : Recommended Exposure Index
Recommended Exposure Index : 640
Date/Time Original : 2016:06:19 12:56:43
Create Date : 2016:06:19 12:56:43
Shutter Speed Value : 1/200
Aperture Value : 5.6
Brightness Value : 4.77109375
Exposure Compensation : 0
Max Aperture Value : 5.6
Metering Mode : Center-weighted average
Light Source : Daylight
Flash : Off, Did not fire
Focal Length : 50.0 mm
Color Space : sRGB
Scene Type : Directly photographed
Custom Rendered : Normal
Exposure Mode : Manual
White Balance : Manual
Digital Zoom Ratio : 1
Focal Length In 35mm Format : 75 mm
Scene Capture Type : Standard
Contrast : Normal
Saturation : Normal
Sharpness : Normal
Lens Info : 16-50mm f/3.5-5.6
Lens Model : E PZ 16-50mm F3.5-5.6 OSS
Profile Description : sRGB IEC61966-2.1
Creator Tool : Adobe Photoshop Lightroom 6.5.1 (Windows)
Lens : E PZ 16-50mm F3.5-5.6 OSS
Lens Distort Info : 1066815210/1073741824 -4227031/1073741824 13067177/1073741824 -1933398/1073741824
Date Created : 2016:06:19 12:56:43
Format : image/jpeg
Marked : True
Version : 9.5.1
Process Version : 6.7
Auto White Version : 134348800
Color Temperature : 4900
Tint : +11
Luminance Smoothing : 20
Color Noise Reduction : 25
Vignette Amount : 0
Shadow Tint : 0
Red Hue : 0
Red Saturation : 0
Green Hue : 0
Green Saturation : 0
Blue Hue : 0
Blue Saturation : 0
Vibrance : +14
Hue Adjustment Red : 0
Hue Adjustment Orange : 0
Hue Adjustment Yellow : 0
Hue Adjustment Green : 0
Hue Adjustment Aqua : 0
Hue Adjustment Blue : 0
Hue Adjustment Purple : 0
Hue Adjustment Magenta : 0
Saturation Adjustment Red : 0
Saturation Adjustment Orange : 0
Saturation Adjustment Yellow : 0
Saturation Adjustment Green : 0
Saturation Adjustment Aqua : 0
Saturation Adjustment Blue : 0
Saturation Adjustment Purple : 0
Saturation Adjustment Magenta : 0
Luminance Adjustment Red : 0
Luminance Adjustment Orange : 0
Luminance Adjustment Yellow : 0
Luminance Adjustment Green : 0
Luminance Adjustment Aqua : 0
Luminance Adjustment Blue : 0
Luminance Adjustment Purple : 0
Luminance Adjustment Magenta : 0
Split Toning Shadow Hue : 0
Split Toning Shadow Saturation : 0
Split Toning Highlight Hue : 0
Split Toning Highlight Saturation : 0
Split Toning Balance : 0
Parametric Shadows : 0
Parametric Darks : -5
Parametric Lights : +11
Parametric Highlights : 0
Parametric Shadow Split : 25
Parametric Midtone Split : 50
Parametric Highlight Split : 75
Sharpen Radius : +1.0
Sharpen Detail : 25
Sharpen Edge Masking : 70
Post Crop Vignette Amount : 0
Grain Amount : 0
Luminance Noise Reduction Detail : 50
Color Noise Reduction Detail : 50
Luminance Noise Reduction Contrast : 0
Color Noise Reduction Smoothness : 50
Lens Profile Enable : 1
Lens Manual Distortion Amount : 0
Perspective Vertical : 0
Perspective Horizontal : 0
Perspective Rotate : 0.0
Perspective Scale : 100
Perspective Aspect : 0
Perspective Upright : Off
Auto Lateral CA : 1
Exposure 2012 : +0.10
Contrast 2012 : 0
Highlights 2012 : 0
Shadows 2012 : -12
Whites 2012 : +10
Blacks 2012 : -7
Clarity 2012 : +7
Defringe Purple Amount : 1
Defringe Purple Hue Lo : 30
Defringe Purple Hue Hi : 70
Defringe Green Amount : 0
Defringe Green Hue Lo : 40
Defringe Green Hue Hi : 60
Dehaze : 0
Tone Map Strength : 0
Convert To Grayscale : False
Tone Curve Name : Linear
Tone Curve Name 2012 : Linear
Camera Profile : Standard
Lens Profile Setup : LensDefaults
Lens Profile Name : Adobe (Sony E PZ 16-50mm F3.5-5.6 OSS)
Lens Profile Filename : SONY (Sony E PZ 16-50mm F3.5-5.6 OSS) - RAW.lcp
Lens Profile Distortion Scale : 100
Lens Profile Chromatic Aberration Scale : 100
Lens Profile Vignetting Scale : 100
Has Settings : True
Crop Top : 0.078
Crop Left : 0
Crop Bottom : 0.936903
Crop Right : 1
Crop Angle : 0
Crop Constrain To Warp : 0
Has Crop : True
Already Applied : True
Creator : Rico Lee Wei-Jie
Rights : ASDgraphy
Subject : asdgraphy
Usage Terms : Share with credits, no altering
Creator Work URL : https://www.facebook.com/ASDgraphy
Tone Curve : 0, 0, 255, 255
Tone Curve Red : 0, 0, 255, 255
Tone Curve Green : 0, 0, 255, 255
Tone Curve Blue : 0, 0, 255, 255
Tone Curve PV2012 : 0, 0, 255, 255
Tone Curve PV2012 Red : 0, 0, 255, 255
Tone Curve PV2012 Green : 0, 0, 255, 255
Tone Curve PV2012 Blue : 0, 0, 255, 255
Image Width : 300
Image Height : 172
Bits Per Sample : 8
Color Components : 3
Aperture : 5.6
Image Size : 300x172
Megapixels : 0.052
Scale Factor To 35 mm Equivalent : 1.5
Shutter Speed : 1/200
Circle Of Confusion : 0.020 mm
Field Of View : 27.0 deg
Focal Length : 50.0 mm (35 mm equivalent: 75.0 mm)
Hyperfocal Distance : 22.29 m
Light Value : 9.9
Lens ID : E PZ 16-50mm F3.5-5.6 OSS