Uber Exif Photo
Make : Canon
Camera Model Name : Canon EOS 700D
Software : Adobe Photoshop Lightroom 6.7 (Windows)
Modify Date : 2016:11:19 18:12:24
Exposure Time : 1/800
F Number : 5.0
Exposure Program : Manual
ISO : 200
Sensitivity Type : Recommended Exposure Index
Recommended Exposure Index : 200
Date/Time Original : 2016:11:19 12:41:41
Create Date : 2016:11:19 12:41:41
Shutter Speed Value : 1/800
Aperture Value : 5.0
Exposure Compensation : 0
Max Aperture Value : 4.8
Metering Mode : Multi-segment
Flash : Off, Did not fire
Focal Length : 50.0 mm
Color Space : sRGB
Custom Rendered : Normal
Exposure Mode : Manual
White Balance : Auto
Scene Capture Type : Standard
Serial Number : 318075050778
Lens Info : 18-135mm f/?
Lens Model : EF-S18-135mm f/3.5-5.6 IS STM
Lens Serial Number : 000043b116
Profile Description : sRGB IEC61966-2.1
Creator Tool : Adobe Photoshop Lightroom 6.7 (Windows)
Lens : EF-S18-135mm f/3.5-5.6 IS STM
Image Number : 0
Approximate Focus Distance : 1.59
Flash Compensation : 0
Firmware : 1.1.4
Date Created : 2016:11:19 12:41:41.35
Format : image/jpeg
Version : 9.7
Process Version : 6.7
Auto White Version : 134348800
Incremental Temperature : -6
Incremental Tint : -16
Saturation : 0
Sharpness : 35
Luminance Smoothing : 0
Color Noise Reduction : 0
Vignette Amount : 0
Shadow Tint : 0
Red Hue : 0
Red Saturation : 0
Green Hue : 0
Green Saturation : 0
Blue Hue : 0
Blue Saturation : 0
Vibrance : 0
Hue Adjustment Red : 0
Hue Adjustment Orange : 0
Hue Adjustment Yellow : 0
Hue Adjustment Green : 0
Hue Adjustment Aqua : 0
Hue Adjustment Blue : 0
Hue Adjustment Purple : 0
Hue Adjustment Magenta : 0
Saturation Adjustment Red : 0
Saturation Adjustment Orange : 0
Saturation Adjustment Yellow : 0
Saturation Adjustment Green : 0
Saturation Adjustment Aqua : 0
Saturation Adjustment Blue : 0
Saturation Adjustment Purple : 0
Saturation Adjustment Magenta : 0
Luminance Adjustment Red : 0
Luminance Adjustment Orange : 0
Luminance Adjustment Yellow : 0
Luminance Adjustment Green : 0
Luminance Adjustment Aqua : 0
Luminance Adjustment Blue : 0
Luminance Adjustment Purple : 0
Luminance Adjustment Magenta : 0
Split Toning Shadow Hue : 0
Split Toning Shadow Saturation : 0
Split Toning Highlight Hue : 0
Split Toning Highlight Saturation : 0
Split Toning Balance : 0
Parametric Shadows : 0
Parametric Darks : 0
Parametric Lights : 0
Parametric Highlights : 0
Parametric Shadow Split : 25
Parametric Midtone Split : 50
Parametric Highlight Split : 75
Sharpen Radius : +1.4
Sharpen Detail : 15
Sharpen Edge Masking : 60
Post Crop Vignette Amount : 0
Grain Amount : 0
Lens Profile Enable : 0
Lens Manual Distortion Amount : 0
Perspective Vertical : 0
Perspective Horizontal : 0
Perspective Rotate : 0.0
Perspective Scale : 100
Perspective Aspect : 0
Perspective Upright : Off
Perspective X : 0.00
Perspective Y : 0.00
Auto Lateral CA : 0
Exposure 2012 : -1.46
Contrast 2012 : 0
Highlights 2012 : 0
Shadows 2012 : -48
Whites 2012 : +83
Blacks 2012 : 0
Clarity 2012 : 0
Defringe Purple Amount : 0
Defringe Purple Hue Lo : 30
Defringe Purple Hue Hi : 70
Defringe Green Amount : 0
Defringe Green Hue Lo : 40
Defringe Green Hue Hi : 60
Dehaze : 0
Tone Map Strength : 0
Convert To Grayscale : False
Tone Curve Name : Linear
Tone Curve Name 2012 : Linear
Camera Profile : Embedded
Lens Profile Setup : LensDefaults
Has Settings : True
Has Crop : False
Already Applied : True
Tone Curve : 0, 0, 255, 255
Tone Curve Red : 0, 0, 255, 255
Tone Curve Green : 0, 0, 255, 255
Tone Curve Blue : 0, 0, 255, 255
Tone Curve PV2012 : 0, 0, 255, 255
Tone Curve PV2012 Red : 0, 0, 255, 255
Tone Curve PV2012 Green : 0, 0, 255, 255
Tone Curve PV2012 Blue : 0, 0, 255, 255
Image Width : 308
Image Height : 208
Bits Per Sample : 8
Color Components : 3
Aperture : 5.0
Image Size : 308x208
Megapixels : 0.064
Scale Factor To 35 mm Equivalent : 1.6
Shutter Speed : 1/800
Create Date : 2016:11:19 12:41:41.35
Date/Time Original : 2016:11:19 12:41:41.35
Circle Of Confusion : 0.019 mm
Depth Of Field : 0.19 m (1.50 - 1.69 m)
Field Of View : 25.6 deg
Focal Length : 50.0 mm (35 mm equivalent: 79.2 mm)
Hyperfocal Distance : 26.37 m
Light Value : 13.3
Lens ID : Canon EF-S 18-135mm f/3.5-5.6 IS STM