Uber Exif Photo
By-line : Andrey Malakhov
Make : Canon
Camera Model Name : Canon EOS 6D
Software : Adobe Photoshop Lightroom 5.7.1 (Macintosh)
Modify Date : 2016:11:23 20:40:29
Artist : Andrey Malakhov
Exposure Time : 1/200
F Number : 11.0
Exposure Program : Manual
ISO : 200
Sensitivity Type : Recommended Exposure Index
Recommended Exposure Index : 200
Date/Time Original : 2016:11:15 12:06:06
Create Date : 2016:11:15 12:06:06
Shutter Speed Value : 1/200
Aperture Value : 11.0
Exposure Compensation : 0
Max Aperture Value : 2.8
Metering Mode : Multi-segment
Flash : Off, Did not fire
Focal Length : 35.0 mm
Color Space : sRGB
Custom Rendered : Normal
Exposure Mode : Manual
White Balance : Auto
Scene Capture Type : Standard
Serial Number : 023023008800
Lens Info : 24-70mm f/?
Lens Model : 24-70mm
Lens Serial Number : 0000000000
Profile Description : sRGB IEC61966-2.1
Label : Red
Creator Tool : Adobe Photoshop Lightroom 5.7.1 (Macintosh)
Format : image/jpeg
Lens : 24-70mm
Image Number : 0
Approximate Focus Distance : 16.2
Flash Compensation : 0
Firmware : 1.1.2
Date Created : 2016:11:15 12:06:06.03
Version : 8.7.1
Process Version : 6.7
Auto White Version : 134348800
Color Temperature : 5750
Tint : +4
Saturation : 0
Sharpness : 25
Luminance Smoothing : 0
Color Noise Reduction : 25
Vignette Amount : 0
Shadow Tint : 0
Red Hue : 0
Red Saturation : 0
Green Hue : 0
Green Saturation : 0
Blue Hue : 0
Blue Saturation : 0
Vibrance : 0
Hue Adjustment Red : 0
Hue Adjustment Orange : 0
Hue Adjustment Yellow : 0
Hue Adjustment Green : 0
Hue Adjustment Aqua : 0
Hue Adjustment Blue : 0
Hue Adjustment Purple : 0
Hue Adjustment Magenta : 0
Saturation Adjustment Red : 0
Saturation Adjustment Orange : 0
Saturation Adjustment Yellow : 0
Saturation Adjustment Green : 0
Saturation Adjustment Aqua : 0
Saturation Adjustment Blue : 0
Saturation Adjustment Purple : 0
Saturation Adjustment Magenta : 0
Luminance Adjustment Red : 0
Luminance Adjustment Orange : 0
Luminance Adjustment Yellow : 0
Luminance Adjustment Green : 0
Luminance Adjustment Aqua : 0
Luminance Adjustment Blue : 0
Luminance Adjustment Purple : 0
Luminance Adjustment Magenta : 0
Split Toning Shadow Hue : 0
Split Toning Shadow Saturation : 0
Split Toning Highlight Hue : 0
Split Toning Highlight Saturation : 0
Split Toning Balance : 0
Parametric Shadows : -24
Parametric Darks : 0
Parametric Lights : 0
Parametric Highlights : +53
Parametric Shadow Split : 25
Parametric Midtone Split : 50
Parametric Highlight Split : 75
Sharpen Radius : +1.0
Sharpen Detail : 25
Sharpen Edge Masking : 0
Post Crop Vignette Amount : 0
Grain Amount : 0
Color Noise Reduction Detail : 50
Color Noise Reduction Smoothness : 50
Lens Profile Enable : 0
Lens Manual Distortion Amount : 0
Perspective Vertical : 0
Perspective Horizontal : 0
Perspective Rotate : 0.0
Perspective Scale : 100
Perspective Aspect : 0
Perspective Upright : Off
Auto Lateral CA : 0
Exposure 2012 : 0.00
Contrast 2012 : 0
Highlights 2012 : 0
Shadows 2012 : 0
Whites 2012 : 0
Blacks 2012 : 0
Clarity 2012 : 0
Defringe Purple Amount : 0
Defringe Purple Hue Lo : 30
Defringe Purple Hue Hi : 70
Defringe Green Amount : 0
Defringe Green Hue Lo : 40
Defringe Green Hue Hi : 60
Convert To Grayscale : False
Tone Curve Name : Linear
Tone Curve Name 2012 : Linear
Camera Profile : Adobe Standard
Lens Profile Setup : LensDefaults
Has Settings : True
Crop Top : 0.003395
Crop Left : 0.068739
Crop Bottom : 0.765195
Crop Right : 0.941483
Crop Angle : 0.838181
Crop Constrain To Warp : 0
Has Crop : True
Already Applied : True
Creator : Andrey Malakhov
Tone Curve : 0, 0, 255, 255
Tone Curve Red : 0, 0, 255, 255
Tone Curve Green : 0, 0, 255, 255
Tone Curve Blue : 0, 0, 255, 255
Tone Curve PV2012 : 0, 0, 255, 255
Tone Curve PV2012 Red : 0, 0, 255, 255
Tone Curve PV2012 Green : 0, 0, 255, 255
Tone Curve PV2012 Blue : 0, 0, 255, 255
Image Width : 308
Image Height : 177
Bits Per Sample : 8
Color Components : 3
Aperture : 11.0
Image Size : 308x177
Megapixels : 0.055
Scale Factor To 35 mm Equivalent : 18.5
Shutter Speed : 1/200
Create Date : 2016:11:15 12:06:06.03
Date/Time Original : 2016:11:15 12:06:06.03
Circle Of Confusion : 0.002 mm
Depth Of Field : 8.08 m (13.11 - 21.19 m)
Field Of View : 3.2 deg
Focal Length : 35.0 mm (35 mm equivalent: 648.0 mm)
Hyperfocal Distance : 68.62 m
Light Value : 13.6
Lens ID : Sigma 24-70mm f/2.8 IF EX DG HSM or Tamron SP 24-70mm f/2.8 Di VC USD