Uber Exif Photo
Make : Canon
Camera Model Name : Canon EOS REBEL T5
Orientation : Horizontal (normal)
Software : Adobe Photoshop CS4 Macintosh
Modify Date : 2016:11:09 20:17:42
Exposure Time : 1/30
F Number : 5.6
Exposure Program : Manual
ISO : 800
Date/Time Original : 2015:12:06 07:46:52
Create Date : 2015:12:06 07:46:52
Shutter Speed Value : 1/30
Aperture Value : 5.6
Exposure Compensation : 0
Max Aperture Value : 5.7
Metering Mode : Multi-segment
Focal Length : 53.0 mm
Color Space : Uncalibrated
Exif Image Width : 1000
Exif Image Height : 1500
Custom Rendered : Normal
Exposure Mode : Manual
White Balance : Auto
Scene Capture Type : Standard
Profile Description : Adobe RGB (1998)
Creator Tool : Adobe DNG Converter 9.4 (Macintosh)
Rating : 0
Serial Number : 192073025710
Lens Info : 18-55mm f/?
Lens : EF-S18-55mm f/3.5-5.6 IS II
Lens Serial Number : 000068e9d4
Image Number : 0
Approximate Focus Distance : 0.66
Flash Compensation : 0
Firmware : 1.0.0
Date Created : 2015:12:06
Color Mode : RGB
ICC Profile Name : Adobe RGB (1998)
Format : image/jpeg
Date/Time Digitized : 2015:12:06 07:46:52.89-08:00
Raw File Name : _MG_1742.dng
Version : 5.0
Color Temperature : 3650
Tint : +62
Exposure : +0.75
Shadows : 4
Brightness : +150
Contrast : +79
Saturation : -16
Sharpness : 25
Luminance Smoothing : 0
Color Noise Reduction : 25
Chromatic Aberration R : 0
Chromatic Aberration B : 0
Vignette Amount : 0
Shadow Tint : 0
Red Hue : 0
Red Saturation : 0
Green Hue : 0
Green Saturation : 0
Blue Hue : 0
Blue Saturation : 0
Fill Light : 37
Vibrance : +5
Highlight Recovery : 0
Clarity : 0
Defringe : 0
Hue Adjustment Red : 0
Hue Adjustment Orange : 0
Hue Adjustment Yellow : 0
Hue Adjustment Green : 0
Hue Adjustment Aqua : 0
Hue Adjustment Blue : 0
Hue Adjustment Purple : 0
Hue Adjustment Magenta : 0
Saturation Adjustment Red : 0
Saturation Adjustment Orange : 0
Saturation Adjustment Yellow : 0
Saturation Adjustment Green : 0
Saturation Adjustment Aqua : 0
Saturation Adjustment Blue : 0
Saturation Adjustment Purple : 0
Saturation Adjustment Magenta : 0
Luminance Adjustment Red : 0
Luminance Adjustment Orange : 0
Luminance Adjustment Yellow : 0
Luminance Adjustment Green : 0
Luminance Adjustment Aqua : 0
Luminance Adjustment Blue : 0
Luminance Adjustment Purple : 0
Luminance Adjustment Magenta : 0
Split Toning Shadow Hue : 0
Split Toning Shadow Saturation : 0
Split Toning Highlight Hue : 0
Split Toning Highlight Saturation : 0
Split Toning Balance : 0
Parametric Shadows : 0
Parametric Darks : 0
Parametric Lights : 0
Parametric Highlights : 0
Parametric Shadow Split : 25
Parametric Midtone Split : 50
Parametric Highlight Split : 75
Sharpen Radius : +1.0
Sharpen Detail : 25
Sharpen Edge Masking : 0
Post Crop Vignette Amount : 0
Convert To Grayscale : False
Tone Curve Name : Medium Contrast
Camera Profile : Adobe Standard
Has Settings : True
Crop Top : 0.061815
Crop Left : 0
Crop Bottom : 1
Crop Right : 0.938185
Crop Angle : 0
Crop Width : 2
Crop Height : 3
Crop Unit : Unknown (3)
Has Crop : True
Already Applied : True
Flash Fired : False
Flash Return : No return detection
Flash Mode : Off
Flash Function : False
Flash Red Eye Mode : False
Tone Curve : 0, 0, 32, 22, 64, 56, 128, 128, 192, 196, 255, 255
Image Width : 300
Image Height : 450
Bits Per Sample : 8
Color Components : 3
Aperture : 5.6
Image Size : 300x450
Megapixels : 0.135
Scale Factor To 35 mm Equivalent : 1.6
Shutter Speed : 1/30
Create Date : 2015:12:06 07:46:52.89
Date/Time Original : 2015:12:06 07:46:52.89
Flash : Off, Did not fire
Circle Of Confusion : 0.019 mm
Depth Of Field : 0.03 m (0.65 - 0.68 m)
Field Of View : 24.4 deg
Focal Length : 53.0 mm (35 mm equivalent: 83.4 mm)
Hyperfocal Distance : 26.26 m
Light Value : 6.9
Lens ID : Canon EF-S 18-55mm f/3.5-5.6 IS II