Uber Exif Photo
Object Name : profil
Keywords : 2011, 85mm 1.4, Paris, antillaise?, belle, cannelle, modèle, portrait, salon de la photo, zeiss ZF
By-line : Fabrice Touzain
By-line Title : chercheur
Copyright Notice : © Fabrice Touzain
Writer-Editor : Fabrice Touzain
Copyright Flag : True
Make : FUJIFILM
Camera Model Name : FinePix S5Pro
Software : Adobe Photoshop Lightroom 6.6.1 (Macintosh)
Modify Date : 2016:12:02 00:18:11
Artist : Fabrice Touzain
Copyright : © Fabrice Touzain
Exposure Time : 1/250
F Number : 2.0
Exposure Program : Aperture-priority AE
ISO : 640
Date/Time Original : 2011:10:09 03:31:14
Create Date : 2011:10:09 03:31:14
Shutter Speed Value : 1/250
Aperture Value : 2.0
Brightness Value : 2.33
Exposure Compensation : 0
Max Aperture Value : 1.4
Metering Mode : Multi-segment
Light Source : Unknown
Flash : Off, Did not fire
Focal Length : 85.0 mm
Color Space : sRGB
Sensing Method : One-chip color area
Scene Type : Directly photographed
Custom Rendered : Normal
Exposure Mode : Auto
White Balance : Auto
Focal Length In 35mm Format : 128 mm
Scene Capture Type : Standard
Contrast : Normal
Saturation : Normal
Sharpness : Normal
Subject Distance Range : Unknown
Profile Description : sRGB IEC61966-2.1
Creator Tool : Adobe Photoshop Lightroom 6.6.1 (Macintosh)
Rating : 4
Date Created : 2011:10:09 03:31:14
Credit : Fabrice Touzain
Authors Position : chercheur
Caption Writer : Fabrice Touzain
Marked : True
Format : image/jpeg
Version : 9.6
Process Version : 5.7
Auto White Version : 134348800
Color Temperature : 3100
Tint : -12
Exposure : 0.00
Shadows : 5
Brightness : +50
Luminance Smoothing : 0
Color Noise Reduction : 25
Vignette Amount : 0
Shadow Tint : 0
Red Hue : 0
Red Saturation : 0
Green Hue : 0
Green Saturation : 0
Blue Hue : 0
Blue Saturation : 0
Fill Light : 0
Vibrance : 0
Highlight Recovery : 36
Clarity : 0
Hue Adjustment Red : 0
Hue Adjustment Orange : 0
Hue Adjustment Yellow : 0
Hue Adjustment Green : 0
Hue Adjustment Aqua : 0
Hue Adjustment Blue : 0
Hue Adjustment Purple : 0
Hue Adjustment Magenta : 0
Saturation Adjustment Red : 0
Saturation Adjustment Orange : 0
Saturation Adjustment Yellow : 0
Saturation Adjustment Green : 0
Saturation Adjustment Aqua : 0
Saturation Adjustment Blue : 0
Saturation Adjustment Purple : 0
Saturation Adjustment Magenta : 0
Luminance Adjustment Red : 0
Luminance Adjustment Orange : 0
Luminance Adjustment Yellow : 0
Luminance Adjustment Green : 0
Luminance Adjustment Aqua : 0
Luminance Adjustment Blue : 0
Luminance Adjustment Purple : 0
Luminance Adjustment Magenta : 0
Split Toning Shadow Hue : 0
Split Toning Shadow Saturation : 0
Split Toning Highlight Hue : 0
Split Toning Highlight Saturation : 0
Split Toning Balance : 0
Parametric Shadows : 0
Parametric Darks : 0
Parametric Lights : 0
Parametric Highlights : 0
Parametric Shadow Split : 25
Parametric Midtone Split : 50
Parametric Highlight Split : 75
Sharpen Radius : +1.0
Sharpen Detail : 25
Sharpen Edge Masking : 0
Post Crop Vignette Amount : 0
Grain Amount : 0
Color Noise Reduction Detail : 50
Color Noise Reduction Smoothness : 50
Lens Profile Enable : 0
Lens Manual Distortion Amount : 0
Perspective Vertical : 0
Perspective Horizontal : 0
Perspective Rotate : 0.0
Perspective Scale : 100
Perspective Aspect : 0
Perspective Upright : Off
Perspective X : 0.00
Perspective Y : 0.00
Auto Lateral CA : 0
Defringe Purple Amount : 0
Defringe Purple Hue Lo : 30
Defringe Purple Hue Hi : 70
Defringe Green Amount : 0
Defringe Green Hue Lo : 40
Defringe Green Hue Hi : 60
Convert To Grayscale : False
Tone Curve Name : Medium Contrast
Tone Curve Name 2012 : Linear
Camera Profile : Adobe Standard
Lens Profile Setup : LensDefaults
Has Settings : True
Has Crop : False
Already Applied : True
Usage Terms : All Rights Reserved
Creator Postal Code : 75019
Creator Work Email : fabrice.touzain@courriel.upmc.fr
Creator City : Paris
Creator Country : France
Creator Address : 128 av de Flandre
Creator : Fabrice Touzain
Title : profil
Rights : © Fabrice Touzain
Subject : 2011, 85mm 1.4, Paris, antillaise?, belle, cannelle, modèle, portrait, salon de la photo, zeiss ZF
Tone Curve : 0, 0, 32, 22, 64, 56, 128, 128, 192, 196, 255, 255
Tone Curve Red : 0, 0, 255, 255
Tone Curve Green : 0, 0, 255, 255
Tone Curve Blue : 0, 0, 255, 255
Tone Curve PV2012 : 0, 0, 255, 255
Tone Curve PV2012 Red : 0, 0, 255, 255
Tone Curve PV2012 Green : 0, 0, 255, 255
Tone Curve PV2012 Blue : 0, 0, 255, 255
Derived From :
Image Width : 300
Image Height : 201
Bits Per Sample : 8
Color Components : 3
Aperture : 2.0
Image Size : 300x201
Megapixels : 0.060
Scale Factor To 35 mm Equivalent : 1.5
Shutter Speed : 1/250
Circle Of Confusion : 0.020 mm
Field Of View : 16.0 deg
Focal Length : 85.0 mm (35 mm equivalent: 128.0 mm)
Hyperfocal Distance : 181.05 m
Light Value : 7.3