Uber Exif Photo
By-line : APOSTOLOPOULOS_PHOTOGRAPHY
Copyright Notice : APOSTOLOPOULOS_PHOTOGRAPHY
Photometric Interpretation : RGB
Make : NIKON CORPORATION
Camera Model Name : NIKON D5500
Orientation : Horizontal (normal)
Samples Per Pixel : 3
Software : Adobe Photoshop CC (Windows)
Modify Date : 2016:12:03 20:06:06
Artist : APOSTOLOPOULOS_PHOTOGRAPHY
Copyright : APOSTOLOPOULOS_PHOTOGRAPHY
Exposure Time : 1/200
F Number : 5.6
Exposure Program : Manual
ISO : 500
Sensitivity Type : Recommended Exposure Index
Date/Time Original : 2016:10:22 18:05:04
Create Date : 2016:10:22 18:05:04
Shutter Speed Value : 1/200
Aperture Value : 5.6
Exposure Compensation : 0
Max Aperture Value : 5.5
Metering Mode : Spot
Light Source : Unknown
Flash : Off, Did not fire
Focal Length : 90.0 mm
Color Space : Uncalibrated
Exif Image Width : 2000
Exif Image Height : 3000
Sensing Method : One-chip color area
Scene Type : Directly photographed
CFA Pattern : [Red,Green][Green,Blue]
Custom Rendered : Normal
Exposure Mode : Manual
White Balance : Auto
Digital Zoom Ratio : 1
Focal Length In 35mm Format : 135 mm
Scene Capture Type : Standard
Gain Control : Low gain up
Contrast : Normal
Saturation : Normal
Sharpness : Normal
Subject Distance Range : Unknown
Serial Number : 4376706
Lens Info : 18-140mm f/3.5-5.6
Lens Model : 18.0-140.0 mm f/3.5-5.6
Profile Description : Adobe RGB (1998)
Creator Tool : Adobe Photoshop CC (Windows)
Rating : 0
Format : image/jpeg
Lens : 18.0-140.0 mm f/3.5-5.6
Image Number : 6021
Approximate Focus Distance : 4294967295
Distortion Correction Already Applied : True
Lateral Chromatic Aberration Correction Already Applied:
True
Vignette Correction Already Applied : True
Date Created : 2016:10:22 18:05:04.061
Color Mode : RGB
ICC Profile Name : Adobe RGB (1998)
Raw File Name : APO_4146.NEF
Version : 9.2
Process Version : 6.7
Auto White Version : 134348800
Color Temperature : 4000
Tint : +16
Luminance Smoothing : 35
Color Noise Reduction : 25
Vignette Amount : 0
Shadow Tint : 0
Red Hue : 0
Red Saturation : 0
Green Hue : 0
Green Saturation : 0
Blue Hue : 0
Blue Saturation : 0
Vibrance : +15
Hue Adjustment Red : 0
Hue Adjustment Orange : 0
Hue Adjustment Yellow : 0
Hue Adjustment Green : 0
Hue Adjustment Aqua : 0
Hue Adjustment Blue : 0
Hue Adjustment Purple : 0
Hue Adjustment Magenta : 0
Saturation Adjustment Red : +30
Saturation Adjustment Orange : +20
Saturation Adjustment Yellow : +75
Saturation Adjustment Green : +30
Saturation Adjustment Aqua : -35
Saturation Adjustment Blue : -35
Saturation Adjustment Purple : 0
Saturation Adjustment Magenta : 0
Luminance Adjustment Red : +100
Luminance Adjustment Orange : +20
Luminance Adjustment Yellow : +45
Luminance Adjustment Green : -60
Luminance Adjustment Aqua : 0
Luminance Adjustment Blue : 0
Luminance Adjustment Purple : 0
Luminance Adjustment Magenta : 0
Split Toning Shadow Hue : 0
Split Toning Shadow Saturation : 0
Split Toning Highlight Hue : 0
Split Toning Highlight Saturation : 0
Split Toning Balance : 0
Parametric Shadows : 0
Parametric Darks : 0
Parametric Lights : 0
Parametric Highlights : 0
Parametric Shadow Split : 25
Parametric Midtone Split : 50
Parametric Highlight Split : 75
Sharpen Radius : +1.0
Sharpen Detail : 25
Sharpen Edge Masking : 0
Post Crop Vignette Amount : -10
Post Crop Vignette Midpoint : 50
Post Crop Vignette Feather : 50
Post Crop Vignette Roundness : 0
Post Crop Vignette Style : Highlight Priority
Post Crop Vignette Highlight Contrast : 0
Grain Amount : 0
Luminance Noise Reduction Detail : 50
Color Noise Reduction Detail : 50
Luminance Noise Reduction Contrast : 0
Color Noise Reduction Smoothness : 50
Lens Profile Enable : 1
Lens Manual Distortion Amount : 0
Perspective Vertical : 0
Perspective Horizontal : 0
Perspective Rotate : 0.0
Perspective Scale : 100
Perspective Aspect : 0
Perspective Upright : Off
Auto Lateral CA : 1
Exposure 2012 : 0.00
Contrast 2012 : +10
Highlights 2012 : +30
Shadows 2012 : -20
Whites 2012 : +10
Blacks 2012 : -15
Clarity 2012 : 0
Defringe Purple Amount : 0
Defringe Purple Hue Lo : 30
Defringe Purple Hue Hi : 70
Defringe Green Amount : 0
Defringe Green Hue Lo : 40
Defringe Green Hue Hi : 60
Dehaze : 0
Tone Map Strength : 0
Convert To Grayscale : False
Tone Curve Name : Medium Contrast
Tone Curve Name 2012 : Linear
Camera Profile : Adobe Standard
Lens Profile Setup : LensDefaults
Lens Profile Name : Adobe (Nikon AF-S DX NIKKOR 18-140mm f/3.5-5.6G ED VR)piece
Lens Profile Filename : NIKON D300 (Nikon AF-S DX NIKKOR 18-140mm f3.5-5.6G ED VR) - RAW.lcp
Lens Profile Distortion Scale : 100
Lens Profile Chromatic Aberration Scale : 100
Lens Profile Vignetting Scale : 100
Has Settings : True
Has Crop : False
Already Applied : True
Creator : APOSTOLOPOULOS_PHOTOGRAPHY
Rights : APOSTOLOPOULOS_PHOTOGRAPHY
Tone Curve : 0, 0, 32, 22, 64, 56, 128, 128, 192, 196, 255, 255
Tone Curve Red : 0, 0, 255, 255
Tone Curve Green : 0, 0, 255, 255
Tone Curve Blue : 0, 0, 255, 255
Tone Curve PV2012 : 0, 0, 255, 255
Tone Curve PV2012 Red : 0, 0, 255, 255
Tone Curve PV2012 Green : 0, 0, 255, 255
Tone Curve PV2012 Blue : 0, 0, 255, 255
Image Width : 300
Image Height : 450
Bits Per Sample : 8
Color Components : 3
Aperture : 5.6
Image Size : 300x450
Megapixels : 0.135
Scale Factor To 35 mm Equivalent : 1.5
Shutter Speed : 1/200
Create Date : 2016:10:22 18:05:04.61
Date/Time Original : 2016:10:22 18:05:04.61
Modify Date : 2016:12:03 20:06:06.61
Circle Of Confusion : 0.020 mm
Depth Of Field : inf (72.21 m - inf)
Field Of View : 15.2 deg
Focal Length : 90.0 mm (35 mm equivalent: 135.0 mm)
Hyperfocal Distance : 72.21 m
Light Value : 10.3
Lens ID : AF-S DX Nikkor 18-140mm f/3.5-5.6G ED VR